BEGIN:VCALENDAR
VERSION:2.0
PRODID:-//ACIF - ECPv6.14.0//NONSGML v1.0//EN
CALSCALE:GREGORIAN
METHOD:PUBLISH
X-ORIGINAL-URL:https://acif.org.br
X-WR-CALDESC:Eventos para ACIF
REFRESH-INTERVAL;VALUE=DURATION:PT1H
X-Robots-Tag:noindex
X-PUBLISHED-TTL:PT1H
BEGIN:VTIMEZONE
TZID:America/Sao_Paulo
BEGIN:STANDARD
TZOFFSETFROM:-0300
TZOFFSETTO:-0300
TZNAME:-03
DTSTART:20230101T000000
END:STANDARD
END:VTIMEZONE
BEGIN:VEVENT
DTSTART;TZID=America/Sao_Paulo:20240619T140000
DTEND;TZID=America/Sao_Paulo:20240619T153000
DTSTAMP:20260424T214845
CREATED:20240202T170224Z
LAST-MODIFIED:20240202T170224Z
UID:10000711-1718805600-1718811000@acif.org.br
SUMMARY:Reunião Núcleo Hotéis do Norte da Ilha
DESCRIPTION:
URL:https://acif.org.br/evento/reuniao-nucleo-hoteis-do-norte-da-ilha/2024-06-19/
LOCATION:Regional ACIF CanasvieirasRegional ACIF Ingleses\, Av. Luiz Boiteux Piazza\, 1302 - Canasvieiras - Prédio ACATE\, Sala: 14 - Sapiens Park - Ingleses\, Florianópolis\, SC\, 88054-700\, Brasil
CATEGORIES:Reunião de núcleo
END:VEVENT
BEGIN:VEVENT
DTSTART;TZID=America/Sao_Paulo:20240605T140000
DTEND;TZID=America/Sao_Paulo:20240605T153000
DTSTAMP:20260424T214845
CREATED:20240202T170224Z
LAST-MODIFIED:20240202T170224Z
UID:10000710-1717596000-1717601400@acif.org.br
SUMMARY:Reunião Núcleo Hotéis do Norte da Ilha
DESCRIPTION:
URL:https://acif.org.br/evento/reuniao-nucleo-hoteis-do-norte-da-ilha/2024-06-05/
LOCATION:Regional ACIF CanasvieirasRegional ACIF Ingleses\, Av. Luiz Boiteux Piazza\, 1302 - Canasvieiras - Prédio ACATE\, Sala: 14 - Sapiens Park - Ingleses\, Florianópolis\, SC\, 88054-700\, Brasil
CATEGORIES:Reunião de núcleo
END:VEVENT
BEGIN:VEVENT
DTSTART;TZID=America/Sao_Paulo:20240522T140000
DTEND;TZID=America/Sao_Paulo:20240522T153000
DTSTAMP:20260424T214845
CREATED:20240202T170224Z
LAST-MODIFIED:20240202T170224Z
UID:10000709-1716386400-1716391800@acif.org.br
SUMMARY:Reunião Núcleo Hotéis do Norte da Ilha
DESCRIPTION:
URL:https://acif.org.br/evento/reuniao-nucleo-hoteis-do-norte-da-ilha/2024-05-22/
LOCATION:Regional ACIF CanasvieirasRegional ACIF Ingleses\, Av. Luiz Boiteux Piazza\, 1302 - Canasvieiras - Prédio ACATE\, Sala: 14 - Sapiens Park - Ingleses\, Florianópolis\, SC\, 88054-700\, Brasil
CATEGORIES:Reunião de núcleo
END:VEVENT
BEGIN:VEVENT
DTSTART;TZID=America/Sao_Paulo:20240508T140000
DTEND;TZID=America/Sao_Paulo:20240508T153000
DTSTAMP:20260424T214845
CREATED:20240202T170224Z
LAST-MODIFIED:20240202T170224Z
UID:10000708-1715176800-1715182200@acif.org.br
SUMMARY:Reunião Núcleo Hotéis do Norte da Ilha
DESCRIPTION:
URL:https://acif.org.br/evento/reuniao-nucleo-hoteis-do-norte-da-ilha/2024-05-08/
LOCATION:Regional ACIF CanasvieirasRegional ACIF Ingleses\, Av. Luiz Boiteux Piazza\, 1302 - Canasvieiras - Prédio ACATE\, Sala: 14 - Sapiens Park - Ingleses\, Florianópolis\, SC\, 88054-700\, Brasil
CATEGORIES:Reunião de núcleo
END:VEVENT
BEGIN:VEVENT
DTSTART;TZID=America/Sao_Paulo:20240424T140000
DTEND;TZID=America/Sao_Paulo:20240424T153000
DTSTAMP:20260424T214845
CREATED:20240202T170224Z
LAST-MODIFIED:20240202T170224Z
UID:10000707-1713967200-1713972600@acif.org.br
SUMMARY:Reunião Núcleo Hotéis do Norte da Ilha
DESCRIPTION:
URL:https://acif.org.br/evento/reuniao-nucleo-hoteis-do-norte-da-ilha/2024-04-24/
LOCATION:Regional ACIF CanasvieirasRegional ACIF Ingleses\, Av. Luiz Boiteux Piazza\, 1302 - Canasvieiras - Prédio ACATE\, Sala: 14 - Sapiens Park - Ingleses\, Florianópolis\, SC\, 88054-700\, Brasil
CATEGORIES:Reunião de núcleo
END:VEVENT
BEGIN:VEVENT
DTSTART;TZID=America/Sao_Paulo:20240410T140000
DTEND;TZID=America/Sao_Paulo:20240410T153000
DTSTAMP:20260424T214845
CREATED:20240202T170224Z
LAST-MODIFIED:20240202T170224Z
UID:10000706-1712757600-1712763000@acif.org.br
SUMMARY:Reunião Núcleo Hotéis do Norte da Ilha
DESCRIPTION:
URL:https://acif.org.br/evento/reuniao-nucleo-hoteis-do-norte-da-ilha/2024-04-10/
LOCATION:Regional ACIF CanasvieirasRegional ACIF Ingleses\, Av. Luiz Boiteux Piazza\, 1302 - Canasvieiras - Prédio ACATE\, Sala: 14 - Sapiens Park - Ingleses\, Florianópolis\, SC\, 88054-700\, Brasil
CATEGORIES:Reunião de núcleo
END:VEVENT
BEGIN:VEVENT
DTSTART;TZID=America/Sao_Paulo:20240327T140000
DTEND;TZID=America/Sao_Paulo:20240327T153000
DTSTAMP:20260424T214845
CREATED:20240202T170224Z
LAST-MODIFIED:20240202T170224Z
UID:10000705-1711548000-1711553400@acif.org.br
SUMMARY:Reunião Núcleo Hotéis do Norte da Ilha
DESCRIPTION:
URL:https://acif.org.br/evento/reuniao-nucleo-hoteis-do-norte-da-ilha/2024-03-27/
LOCATION:Regional ACIF CanasvieirasRegional ACIF Ingleses\, Av. Luiz Boiteux Piazza\, 1302 - Canasvieiras - Prédio ACATE\, Sala: 14 - Sapiens Park - Ingleses\, Florianópolis\, SC\, 88054-700\, Brasil
CATEGORIES:Reunião de núcleo
END:VEVENT
BEGIN:VEVENT
DTSTART;TZID=America/Sao_Paulo:20240313T140000
DTEND;TZID=America/Sao_Paulo:20240313T153000
DTSTAMP:20260424T214845
CREATED:20240202T170224Z
LAST-MODIFIED:20240202T170224Z
UID:10000704-1710338400-1710343800@acif.org.br
SUMMARY:Reunião Núcleo Hotéis do Norte da Ilha
DESCRIPTION:
URL:https://acif.org.br/evento/reuniao-nucleo-hoteis-do-norte-da-ilha/2024-03-13/
LOCATION:Regional ACIF CanasvieirasRegional ACIF Ingleses\, Av. Luiz Boiteux Piazza\, 1302 - Canasvieiras - Prédio ACATE\, Sala: 14 - Sapiens Park - Ingleses\, Florianópolis\, SC\, 88054-700\, Brasil
CATEGORIES:Reunião de núcleo
END:VEVENT
BEGIN:VEVENT
DTSTART;TZID=America/Sao_Paulo:20240228T140000
DTEND;TZID=America/Sao_Paulo:20240228T153000
DTSTAMP:20260424T214845
CREATED:20240202T170224Z
LAST-MODIFIED:20240202T170224Z
UID:10000703-1709128800-1709134200@acif.org.br
SUMMARY:Reunião Núcleo Hotéis do Norte da Ilha
DESCRIPTION:
URL:https://acif.org.br/evento/reuniao-nucleo-hoteis-do-norte-da-ilha/2024-02-28/
LOCATION:Regional ACIF CanasvieirasRegional ACIF Ingleses\, Av. Luiz Boiteux Piazza\, 1302 - Canasvieiras - Prédio ACATE\, Sala: 14 - Sapiens Park - Ingleses\, Florianópolis\, SC\, 88054-700\, Brasil
CATEGORIES:Reunião de núcleo
END:VEVENT
BEGIN:VEVENT
DTSTART;VALUE=DATE:20231028
DTEND;VALUE=DATE:20231113
DTSTAMP:20260424T214845
CREATED:20231018T184900Z
LAST-MODIFIED:20231031T140612Z
UID:10000013-1698451200-1699833599@acif.org.br
SUMMARY:Festival Viva Floripa – Edição Norte da Ilha
DESCRIPTION:Festival Viva Floripa\, um projeto da ACIF para toda comunidade de Florianópolis com o propósito de\nPulsar e prosperar as atividades socioeconômicas\, culturais e socioambientais. \nEdição Norte da Ilha – de 28 de outubro a 12 de novembro \nTrilhas ecológicas; \nFeira de Rua – Artesanato; \nFeira Gastronômica; \nEncontro de negócios; \nShow musical; \nLimpeza de Praia.
URL:https://acif.org.br/evento/festival-viva-floripa-edicao-norte-da-ilha/
LOCATION:Regional ACIF CanasvieirasRegional ACIF Ingleses\, Av. Luiz Boiteux Piazza\, 1302 - Canasvieiras - Prédio ACATE\, Sala: 14 - Sapiens Park - Ingleses\, Florianópolis\, SC\, 88054-700\, Brasil
CATEGORIES:Festival
ATTACH;FMTTYPE=image/jpeg:https://acif.org.br/wp-content/uploads/2023/10/festival-viva-floripa.jpg
END:VEVENT
END:VCALENDAR