BEGIN:VCALENDAR
VERSION:2.0
PRODID:-//ACIF - ECPv6.14.0//NONSGML v1.0//EN
CALSCALE:GREGORIAN
METHOD:PUBLISH
X-ORIGINAL-URL:https://acif.org.br
X-WR-CALDESC:Eventos para ACIF
REFRESH-INTERVAL;VALUE=DURATION:PT1H
X-Robots-Tag:noindex
X-PUBLISHED-TTL:PT1H
BEGIN:VTIMEZONE
TZID:America/Sao_Paulo
BEGIN:STANDARD
TZOFFSETFROM:-0300
TZOFFSETTO:-0300
TZNAME:-03
DTSTART:20250101T000000
END:STANDARD
END:VTIMEZONE
BEGIN:VEVENT
DTSTART;TZID=America/Sao_Paulo:20251130T180000
DTEND;TZID=America/Sao_Paulo:20251130T200000
DTSTAMP:20260421T172303
CREATED:20250408T190535Z
LAST-MODIFIED:20251219T170458Z
UID:10001547-1764525600-1764532800@acif.org.br
SUMMARY:Reunião Ordinária do Núcleo de Contadores
DESCRIPTION:Reunião será realizada na ACIF Matriz às 18h. \nCaso tenha interesse em participar!\nEntre em contato com: \nFranciele Medeiros  – Consultora de Núcleos \nTel.: 48 9 9988-2432
URL:https://acif.org.br/evento/reuniao-ordinaria-do-nucleo-de-contadores/2025-11-30/
LOCATION:ACIF Matriz\, Rua Emilio Blum\, 121\, Florianópolis\, Santa Catarina\, 88020010\, Brasil
CATEGORIES:Reunião de núcleo
ATTACH;FMTTYPE=image/png:https://acif.org.br/wp-content/uploads/2023/09/ACIF-NUCLEO-CONTADORES-AZUL.png
END:VEVENT
BEGIN:VEVENT
DTSTART;TZID=America/Sao_Paulo:20251128T100000
DTEND;TZID=America/Sao_Paulo:20251128T110000
DTSTAMP:20260421T172303
CREATED:20250715T125722Z
LAST-MODIFIED:20250715T125722Z
UID:10001332-1764324000-1764327600@acif.org.br
SUMMARY:Reunião Ordinária Inovação
DESCRIPTION:Reuniões presenciais serão realizadas na ACIF Matriz. \nLink para reuniões online: https://meet.google.com/hzc-digs-kiu \nCaso tenha interesse em participar! \nEntre em contato com: \nJoão Vitor Pacheco – Consultor de Núcleos Empresariais \nTel.: 3084-9400 ou 99134-8587 – joao.vitor@acif.org.br
URL:https://acif.org.br/evento/reuniao-ordinaria-inovacao-13/
LOCATION:ACIF Matriz\, Rua Emilio Blum\, 121\, Florianópolis\, Santa Catarina\, 88020010\, Brasil
CATEGORIES:Reunião de núcleo
ATTACH;FMTTYPE=image/png:https://acif.org.br/wp-content/uploads/2024/07/ACIF_Logo-Nucleo-Inovacao-Azul-Claro_Azul.png
END:VEVENT
BEGIN:VEVENT
DTSTART;TZID=America/Sao_Paulo:20251127T200000
DTEND;TZID=America/Sao_Paulo:20251127T213000
DTSTAMP:20260421T172303
CREATED:20250409T194956Z
LAST-MODIFIED:20250409T194956Z
UID:10001430-1764273600-1764279000@acif.org.br
SUMMARY:Reunião Ordinária Reparação Automotiva
DESCRIPTION:Caso tenha interesse em participar!\nEntre em contato com: \nAndréa Firmo da Silva– Consultora de Núcleos \nTel.: 48 99988-0462 – andrea.firmo@acif.org.br
URL:https://acif.org.br/evento/reuniao-ordinaria-reparacao-automotiva/2025-11-27/
LOCATION:ACIF Matriz\, Rua Emilio Blum\, 121\, Florianópolis\, Santa Catarina\, 88020010\, Brasil
CATEGORIES:Reunião de núcleo
ATTACH;FMTTYPE=image/png:https://acif.org.br/wp-content/uploads/2025/02/ACIF-NUCLEO-REPARACAO-AUTOMOTIVA-AZUL-1.png
END:VEVENT
BEGIN:VEVENT
DTSTART;TZID=America/Sao_Paulo:20251126T193000
DTEND;TZID=America/Sao_Paulo:20251126T213000
DTSTAMP:20260421T172303
CREATED:20250409T190404Z
LAST-MODIFIED:20260114T192146Z
UID:10001385-1764185400-1764192600@acif.org.br
SUMMARY:Reunião Ordinária Energia\, Engenharia e Sustentabilidade (NEES)
DESCRIPTION:Reunião será realizada na ACIF Matriz às 19h. \nCaso tenha interesse em participar\, \nEntre em contato com: \nJoão Moraes – Consultor de Núcleos \nTel.: 48 8816-9993
URL:https://acif.org.br/evento/reuniao-ordinaria-energia-engenharia-e-sustentabilidade-nees/
LOCATION:ACIF Matriz\, Rua Emilio Blum\, 121\, Florianópolis\, Santa Catarina\, 88020010\, Brasil
CATEGORIES:Reunião de núcleo
ATTACH;FMTTYPE=image/png:https://acif.org.br/wp-content/uploads/2025/04/ACIF-NUCLEO-NEES-AZUL-AMARELA-300x191-1.png
END:VEVENT
BEGIN:VEVENT
DTSTART;TZID=America/Sao_Paulo:20251126T190000
DTEND;TZID=America/Sao_Paulo:20251126T203000
DTSTAMP:20260421T172303
CREATED:20250408T210248Z
LAST-MODIFIED:20250408T210248Z
UID:10001252-1764183600-1764189000@acif.org.br
SUMMARY:Reunião Ordinária de Advocacia
DESCRIPTION:Reuniões presenciais serão realizadas na ACIF Matriz às 19h. \nLink para reuniões online: https://meet.google.com/krm-ujrt-izf \nCaso tenha interesse em participar!\nEntre em contato com: \nAndréa Firmo da Silva– Consultora de Núcleos \nTel.: 48 99988-0462 – andrea.firmo@acif.org.br
URL:https://acif.org.br/evento/reuniao-ordinaria-de-advocacia-2/2025-11-26/
LOCATION:ACIF Matriz\, Rua Emilio Blum\, 121\, Florianópolis\, Santa Catarina\, 88020010\, Brasil
CATEGORIES:Reunião de núcleo
ATTACH;FMTTYPE=image/png:https://acif.org.br/wp-content/uploads/2025/02/ACIF-NUCLEO-ADVOCACIA-AZUL-1.png
END:VEVENT
BEGIN:VEVENT
DTSTART;TZID=America/Sao_Paulo:20251125T090000
DTEND;TZID=America/Sao_Paulo:20251125T103000
DTSTAMP:20260421T172303
CREATED:20250409T191434Z
LAST-MODIFIED:20250409T191434Z
UID:10001403-1764061200-1764066600@acif.org.br
SUMMARY:Reunião Ordinária do Núcleo Multissetorial de Eventos Organizados - NEO
DESCRIPTION:Reunião será realizada na ACIF Matriz às 09h. \nCaso tenha interesse em participar\, \nEntre em contato com: \nJoão Vitor Pacheco – Consultor de Núcleos Empresariais \nTel.: 3084-9400 ou 99134-8587 – joao.vitor@acif.org.br
URL:https://acif.org.br/evento/reuniao-ordinaria-do-nucleo-multissetorial-de-eventos-organizados-neo/2025-11-25/
LOCATION:ACIF Matriz\, Rua Emilio Blum\, 121\, Florianópolis\, Santa Catarina\, 88020010\, Brasil
CATEGORIES:Reunião de núcleo
ATTACH;FMTTYPE=image/png:https://acif.org.br/wp-content/uploads/2025/02/ACIF-NUCLEO-NEO-AZUL.png
END:VEVENT
BEGIN:VEVENT
DTSTART;TZID=America/Sao_Paulo:20251120T160000
DTEND;TZID=America/Sao_Paulo:20251120T190000
DTSTAMP:20260421T172303
CREATED:20250408T191533Z
LAST-MODIFIED:20250408T191533Z
UID:10001181-1763654400-1763665200@acif.org.br
SUMMARY:Reunião Ordinária de Cooperativas
DESCRIPTION:Reunião será realizada na ACIF Matriz às 16h. \nCaso tenha interesse em participar\, \nEntre em contato com: \nJoão Vitor Pacheco – Consultor de Núcleos Empresariais \nTel.: 3084-9400 ou 99134-8587 – joao.vitor@acif.org.br
URL:https://acif.org.br/evento/reuniao-ordinaria-de-cooperativas-2/2025-11-20/
LOCATION:ACIF Matriz\, Rua Emilio Blum\, 121\, Florianópolis\, Santa Catarina\, 88020010\, Brasil
CATEGORIES:Reunião de núcleo
ATTACH;FMTTYPE=image/png:https://acif.org.br/wp-content/uploads/2023/09/ACIF-NUCLEO-COOPERATIVAS-AZUL-1.png
END:VEVENT
BEGIN:VEVENT
DTSTART;TZID=America/Sao_Paulo:20251116T180000
DTEND;TZID=America/Sao_Paulo:20251116T200000
DTSTAMP:20260421T172303
CREATED:20250408T190535Z
LAST-MODIFIED:20251219T170458Z
UID:10001546-1763316000-1763323200@acif.org.br
SUMMARY:Reunião Ordinária do Núcleo de Contadores
DESCRIPTION:Reunião será realizada na ACIF Matriz às 18h. \nCaso tenha interesse em participar!\nEntre em contato com: \nFranciele Medeiros  – Consultora de Núcleos \nTel.: 48 9 9988-2432
URL:https://acif.org.br/evento/reuniao-ordinaria-do-nucleo-de-contadores/2025-11-16/
LOCATION:ACIF Matriz\, Rua Emilio Blum\, 121\, Florianópolis\, Santa Catarina\, 88020010\, Brasil
CATEGORIES:Reunião de núcleo
ATTACH;FMTTYPE=image/png:https://acif.org.br/wp-content/uploads/2023/09/ACIF-NUCLEO-CONTADORES-AZUL.png
END:VEVENT
BEGIN:VEVENT
DTSTART;TZID=America/Sao_Paulo:20251114T100000
DTEND;TZID=America/Sao_Paulo:20251114T110000
DTSTAMP:20260421T172303
CREATED:20250715T125632Z
LAST-MODIFIED:20250715T125633Z
UID:10001331-1763114400-1763118000@acif.org.br
SUMMARY:Reunião Ordinária Inovação
DESCRIPTION:Reuniões presenciais serão realizadas na ACIF Matriz. \nLink para reuniões online: https://meet.google.com/hzc-digs-kiu \nCaso tenha interesse em participar! \nEntre em contato com: \nJoão Vitor Pacheco – Consultor de Núcleos Empresariais \nTel.: 3084-9400 ou 99134-8587 – joao.vitor@acif.org.br
URL:https://acif.org.br/evento/reuniao-ordinaria-inovacao-12/
LOCATION:ACIF Matriz\, Rua Emilio Blum\, 121\, Florianópolis\, Santa Catarina\, 88020010\, Brasil
CATEGORIES:Reunião de núcleo
ATTACH;FMTTYPE=image/png:https://acif.org.br/wp-content/uploads/2024/07/ACIF_Logo-Nucleo-Inovacao-Azul-Claro_Azul.png
END:VEVENT
BEGIN:VEVENT
DTSTART;TZID=America/Sao_Paulo:20251112T193000
DTEND;TZID=America/Sao_Paulo:20251112T213000
DTSTAMP:20260421T172303
CREATED:20250409T190404Z
LAST-MODIFIED:20260114T192146Z
UID:10001384-1762975800-1762983000@acif.org.br
SUMMARY:Reunião Ordinária Energia\, Engenharia e Sustentabilidade (NEES)
DESCRIPTION:Reunião será realizada na ACIF Matriz às 19h. \nCaso tenha interesse em participar\, \nEntre em contato com: \nJoão Moraes – Consultor de Núcleos \nTel.: 48 8816-9993
URL:https://acif.org.br/evento/reuniao-ordinaria-energia-engenharia-e-sustentabilidade-nees/
LOCATION:ACIF Matriz\, Rua Emilio Blum\, 121\, Florianópolis\, Santa Catarina\, 88020010\, Brasil
CATEGORIES:Reunião de núcleo
ATTACH;FMTTYPE=image/png:https://acif.org.br/wp-content/uploads/2025/04/ACIF-NUCLEO-NEES-AZUL-AMARELA-300x191-1.png
END:VEVENT
BEGIN:VEVENT
DTSTART;TZID=America/Sao_Paulo:20251112T190000
DTEND;TZID=America/Sao_Paulo:20251112T203000
DTSTAMP:20260421T172303
CREATED:20250408T210248Z
LAST-MODIFIED:20250408T210248Z
UID:10001251-1762974000-1762979400@acif.org.br
SUMMARY:Reunião Ordinária de Advocacia
DESCRIPTION:Reuniões presenciais serão realizadas na ACIF Matriz às 19h. \nLink para reuniões online: https://meet.google.com/krm-ujrt-izf \nCaso tenha interesse em participar!\nEntre em contato com: \nAndréa Firmo da Silva– Consultora de Núcleos \nTel.: 48 99988-0462 – andrea.firmo@acif.org.br
URL:https://acif.org.br/evento/reuniao-ordinaria-de-advocacia-2/2025-11-12/
LOCATION:ACIF Matriz\, Rua Emilio Blum\, 121\, Florianópolis\, Santa Catarina\, 88020010\, Brasil
CATEGORIES:Reunião de núcleo
ATTACH;FMTTYPE=image/png:https://acif.org.br/wp-content/uploads/2025/02/ACIF-NUCLEO-ADVOCACIA-AZUL-1.png
END:VEVENT
BEGIN:VEVENT
DTSTART;TZID=America/Sao_Paulo:20251111T090000
DTEND;TZID=America/Sao_Paulo:20251111T103000
DTSTAMP:20260421T172303
CREATED:20250409T191434Z
LAST-MODIFIED:20250409T191434Z
UID:10001402-1762851600-1762857000@acif.org.br
SUMMARY:Reunião Ordinária do Núcleo Multissetorial de Eventos Organizados - NEO
DESCRIPTION:Reunião será realizada na ACIF Matriz às 09h. \nCaso tenha interesse em participar\, \nEntre em contato com: \nJoão Vitor Pacheco – Consultor de Núcleos Empresariais \nTel.: 3084-9400 ou 99134-8587 – joao.vitor@acif.org.br
URL:https://acif.org.br/evento/reuniao-ordinaria-do-nucleo-multissetorial-de-eventos-organizados-neo/2025-11-11/
LOCATION:ACIF Matriz\, Rua Emilio Blum\, 121\, Florianópolis\, Santa Catarina\, 88020010\, Brasil
CATEGORIES:Reunião de núcleo
ATTACH;FMTTYPE=image/png:https://acif.org.br/wp-content/uploads/2025/02/ACIF-NUCLEO-NEO-AZUL.png
END:VEVENT
BEGIN:VEVENT
DTSTART;TZID=America/Sao_Paulo:20251105T190000
DTEND;TZID=America/Sao_Paulo:20251105T203000
DTSTAMP:20260421T172303
CREATED:20250408T184819Z
LAST-MODIFIED:20250408T184819Z
UID:10001157-1762369200-1762374600@acif.org.br
SUMMARY:Reunião Ordinária Conselho de Núcleos
DESCRIPTION:Reunião será realizada na ACIF Matriz às 19h. \nCaso tenha interesse em participar!\nEntre em contato com: \nLetícia Alves – Consultora de Núcleos \nTel.: 48 98816-9993 – leticia.alves@acif.org.br
URL:https://acif.org.br/evento/reuniao-ordinaria-conselho-de-nucleos/2025-11-05/
LOCATION:ACIF Matriz\, Rua Emilio Blum\, 121\, Florianópolis\, Santa Catarina\, 88020010\, Brasil
CATEGORIES:Reunião de núcleo
ATTACH;FMTTYPE=image/png:https://acif.org.br/wp-content/uploads/2024/07/ACIF-CONSELHO-DE-NUCLEOS-AZUL_1-1.png
END:VEVENT
BEGIN:VEVENT
DTSTART;TZID=America/Sao_Paulo:20251029T193000
DTEND;TZID=America/Sao_Paulo:20251029T213000
DTSTAMP:20260421T172303
CREATED:20250409T190404Z
LAST-MODIFIED:20260114T192146Z
UID:10001383-1761766200-1761773400@acif.org.br
SUMMARY:Reunião Ordinária Energia\, Engenharia e Sustentabilidade (NEES)
DESCRIPTION:Reunião será realizada na ACIF Matriz às 19h. \nCaso tenha interesse em participar\, \nEntre em contato com: \nJoão Moraes – Consultor de Núcleos \nTel.: 48 8816-9993
URL:https://acif.org.br/evento/reuniao-ordinaria-energia-engenharia-e-sustentabilidade-nees/
LOCATION:ACIF Matriz\, Rua Emilio Blum\, 121\, Florianópolis\, Santa Catarina\, 88020010\, Brasil
CATEGORIES:Reunião de núcleo
ATTACH;FMTTYPE=image/png:https://acif.org.br/wp-content/uploads/2025/04/ACIF-NUCLEO-NEES-AZUL-AMARELA-300x191-1.png
END:VEVENT
BEGIN:VEVENT
DTSTART;TZID=America/Sao_Paulo:20251029T190000
DTEND;TZID=America/Sao_Paulo:20251029T203000
DTSTAMP:20260421T172303
CREATED:20250408T210248Z
LAST-MODIFIED:20250408T210248Z
UID:10001250-1761764400-1761769800@acif.org.br
SUMMARY:Reunião Ordinária de Advocacia
DESCRIPTION:Reuniões presenciais serão realizadas na ACIF Matriz às 19h. \nLink para reuniões online: https://meet.google.com/krm-ujrt-izf \nCaso tenha interesse em participar!\nEntre em contato com: \nAndréa Firmo da Silva– Consultora de Núcleos \nTel.: 48 99988-0462 – andrea.firmo@acif.org.br
URL:https://acif.org.br/evento/reuniao-ordinaria-de-advocacia-2/2025-10-29/
LOCATION:ACIF Matriz\, Rua Emilio Blum\, 121\, Florianópolis\, Santa Catarina\, 88020010\, Brasil
CATEGORIES:Reunião de núcleo
ATTACH;FMTTYPE=image/png:https://acif.org.br/wp-content/uploads/2025/02/ACIF-NUCLEO-ADVOCACIA-AZUL-1.png
END:VEVENT
BEGIN:VEVENT
DTSTART;TZID=America/Sao_Paulo:20251028T090000
DTEND;TZID=America/Sao_Paulo:20251028T103000
DTSTAMP:20260421T172303
CREATED:20250409T191434Z
LAST-MODIFIED:20250409T191434Z
UID:10001401-1761642000-1761647400@acif.org.br
SUMMARY:Reunião Ordinária do Núcleo Multissetorial de Eventos Organizados - NEO
DESCRIPTION:Reunião será realizada na ACIF Matriz às 09h. \nCaso tenha interesse em participar\, \nEntre em contato com: \nJoão Vitor Pacheco – Consultor de Núcleos Empresariais \nTel.: 3084-9400 ou 99134-8587 – joao.vitor@acif.org.br
URL:https://acif.org.br/evento/reuniao-ordinaria-do-nucleo-multissetorial-de-eventos-organizados-neo/2025-10-28/
LOCATION:ACIF Matriz\, Rua Emilio Blum\, 121\, Florianópolis\, Santa Catarina\, 88020010\, Brasil
CATEGORIES:Reunião de núcleo
ATTACH;FMTTYPE=image/png:https://acif.org.br/wp-content/uploads/2025/02/ACIF-NUCLEO-NEO-AZUL.png
END:VEVENT
BEGIN:VEVENT
DTSTART;TZID=America/Sao_Paulo:20251026T180000
DTEND;TZID=America/Sao_Paulo:20251026T200000
DTSTAMP:20260421T172303
CREATED:20250408T190535Z
LAST-MODIFIED:20251219T170458Z
UID:10001545-1761501600-1761508800@acif.org.br
SUMMARY:Reunião Ordinária do Núcleo de Contadores
DESCRIPTION:Reunião será realizada na ACIF Matriz às 18h. \nCaso tenha interesse em participar!\nEntre em contato com: \nFranciele Medeiros  – Consultora de Núcleos \nTel.: 48 9 9988-2432
URL:https://acif.org.br/evento/reuniao-ordinaria-do-nucleo-de-contadores/2025-10-26/
LOCATION:ACIF Matriz\, Rua Emilio Blum\, 121\, Florianópolis\, Santa Catarina\, 88020010\, Brasil
CATEGORIES:Reunião de núcleo
ATTACH;FMTTYPE=image/png:https://acif.org.br/wp-content/uploads/2023/09/ACIF-NUCLEO-CONTADORES-AZUL.png
END:VEVENT
BEGIN:VEVENT
DTSTART;TZID=America/Sao_Paulo:20251023T200000
DTEND;TZID=America/Sao_Paulo:20251023T213000
DTSTAMP:20260421T172303
CREATED:20250409T194956Z
LAST-MODIFIED:20250409T194956Z
UID:10001429-1761249600-1761255000@acif.org.br
SUMMARY:Reunião Ordinária Reparação Automotiva
DESCRIPTION:Caso tenha interesse em participar!\nEntre em contato com: \nAndréa Firmo da Silva– Consultora de Núcleos \nTel.: 48 99988-0462 – andrea.firmo@acif.org.br
URL:https://acif.org.br/evento/reuniao-ordinaria-reparacao-automotiva/2025-10-23/
LOCATION:ACIF Matriz\, Rua Emilio Blum\, 121\, Florianópolis\, Santa Catarina\, 88020010\, Brasil
CATEGORIES:Reunião de núcleo
ATTACH;FMTTYPE=image/png:https://acif.org.br/wp-content/uploads/2025/02/ACIF-NUCLEO-REPARACAO-AUTOMOTIVA-AZUL-1.png
END:VEVENT
BEGIN:VEVENT
DTSTART;TZID=America/Sao_Paulo:20251023T090000
DTEND;TZID=America/Sao_Paulo:20251023T120000
DTSTAMP:20260421T172303
CREATED:20250408T204702Z
LAST-MODIFIED:20250408T204702Z
UID:10001234-1761210000-1761220800@acif.org.br
SUMMARY:Reunião Ordinária de Educação
DESCRIPTION:Reunião será realizada na Sala Multiuso (ACIF Matriz) 09h \nCaso tenha interesse em participar! \nEntre em conta com: \nJessika Silva Pereira – Consultora de Núcleos Empresariais \nTel.: 48 9 9988-2432 – jessika.silva@acif.org.br
URL:https://acif.org.br/evento/reuniao-ordinaria-de-educacao-2/2025-10-23/
LOCATION:ACIF Matriz\, Rua Emilio Blum\, 121\, Florianópolis\, Santa Catarina\, 88020010\, Brasil
CATEGORIES:Reunião de núcleo
ATTACH;FMTTYPE=image/png:https://acif.org.br/wp-content/uploads/2025/02/NUCLEO-EDUCACAO-Azul_Azul.png
END:VEVENT
BEGIN:VEVENT
DTSTART;TZID=America/Sao_Paulo:20251020T090000
DTEND;TZID=America/Sao_Paulo:20251020T120000
DTSTAMP:20260421T172303
CREATED:20250408T204702Z
LAST-MODIFIED:20250408T204702Z
UID:10001233-1760950800-1760961600@acif.org.br
SUMMARY:Reunião Ordinária de Educação
DESCRIPTION:Reunião será realizada na Sala Multiuso (ACIF Matriz) 09h \nCaso tenha interesse em participar! \nEntre em conta com: \nJessika Silva Pereira – Consultora de Núcleos Empresariais \nTel.: 48 9 9988-2432 – jessika.silva@acif.org.br
URL:https://acif.org.br/evento/reuniao-ordinaria-de-educacao-2/2025-10-20/
LOCATION:ACIF Matriz\, Rua Emilio Blum\, 121\, Florianópolis\, Santa Catarina\, 88020010\, Brasil
CATEGORIES:Reunião de núcleo
ATTACH;FMTTYPE=image/png:https://acif.org.br/wp-content/uploads/2025/02/NUCLEO-EDUCACAO-Azul_Azul.png
END:VEVENT
BEGIN:VEVENT
DTSTART;TZID=America/Sao_Paulo:20251016T160000
DTEND;TZID=America/Sao_Paulo:20251016T190000
DTSTAMP:20260421T172303
CREATED:20250408T191533Z
LAST-MODIFIED:20250408T191533Z
UID:10001180-1760630400-1760641200@acif.org.br
SUMMARY:Reunião Ordinária de Cooperativas
DESCRIPTION:Reunião será realizada na ACIF Matriz às 16h. \nCaso tenha interesse em participar\, \nEntre em contato com: \nJoão Vitor Pacheco – Consultor de Núcleos Empresariais \nTel.: 3084-9400 ou 99134-8587 – joao.vitor@acif.org.br
URL:https://acif.org.br/evento/reuniao-ordinaria-de-cooperativas-2/2025-10-16/
LOCATION:ACIF Matriz\, Rua Emilio Blum\, 121\, Florianópolis\, Santa Catarina\, 88020010\, Brasil
CATEGORIES:Reunião de núcleo
ATTACH;FMTTYPE=image/png:https://acif.org.br/wp-content/uploads/2023/09/ACIF-NUCLEO-COOPERATIVAS-AZUL-1.png
END:VEVENT
BEGIN:VEVENT
DTSTART;TZID=America/Sao_Paulo:20251015T193000
DTEND;TZID=America/Sao_Paulo:20251015T213000
DTSTAMP:20260421T172303
CREATED:20250409T190404Z
LAST-MODIFIED:20260114T192146Z
UID:10001382-1760556600-1760563800@acif.org.br
SUMMARY:Reunião Ordinária Energia\, Engenharia e Sustentabilidade (NEES)
DESCRIPTION:Reunião será realizada na ACIF Matriz às 19h. \nCaso tenha interesse em participar\, \nEntre em contato com: \nJoão Moraes – Consultor de Núcleos \nTel.: 48 8816-9993
URL:https://acif.org.br/evento/reuniao-ordinaria-energia-engenharia-e-sustentabilidade-nees/
LOCATION:ACIF Matriz\, Rua Emilio Blum\, 121\, Florianópolis\, Santa Catarina\, 88020010\, Brasil
CATEGORIES:Reunião de núcleo
ATTACH;FMTTYPE=image/png:https://acif.org.br/wp-content/uploads/2025/04/ACIF-NUCLEO-NEES-AZUL-AMARELA-300x191-1.png
END:VEVENT
BEGIN:VEVENT
DTSTART;TZID=America/Sao_Paulo:20251015T190000
DTEND;TZID=America/Sao_Paulo:20251015T203000
DTSTAMP:20260421T172303
CREATED:20250408T210248Z
LAST-MODIFIED:20250408T210248Z
UID:10001249-1760554800-1760560200@acif.org.br
SUMMARY:Reunião Ordinária de Advocacia
DESCRIPTION:Reuniões presenciais serão realizadas na ACIF Matriz às 19h. \nLink para reuniões online: https://meet.google.com/krm-ujrt-izf \nCaso tenha interesse em participar!\nEntre em contato com: \nAndréa Firmo da Silva– Consultora de Núcleos \nTel.: 48 99988-0462 – andrea.firmo@acif.org.br
URL:https://acif.org.br/evento/reuniao-ordinaria-de-advocacia-2/2025-10-15/
LOCATION:ACIF Matriz\, Rua Emilio Blum\, 121\, Florianópolis\, Santa Catarina\, 88020010\, Brasil
CATEGORIES:Reunião de núcleo
ATTACH;FMTTYPE=image/png:https://acif.org.br/wp-content/uploads/2025/02/ACIF-NUCLEO-ADVOCACIA-AZUL-1.png
END:VEVENT
BEGIN:VEVENT
DTSTART;TZID=America/Sao_Paulo:20251014T090000
DTEND;TZID=America/Sao_Paulo:20251014T103000
DTSTAMP:20260421T172303
CREATED:20250409T191434Z
LAST-MODIFIED:20250409T191434Z
UID:10001400-1760432400-1760437800@acif.org.br
SUMMARY:Reunião Ordinária do Núcleo Multissetorial de Eventos Organizados - NEO
DESCRIPTION:Reunião será realizada na ACIF Matriz às 09h. \nCaso tenha interesse em participar\, \nEntre em contato com: \nJoão Vitor Pacheco – Consultor de Núcleos Empresariais \nTel.: 3084-9400 ou 99134-8587 – joao.vitor@acif.org.br
URL:https://acif.org.br/evento/reuniao-ordinaria-do-nucleo-multissetorial-de-eventos-organizados-neo/2025-10-14/
LOCATION:ACIF Matriz\, Rua Emilio Blum\, 121\, Florianópolis\, Santa Catarina\, 88020010\, Brasil
CATEGORIES:Reunião de núcleo
ATTACH;FMTTYPE=image/png:https://acif.org.br/wp-content/uploads/2025/02/ACIF-NUCLEO-NEO-AZUL.png
END:VEVENT
BEGIN:VEVENT
DTSTART;TZID=America/Sao_Paulo:20251009T090000
DTEND;TZID=America/Sao_Paulo:20251009T120000
DTSTAMP:20260421T172303
CREATED:20250408T204702Z
LAST-MODIFIED:20250408T204702Z
UID:10001232-1760000400-1760011200@acif.org.br
SUMMARY:Reunião Ordinária de Educação
DESCRIPTION:Reunião será realizada na Sala Multiuso (ACIF Matriz) 09h \nCaso tenha interesse em participar! \nEntre em conta com: \nJessika Silva Pereira – Consultora de Núcleos Empresariais \nTel.: 48 9 9988-2432 – jessika.silva@acif.org.br
URL:https://acif.org.br/evento/reuniao-ordinaria-de-educacao-2/2025-10-09/
LOCATION:ACIF Matriz\, Rua Emilio Blum\, 121\, Florianópolis\, Santa Catarina\, 88020010\, Brasil
CATEGORIES:Reunião de núcleo
ATTACH;FMTTYPE=image/png:https://acif.org.br/wp-content/uploads/2025/02/NUCLEO-EDUCACAO-Azul_Azul.png
END:VEVENT
BEGIN:VEVENT
DTSTART;TZID=America/Sao_Paulo:20251008T190000
DTEND;TZID=America/Sao_Paulo:20251008T203000
DTSTAMP:20260421T172303
CREATED:20250408T184819Z
LAST-MODIFIED:20250408T184819Z
UID:10001156-1759950000-1759955400@acif.org.br
SUMMARY:Reunião Ordinária Conselho de Núcleos
DESCRIPTION:Reunião será realizada na ACIF Matriz às 19h. \nCaso tenha interesse em participar!\nEntre em contato com: \nLetícia Alves – Consultora de Núcleos \nTel.: 48 98816-9993 – leticia.alves@acif.org.br
URL:https://acif.org.br/evento/reuniao-ordinaria-conselho-de-nucleos/2025-10-08/
LOCATION:ACIF Matriz\, Rua Emilio Blum\, 121\, Florianópolis\, Santa Catarina\, 88020010\, Brasil
CATEGORIES:Reunião de núcleo
ATTACH;FMTTYPE=image/png:https://acif.org.br/wp-content/uploads/2024/07/ACIF-CONSELHO-DE-NUCLEOS-AZUL_1-1.png
END:VEVENT
BEGIN:VEVENT
DTSTART;TZID=America/Sao_Paulo:20251001T193000
DTEND;TZID=America/Sao_Paulo:20251001T213000
DTSTAMP:20260421T172303
CREATED:20250409T190404Z
LAST-MODIFIED:20260114T192146Z
UID:10001381-1759347000-1759354200@acif.org.br
SUMMARY:Reunião Ordinária Energia\, Engenharia e Sustentabilidade (NEES)
DESCRIPTION:Reunião será realizada na ACIF Matriz às 19h. \nCaso tenha interesse em participar\, \nEntre em contato com: \nJoão Moraes – Consultor de Núcleos \nTel.: 48 8816-9993
URL:https://acif.org.br/evento/reuniao-ordinaria-energia-engenharia-e-sustentabilidade-nees/
LOCATION:ACIF Matriz\, Rua Emilio Blum\, 121\, Florianópolis\, Santa Catarina\, 88020010\, Brasil
CATEGORIES:Reunião de núcleo
ATTACH;FMTTYPE=image/png:https://acif.org.br/wp-content/uploads/2025/04/ACIF-NUCLEO-NEES-AZUL-AMARELA-300x191-1.png
END:VEVENT
BEGIN:VEVENT
DTSTART;TZID=America/Sao_Paulo:20251001T190000
DTEND;TZID=America/Sao_Paulo:20251001T203000
DTSTAMP:20260421T172303
CREATED:20250408T210248Z
LAST-MODIFIED:20250408T210248Z
UID:10001248-1759345200-1759350600@acif.org.br
SUMMARY:Reunião Ordinária de Advocacia
DESCRIPTION:Reuniões presenciais serão realizadas na ACIF Matriz às 19h. \nLink para reuniões online: https://meet.google.com/krm-ujrt-izf \nCaso tenha interesse em participar!\nEntre em contato com: \nAndréa Firmo da Silva– Consultora de Núcleos \nTel.: 48 99988-0462 – andrea.firmo@acif.org.br
URL:https://acif.org.br/evento/reuniao-ordinaria-de-advocacia-2/2025-10-01/
LOCATION:ACIF Matriz\, Rua Emilio Blum\, 121\, Florianópolis\, Santa Catarina\, 88020010\, Brasil
CATEGORIES:Reunião de núcleo
ATTACH;FMTTYPE=image/png:https://acif.org.br/wp-content/uploads/2025/02/ACIF-NUCLEO-ADVOCACIA-AZUL-1.png
END:VEVENT
BEGIN:VEVENT
DTSTART;TZID=America/Sao_Paulo:20250930T090000
DTEND;TZID=America/Sao_Paulo:20250930T103000
DTSTAMP:20260421T172303
CREATED:20250409T191434Z
LAST-MODIFIED:20250409T191434Z
UID:10001399-1759222800-1759228200@acif.org.br
SUMMARY:Reunião Ordinária do Núcleo Multissetorial de Eventos Organizados - NEO
DESCRIPTION:Reunião será realizada na ACIF Matriz às 09h. \nCaso tenha interesse em participar\, \nEntre em contato com: \nJoão Vitor Pacheco – Consultor de Núcleos Empresariais \nTel.: 3084-9400 ou 99134-8587 – joao.vitor@acif.org.br
URL:https://acif.org.br/evento/reuniao-ordinaria-do-nucleo-multissetorial-de-eventos-organizados-neo/2025-09-30/
LOCATION:ACIF Matriz\, Rua Emilio Blum\, 121\, Florianópolis\, Santa Catarina\, 88020010\, Brasil
CATEGORIES:Reunião de núcleo
ATTACH;FMTTYPE=image/png:https://acif.org.br/wp-content/uploads/2025/02/ACIF-NUCLEO-NEO-AZUL.png
END:VEVENT
BEGIN:VEVENT
DTSTART;TZID=America/Sao_Paulo:20250928T180000
DTEND;TZID=America/Sao_Paulo:20250928T200000
DTSTAMP:20260421T172303
CREATED:20250408T190535Z
LAST-MODIFIED:20251219T170458Z
UID:10001544-1759082400-1759089600@acif.org.br
SUMMARY:Reunião Ordinária do Núcleo de Contadores
DESCRIPTION:Reunião será realizada na ACIF Matriz às 18h. \nCaso tenha interesse em participar!\nEntre em contato com: \nFranciele Medeiros  – Consultora de Núcleos \nTel.: 48 9 9988-2432
URL:https://acif.org.br/evento/reuniao-ordinaria-do-nucleo-de-contadores/2025-09-28/
LOCATION:ACIF Matriz\, Rua Emilio Blum\, 121\, Florianópolis\, Santa Catarina\, 88020010\, Brasil
CATEGORIES:Reunião de núcleo
ATTACH;FMTTYPE=image/png:https://acif.org.br/wp-content/uploads/2023/09/ACIF-NUCLEO-CONTADORES-AZUL.png
END:VEVENT
END:VCALENDAR