BEGIN:VCALENDAR
VERSION:2.0
PRODID:-//ACIF - ECPv6.14.0//NONSGML v1.0//EN
CALSCALE:GREGORIAN
METHOD:PUBLISH
X-ORIGINAL-URL:https://acif.org.br
X-WR-CALDESC:Eventos para ACIF
REFRESH-INTERVAL;VALUE=DURATION:PT1H
X-Robots-Tag:noindex
X-PUBLISHED-TTL:PT1H
BEGIN:VTIMEZONE
TZID:America/Sao_Paulo
BEGIN:STANDARD
TZOFFSETFROM:-0300
TZOFFSETTO:-0300
TZNAME:-03
DTSTART:20240101T000000
END:STANDARD
END:VTIMEZONE
BEGIN:VEVENT
DTSTART;TZID=America/Sao_Paulo:20240909T193000
DTEND;TZID=America/Sao_Paulo:20240909T210000
DTSTAMP:20260423T014419
CREATED:20240201T165041Z
LAST-MODIFIED:20240201T172000Z
UID:10000196-1725910200-1725915600@acif.org.br
SUMMARY:Reunião Núcleo Pet Shops
DESCRIPTION:Poderão participar do Núcleo empresas que se enquadrem nos respectivos códigos de atividade economica (CNAE): \n\n4789-0/04\n9609-2/07\n9609-2/08
URL:https://acif.org.br/evento/reuniao-nucleo-pet-shops/2024-09-09/
LOCATION:ACIF Matriz\, Rua Emilio Blum\, 121\, Florianópolis\, Santa Catarina\, 88020010\, Brasil
CATEGORIES:Reunião de núcleo
END:VEVENT
BEGIN:VEVENT
DTSTART;TZID=America/Sao_Paulo:20240909T190000
DTEND;TZID=America/Sao_Paulo:20240909T210000
DTSTAMP:20260423T014419
CREATED:20240702T184618Z
LAST-MODIFIED:20240702T184908Z
UID:10000799-1725908400-1725915600@acif.org.br
SUMMARY:Reunião ACIF Jovem
DESCRIPTION:Reunião Ordinária do Núcleo Jovem. \nLink Inscrição para visitantes: https://forms.gle/kGSZiwSWm5UwMcyY9 \nContato consultora: Letícia Alves (48)98816-9993 \n 
URL:https://acif.org.br/evento/reuniao-acif-jovem-5/2024-09-09/
LOCATION:ACIF Matriz\, Rua Emilio Blum\, 121\, Florianópolis\, Santa Catarina\, 88020010\, Brasil
CATEGORIES:Reunião de núcleo
END:VEVENT
BEGIN:VEVENT
DTSTART;TZID=America/Sao_Paulo:20240906T103000
DTEND;TZID=America/Sao_Paulo:20240906T120000
DTSTAMP:20260423T014419
CREATED:20240703T181412Z
LAST-MODIFIED:20240703T181412Z
UID:10000906-1725618600-1725624000@acif.org.br
SUMMARY:Reunião Núcleo Temático de Inovação
DESCRIPTION:Link para reunião: https://meet.google.com/tqn-bhzx-jsd \nDúvidas? Fale com a consultora Letícia pelo (48) 98816-9993
URL:https://acif.org.br/evento/reuniao-nucleo-tematico-de-inovacao/2024-09-06/
LOCATION:ACIF Matriz\, Rua Emilio Blum\, 121\, Florianópolis\, Santa Catarina\, 88020010\, Brasil
CATEGORIES:Reunião de núcleo
END:VEVENT
BEGIN:VEVENT
DTSTART;TZID=America/Sao_Paulo:20240904T190000
DTEND;TZID=America/Sao_Paulo:20240904T203000
DTSTAMP:20260423T014419
CREATED:20240702T191141Z
LAST-MODIFIED:20240702T191141Z
UID:10000808-1725476400-1725481800@acif.org.br
SUMMARY:Reunião Conselho de Núcleos
DESCRIPTION:Reunião para Coordenadores de Núcleos. \n 
URL:https://acif.org.br/evento/reuniao-conselho-de-nucleos/2024-09-04/
LOCATION:ACIF Matriz\, Rua Emilio Blum\, 121\, Florianópolis\, Santa Catarina\, 88020010\, Brasil
CATEGORIES:Reunião de núcleo
END:VEVENT
BEGIN:VEVENT
DTSTART;TZID=America/Sao_Paulo:20240903T110000
DTEND;TZID=America/Sao_Paulo:20240903T123000
DTSTAMP:20260423T014419
CREATED:20240703T165942Z
LAST-MODIFIED:20240703T165942Z
UID:10000869-1725361200-1725366600@acif.org.br
SUMMARY:Reunião Núcleo Coworking
DESCRIPTION:Link para reuniões online google meet:  https://meet.google.com/uqe-wkno-nqj\n  \nDúvidas: Consultora Andréa Firmo (48) 99988-0462
URL:https://acif.org.br/evento/reuniao-nucleo-coworking/2024-09-03/
LOCATION:ACIF Matriz\, Rua Emilio Blum\, 121\, Florianópolis\, Santa Catarina\, 88020010\, Brasil
CATEGORIES:Reunião de núcleo
END:VEVENT
BEGIN:VEVENT
DTSTART;TZID=America/Sao_Paulo:20240902T190000
DTEND;TZID=America/Sao_Paulo:20240902T203000
DTSTAMP:20260423T014419
CREATED:20240702T193715Z
LAST-MODIFIED:20240702T193836Z
UID:10000816-1725303600-1725309000@acif.org.br
SUMMARY:Reunião Núcleo Condomínios
DESCRIPTION:
URL:https://acif.org.br/evento/reuniao-nucleo-condominios/2024-09-02/
LOCATION:ACIF Matriz\, Rua Emilio Blum\, 121\, Florianópolis\, Santa Catarina\, 88020010\, Brasil
CATEGORIES:Reunião de núcleo
END:VEVENT
BEGIN:VEVENT
DTSTART;TZID=America/Sao_Paulo:20240902T180000
DTEND;TZID=America/Sao_Paulo:20240902T193000
DTSTAMP:20260423T014419
CREATED:20240703T172017Z
LAST-MODIFIED:20240703T172919Z
UID:10000892-1725300000-1725305400@acif.org.br
SUMMARY:Reunião Núcleo Guias de Turismo
DESCRIPTION:Link google meet: https://meet.google.com/hfy-wfcr-aew \n  \nDúvidas? Entre em contato pelo 48 99118-5881 e fale com Maísa.
URL:https://acif.org.br/evento/reuniao-nucleo-guias-de-turismo/2024-09-02/
LOCATION:ACIF Matriz\, Rua Emilio Blum\, 121\, Florianópolis\, Santa Catarina\, 88020010\, Brasil
CATEGORIES:Reunião de núcleo
END:VEVENT
BEGIN:VEVENT
DTSTART;TZID=America/Sao_Paulo:20240902T143000
DTEND;TZID=America/Sao_Paulo:20240902T160000
DTSTAMP:20260423T014419
CREATED:20240702T194655Z
LAST-MODIFIED:20240702T194655Z
UID:10000828-1725287400-1725292800@acif.org.br
SUMMARY:Núcleo Consultoria de Imagem
DESCRIPTION:Link da Reunião: meet.google.com/eui-rahd-dmv  \n 
URL:https://acif.org.br/evento/nucleo-consultoria-de-imagem/2024-09-02/
LOCATION:ACIF Matriz\, Rua Emilio Blum\, 121\, Florianópolis\, Santa Catarina\, 88020010\, Brasil
CATEGORIES:Reunião de núcleo
END:VEVENT
BEGIN:VEVENT
DTSTART;TZID=America/Sao_Paulo:20240829T190000
DTEND;TZID=America/Sao_Paulo:20240829T203000
DTSTAMP:20260423T014419
CREATED:20240703T201247Z
LAST-MODIFIED:20240703T201247Z
UID:10000953-1724958000-1724963400@acif.org.br
SUMMARY:Núcleo Setorial de Marketing
DESCRIPTION:Dúvidas? Entre em contato com a consultora Letícia Alves pelo (48)98816-9993
URL:https://acif.org.br/evento/nucleo-setorial-de-marketing/2024-08-29/
LOCATION:ACIF Matriz\, Rua Emilio Blum\, 121\, Florianópolis\, Santa Catarina\, 88020010\, Brasil
CATEGORIES:Reunião de núcleo
END:VEVENT
BEGIN:VEVENT
DTSTART;TZID=America/Sao_Paulo:20240829T090000
DTEND;TZID=America/Sao_Paulo:20240829T103000
DTSTAMP:20260423T014419
CREATED:20240201T142453Z
LAST-MODIFIED:20240709T184556Z
UID:10000976-1724922000-1724927400@acif.org.br
SUMMARY:Reunião Núcleo de Educação
DESCRIPTION:Dúvidas? Entre em contato com a consultora  Jéssika (48) 99988-2432
URL:https://acif.org.br/evento/reuniao-nucleo-de-educacao/2024-08-29/
LOCATION:ACIF Matriz\, Rua Emilio Blum\, 121\, Florianópolis\, Santa Catarina\, 88020010\, Brasil
CATEGORIES:Reunião de núcleo
END:VEVENT
BEGIN:VEVENT
DTSTART;TZID=America/Sao_Paulo:20240828T190000
DTEND;TZID=America/Sao_Paulo:20240828T203000
DTSTAMP:20260423T014419
CREATED:20240201T141345Z
LAST-MODIFIED:20240711T174726Z
UID:10000985-1724871600-1724877000@acif.org.br
SUMMARY:Reunião Núcleo de Advocacia
DESCRIPTION:Dúvidas? Fale com a consultora Jéssika pelo (48) 99988-2432
URL:https://acif.org.br/evento/reuniao-nucleo-de-advocacia/2024-08-28/
LOCATION:ACIF Matriz\, Rua Emilio Blum\, 121\, Florianópolis\, Santa Catarina\, 88020010\, Brasil
CATEGORIES:Reunião de núcleo
END:VEVENT
BEGIN:VEVENT
DTSTART;TZID=America/Sao_Paulo:20240827T083000
DTEND;TZID=America/Sao_Paulo:20240827T100000
DTSTAMP:20260423T014419
CREATED:20240703T192042Z
LAST-MODIFIED:20240709T172955Z
UID:10000917-1724747400-1724752800@acif.org.br
SUMMARY:Reunião do Núcleo Eventos Organizados
DESCRIPTION:
URL:https://acif.org.br/evento/reuniao-do-nucleo-eventos-organizados/2024-08-27/
LOCATION:ACIF Matriz\, Rua Emilio Blum\, 121\, Florianópolis\, Santa Catarina\, 88020010\, Brasil
CATEGORIES:Reunião de núcleo
END:VEVENT
BEGIN:VEVENT
DTSTART;TZID=America/Sao_Paulo:20240826T193000
DTEND;TZID=America/Sao_Paulo:20240826T210000
DTSTAMP:20260423T014419
CREATED:20240201T165041Z
LAST-MODIFIED:20240201T172000Z
UID:10000195-1724700600-1724706000@acif.org.br
SUMMARY:Reunião Núcleo Pet Shops
DESCRIPTION:Poderão participar do Núcleo empresas que se enquadrem nos respectivos códigos de atividade economica (CNAE): \n\n4789-0/04\n9609-2/07\n9609-2/08
URL:https://acif.org.br/evento/reuniao-nucleo-pet-shops/2024-08-26/
LOCATION:ACIF Matriz\, Rua Emilio Blum\, 121\, Florianópolis\, Santa Catarina\, 88020010\, Brasil
CATEGORIES:Reunião de núcleo
END:VEVENT
BEGIN:VEVENT
DTSTART;TZID=America/Sao_Paulo:20240826T190000
DTEND;TZID=America/Sao_Paulo:20240826T210000
DTSTAMP:20260423T014419
CREATED:20240702T184618Z
LAST-MODIFIED:20240702T184908Z
UID:10000798-1724698800-1724706000@acif.org.br
SUMMARY:Reunião ACIF Jovem
DESCRIPTION:Reunião Ordinária do Núcleo Jovem. \nLink Inscrição para visitantes: https://forms.gle/kGSZiwSWm5UwMcyY9 \nContato consultora: Letícia Alves (48)98816-9993 \n 
URL:https://acif.org.br/evento/reuniao-acif-jovem-5/2024-08-26/
LOCATION:ACIF Matriz\, Rua Emilio Blum\, 121\, Florianópolis\, Santa Catarina\, 88020010\, Brasil
CATEGORIES:Reunião de núcleo
END:VEVENT
BEGIN:VEVENT
DTSTART;TZID=America/Sao_Paulo:20240824T090000
DTEND;TZID=America/Sao_Paulo:20240824T103000
DTSTAMP:20260423T014419
CREATED:20240201T142453Z
LAST-MODIFIED:20240709T184556Z
UID:10000975-1724490000-1724495400@acif.org.br
SUMMARY:Reunião Núcleo de Educação
DESCRIPTION:Dúvidas? Entre em contato com a consultora  Jéssika (48) 99988-2432
URL:https://acif.org.br/evento/reuniao-nucleo-de-educacao/2024-08-24/
LOCATION:ACIF Matriz\, Rua Emilio Blum\, 121\, Florianópolis\, Santa Catarina\, 88020010\, Brasil
CATEGORIES:Reunião de núcleo
END:VEVENT
BEGIN:VEVENT
DTSTART;TZID=America/Sao_Paulo:20240823T103000
DTEND;TZID=America/Sao_Paulo:20240823T120000
DTSTAMP:20260423T014419
CREATED:20240703T181412Z
LAST-MODIFIED:20240703T181412Z
UID:10000905-1724409000-1724414400@acif.org.br
SUMMARY:Reunião Núcleo Temático de Inovação
DESCRIPTION:Link para reunião: https://meet.google.com/tqn-bhzx-jsd \nDúvidas? Fale com a consultora Letícia pelo (48) 98816-9993
URL:https://acif.org.br/evento/reuniao-nucleo-tematico-de-inovacao/2024-08-23/
LOCATION:ACIF Matriz\, Rua Emilio Blum\, 121\, Florianópolis\, Santa Catarina\, 88020010\, Brasil
CATEGORIES:Reunião de núcleo
END:VEVENT
BEGIN:VEVENT
DTSTART;TZID=America/Sao_Paulo:20240822T183000
DTEND;TZID=America/Sao_Paulo:20240822T210000
DTSTAMP:20260423T014419
CREATED:20240815T182214Z
LAST-MODIFIED:20240815T182340Z
UID:10001052-1724351400-1724360400@acif.org.br
SUMMARY:🌊✨ Navegando nas Ondas do Empreendedorismo: Desafios e Estratégias para o Sucesso ✨
DESCRIPTION: Prepare-se para um evento transformador que vai revolucionar seu jeito de empreender! \n Painel 1: Marketing e Vendas Título: Estratégias Inovadoras para Alavancar Vendas no Mercado Atual\nPontos a Abordar:  Marketing Digital: Como utilizar mídias sociais\, SEO e anúncios online para atrair clientes  Estratégias de Vendas: Abordagens eficazes para fechar negócios e fidelizar clientes  Automação de Processos: Como otimizar a gestão de vendas e marketing com ferramentas tecnológicas\nPainelista: Msc Alexis Fernández Serguera\, CEO Fundador da Trailing\n Painel 2: Processos/Organização Título: Como Iniciar seu Negócio e Ser Empresário\nPontos a Abordar:  Abordagem dos principais pontos que uma pessoa deve conhecer ao iniciar um projeto de empreendedorismo\nPainelista: Antenor da Silva Filho\, Sócio da TS Baumgartner Contadores Associados\n Painel 3: Financeiro Título: Organização Financeira\, Fluxo de Caixa e Investimentos\nPontos a Abordar:  Organização das finanças  Separação das contas PF e PJ  Criação de objetivos e metas financeiras  Como investir o que poupa no mês\nPainelista: Andrew Fonsêca\, Assessor de investimentos na Edro Investimentos da EQI Investimentos\n Painel 4: Gestão Título: Engajando Equipes Multigeracionais na Era da Transformação Digital\nPontos a Abordar:  Características e expectativas das diferentes gerações no ambiente de trabalho  Gerar conexões significativas mesmo no remoto  Fortalecimento de feedbacks contínuos em um ambiente inclusivo\nPainelista: Claudia Danielli\, CEO da CJD RH CONSULT\n Data: 22/8/24\n Local: ACIF Centro – Rua Emilio Blum\, 121\n Horário: 18h30\nNão perca esta oportunidade única de aprender com especialistas renomados e elevar seu negócio a um novo patamar! \nInscrições
URL:https://acif.org.br/evento/%f0%9f%8c%8a%e2%9c%a8-navegando-nas-ondas-do-empreendedorismo-desafios-e-estrategias-para-o-sucesso-%e2%9c%a8/
LOCATION:ACIF Matriz\, Rua Emilio Blum\, 121\, Florianópolis\, Santa Catarina\, 88020010\, Brasil
CATEGORIES:Evento
ATTACH;FMTTYPE=image/jpeg:https://acif.org.br/wp-content/uploads/2024/08/WhatsApp-Image-2024-08-12-at-17.19.11.jpeg
END:VEVENT
BEGIN:VEVENT
DTSTART;TZID=America/Sao_Paulo:20240822T173000
DTEND;TZID=America/Sao_Paulo:20240822T190000
DTSTAMP:20260423T014419
CREATED:20240703T165942Z
LAST-MODIFIED:20240703T165942Z
UID:10000868-1724347800-1724353200@acif.org.br
SUMMARY:Reunião Núcleo Coworking
DESCRIPTION:Link para reuniões online google meet:  https://meet.google.com/uqe-wkno-nqj\n  \nDúvidas: Consultora Andréa Firmo (48) 99988-0462
URL:https://acif.org.br/evento/reuniao-nucleo-coworking/2024-08-22/
LOCATION:ACIF Matriz\, Rua Emilio Blum\, 121\, Florianópolis\, Santa Catarina\, 88020010\, Brasil
CATEGORIES:Reunião de núcleo
END:VEVENT
BEGIN:VEVENT
DTSTART;TZID=America/Sao_Paulo:20240820T083000
DTEND;TZID=America/Sao_Paulo:20240820T100000
DTSTAMP:20260423T014419
CREATED:20240812T185429Z
LAST-MODIFIED:20240812T185430Z
UID:10000916-1724142600-1724148000@acif.org.br
SUMMARY:Reunião do Núcleo Eventos Organizados
DESCRIPTION:
URL:https://acif.org.br/evento/reuniao-do-nucleo-eventos-organizados-2/
LOCATION:ACIF Matriz\, Rua Emilio Blum\, 121\, Florianópolis\, Santa Catarina\, 88020010\, Brasil
CATEGORIES:Reunião de núcleo
END:VEVENT
BEGIN:VEVENT
DTSTART;TZID=America/Sao_Paulo:20240819T190000
DTEND;TZID=America/Sao_Paulo:20240819T203000
DTSTAMP:20260423T014419
CREATED:20240702T193715Z
LAST-MODIFIED:20240702T193836Z
UID:10000815-1724094000-1724099400@acif.org.br
SUMMARY:Reunião Núcleo Condomínios
DESCRIPTION:
URL:https://acif.org.br/evento/reuniao-nucleo-condominios/2024-08-19/
LOCATION:ACIF Matriz\, Rua Emilio Blum\, 121\, Florianópolis\, Santa Catarina\, 88020010\, Brasil
CATEGORIES:Reunião de núcleo
END:VEVENT
BEGIN:VEVENT
DTSTART;TZID=America/Sao_Paulo:20240819T180000
DTEND;TZID=America/Sao_Paulo:20240819T193000
DTSTAMP:20260423T014419
CREATED:20240703T172017Z
LAST-MODIFIED:20240703T172919Z
UID:10000891-1724090400-1724095800@acif.org.br
SUMMARY:Reunião Núcleo Guias de Turismo
DESCRIPTION:Link google meet: https://meet.google.com/hfy-wfcr-aew \n  \nDúvidas? Entre em contato pelo 48 99118-5881 e fale com Maísa.
URL:https://acif.org.br/evento/reuniao-nucleo-guias-de-turismo/2024-08-19/
LOCATION:ACIF Matriz\, Rua Emilio Blum\, 121\, Florianópolis\, Santa Catarina\, 88020010\, Brasil
CATEGORIES:Reunião de núcleo
END:VEVENT
BEGIN:VEVENT
DTSTART;TZID=America/Sao_Paulo:20240819T140000
DTEND;TZID=America/Sao_Paulo:20240819T160000
DTSTAMP:20260423T014419
CREATED:20240702T194655Z
LAST-MODIFIED:20240702T194655Z
UID:10000827-1724076000-1724083200@acif.org.br
SUMMARY:Núcleo Consultoria de Imagem
DESCRIPTION:Link da Reunião: meet.google.com/eui-rahd-dmv  \n 
URL:https://acif.org.br/evento/nucleo-consultoria-de-imagem/2024-08-19/
LOCATION:ACIF Matriz\, Rua Emilio Blum\, 121\, Florianópolis\, Santa Catarina\, 88020010\, Brasil
CATEGORIES:Reunião de núcleo
END:VEVENT
BEGIN:VEVENT
DTSTART;TZID=America/Sao_Paulo:20240815T190000
DTEND;TZID=America/Sao_Paulo:20240815T203000
DTSTAMP:20260423T014419
CREATED:20240703T201247Z
LAST-MODIFIED:20240703T201247Z
UID:10000952-1723748400-1723753800@acif.org.br
SUMMARY:Núcleo Setorial de Marketing
DESCRIPTION:Dúvidas? Entre em contato com a consultora Letícia Alves pelo (48)98816-9993
URL:https://acif.org.br/evento/nucleo-setorial-de-marketing/2024-08-15/
LOCATION:ACIF Matriz\, Rua Emilio Blum\, 121\, Florianópolis\, Santa Catarina\, 88020010\, Brasil
CATEGORIES:Reunião de núcleo
END:VEVENT
BEGIN:VEVENT
DTSTART;TZID=America/Sao_Paulo:20240815T160000
DTEND;TZID=America/Sao_Paulo:20240815T173000
DTSTAMP:20260423T014419
CREATED:20240702T195133Z
LAST-MODIFIED:20240702T195133Z
UID:10000836-1723737600-1723743000@acif.org.br
SUMMARY:Núcleo de Cooperativas
DESCRIPTION:
URL:https://acif.org.br/evento/nucleo-de-cooperativas/2024-08-15/
LOCATION:ACIF Matriz\, Rua Emilio Blum\, 121\, Florianópolis\, Santa Catarina\, 88020010\, Brasil
CATEGORIES:Reunião de núcleo
END:VEVENT
BEGIN:VEVENT
DTSTART;TZID=America/Sao_Paulo:20240815T090000
DTEND;TZID=America/Sao_Paulo:20240815T103000
DTSTAMP:20260423T014419
CREATED:20240201T142453Z
LAST-MODIFIED:20240709T184556Z
UID:10000974-1723712400-1723717800@acif.org.br
SUMMARY:Reunião Núcleo de Educação
DESCRIPTION:Dúvidas? Entre em contato com a consultora  Jéssika (48) 99988-2432
URL:https://acif.org.br/evento/reuniao-nucleo-de-educacao/2024-08-15/
LOCATION:ACIF Matriz\, Rua Emilio Blum\, 121\, Florianópolis\, Santa Catarina\, 88020010\, Brasil
CATEGORIES:Reunião de núcleo
END:VEVENT
BEGIN:VEVENT
DTSTART;TZID=America/Sao_Paulo:20240814T190000
DTEND;TZID=America/Sao_Paulo:20240814T203000
DTSTAMP:20260423T014419
CREATED:20240201T141345Z
LAST-MODIFIED:20240711T174726Z
UID:10000984-1723662000-1723667400@acif.org.br
SUMMARY:Reunião Núcleo de Advocacia
DESCRIPTION:Dúvidas? Fale com a consultora Jéssika pelo (48) 99988-2432
URL:https://acif.org.br/evento/reuniao-nucleo-de-advocacia/2024-08-14/
LOCATION:ACIF Matriz\, Rua Emilio Blum\, 121\, Florianópolis\, Santa Catarina\, 88020010\, Brasil
CATEGORIES:Reunião de núcleo
END:VEVENT
BEGIN:VEVENT
DTSTART;TZID=America/Sao_Paulo:20240812T193000
DTEND;TZID=America/Sao_Paulo:20240812T210000
DTSTAMP:20260423T014419
CREATED:20240201T165041Z
LAST-MODIFIED:20240201T172000Z
UID:10000194-1723491000-1723496400@acif.org.br
SUMMARY:Reunião Núcleo Pet Shops
DESCRIPTION:Poderão participar do Núcleo empresas que se enquadrem nos respectivos códigos de atividade economica (CNAE): \n\n4789-0/04\n9609-2/07\n9609-2/08
URL:https://acif.org.br/evento/reuniao-nucleo-pet-shops/2024-08-12/
LOCATION:ACIF Matriz\, Rua Emilio Blum\, 121\, Florianópolis\, Santa Catarina\, 88020010\, Brasil
CATEGORIES:Reunião de núcleo
END:VEVENT
BEGIN:VEVENT
DTSTART;TZID=America/Sao_Paulo:20240812T190000
DTEND;TZID=America/Sao_Paulo:20240812T210000
DTSTAMP:20260423T014419
CREATED:20240702T184618Z
LAST-MODIFIED:20240702T184908Z
UID:10000797-1723489200-1723496400@acif.org.br
SUMMARY:Reunião ACIF Jovem
DESCRIPTION:Reunião Ordinária do Núcleo Jovem. \nLink Inscrição para visitantes: https://forms.gle/kGSZiwSWm5UwMcyY9 \nContato consultora: Letícia Alves (48)98816-9993 \n 
URL:https://acif.org.br/evento/reuniao-acif-jovem-5/2024-08-12/
LOCATION:ACIF Matriz\, Rua Emilio Blum\, 121\, Florianópolis\, Santa Catarina\, 88020010\, Brasil
CATEGORIES:Reunião de núcleo
END:VEVENT
BEGIN:VEVENT
DTSTART;TZID=America/Sao_Paulo:20240809T103000
DTEND;TZID=America/Sao_Paulo:20240809T120000
DTSTAMP:20260423T014419
CREATED:20240703T181412Z
LAST-MODIFIED:20240703T181412Z
UID:10000904-1723199400-1723204800@acif.org.br
SUMMARY:Reunião Núcleo Temático de Inovação
DESCRIPTION:Link para reunião: https://meet.google.com/tqn-bhzx-jsd \nDúvidas? Fale com a consultora Letícia pelo (48) 98816-9993
URL:https://acif.org.br/evento/reuniao-nucleo-tematico-de-inovacao/2024-08-09/
LOCATION:ACIF Matriz\, Rua Emilio Blum\, 121\, Florianópolis\, Santa Catarina\, 88020010\, Brasil
CATEGORIES:Reunião de núcleo
END:VEVENT
BEGIN:VEVENT
DTSTART;TZID=America/Sao_Paulo:20240806T190000
DTEND;TZID=America/Sao_Paulo:20240806T203000
DTSTAMP:20260423T014419
CREATED:20240801T193339Z
LAST-MODIFIED:20240801T193340Z
UID:10000807-1722970800-1722976200@acif.org.br
SUMMARY:Reunião Conselho de Núcleos
DESCRIPTION:Reunião para Coordenadores de Núcleos. \n 
URL:https://acif.org.br/evento/reuniao-conselho-de-nucleos-2/
LOCATION:ACIF Matriz\, Rua Emilio Blum\, 121\, Florianópolis\, Santa Catarina\, 88020010\, Brasil
CATEGORIES:Reunião de núcleo
END:VEVENT
END:VCALENDAR