BEGIN:VCALENDAR
VERSION:2.0
PRODID:-//ACIF - ECPv6.14.0//NONSGML v1.0//EN
CALSCALE:GREGORIAN
METHOD:PUBLISH
X-ORIGINAL-URL:https://acif.org.br
X-WR-CALDESC:Eventos para ACIF
REFRESH-INTERVAL;VALUE=DURATION:PT1H
X-Robots-Tag:noindex
X-PUBLISHED-TTL:PT1H
BEGIN:VTIMEZONE
TZID:America/Sao_Paulo
BEGIN:STANDARD
TZOFFSETFROM:-0300
TZOFFSETTO:-0300
TZNAME:-03
DTSTART:20240101T000000
END:STANDARD
END:VTIMEZONE
BEGIN:VEVENT
DTSTART;TZID=America/Sao_Paulo:20241007T140000
DTEND;TZID=America/Sao_Paulo:20241007T153000
DTSTAMP:20260422T222138
CREATED:20240702T194655Z
LAST-MODIFIED:20240702T194655Z
UID:10000831-1728309600-1728315000@acif.org.br
SUMMARY:Núcleo Consultoria de Imagem
DESCRIPTION:Link da Reunião: meet.google.com/eui-rahd-dmv  \n 
URL:https://acif.org.br/evento/nucleo-consultoria-de-imagem/2024-10-07/
LOCATION:ACIF Matriz\, Rua Emilio Blum\, 121\, Florianópolis\, Santa Catarina\, 88020010\, Brasil
CATEGORIES:Reunião de núcleo
END:VEVENT
BEGIN:VEVENT
DTSTART;TZID=America/Sao_Paulo:20241004T103000
DTEND;TZID=America/Sao_Paulo:20241004T120000
DTSTAMP:20260422T222138
CREATED:20240703T181412Z
LAST-MODIFIED:20240703T181412Z
UID:10000908-1728037800-1728043200@acif.org.br
SUMMARY:Reunião Núcleo Temático de Inovação
DESCRIPTION:Link para reunião: https://meet.google.com/tqn-bhzx-jsd \nDúvidas? Fale com a consultora Letícia pelo (48) 98816-9993
URL:https://acif.org.br/evento/reuniao-nucleo-tematico-de-inovacao/2024-10-04/
LOCATION:ACIF Matriz\, Rua Emilio Blum\, 121\, Florianópolis\, Santa Catarina\, 88020010\, Brasil
CATEGORIES:Reunião de núcleo
END:VEVENT
BEGIN:VEVENT
DTSTART;TZID=America/Sao_Paulo:20241002T190000
DTEND;TZID=America/Sao_Paulo:20241002T203000
DTSTAMP:20260422T222138
CREATED:20240702T191141Z
LAST-MODIFIED:20240702T191141Z
UID:10000809-1727895600-1727901000@acif.org.br
SUMMARY:Reunião Conselho de Núcleos
DESCRIPTION:Reunião para Coordenadores de Núcleos. \n 
URL:https://acif.org.br/evento/reuniao-conselho-de-nucleos/2024-10-02/
LOCATION:ACIF Matriz\, Rua Emilio Blum\, 121\, Florianópolis\, Santa Catarina\, 88020010\, Brasil
CATEGORIES:Reunião de núcleo
END:VEVENT
BEGIN:VEVENT
DTSTART;TZID=America/Sao_Paulo:20241001T110000
DTEND;TZID=America/Sao_Paulo:20241001T123000
DTSTAMP:20260422T222138
CREATED:20240703T165942Z
LAST-MODIFIED:20240703T165942Z
UID:10000871-1727780400-1727785800@acif.org.br
SUMMARY:Reunião Núcleo Coworking
DESCRIPTION:Link para reuniões online google meet:  https://meet.google.com/uqe-wkno-nqj\n  \nDúvidas: Consultora Andréa Firmo (48) 99988-0462
URL:https://acif.org.br/evento/reuniao-nucleo-coworking/2024-10-01/
LOCATION:ACIF Matriz\, Rua Emilio Blum\, 121\, Florianópolis\, Santa Catarina\, 88020010\, Brasil
CATEGORIES:Reunião de núcleo
END:VEVENT
BEGIN:VEVENT
DTSTART;TZID=America/Sao_Paulo:20240930T190000
DTEND;TZID=America/Sao_Paulo:20240930T203000
DTSTAMP:20260422T222138
CREATED:20240702T193715Z
LAST-MODIFIED:20240702T193836Z
UID:10000818-1727722800-1727728200@acif.org.br
SUMMARY:Reunião Núcleo Condomínios
DESCRIPTION:
URL:https://acif.org.br/evento/reuniao-nucleo-condominios/2024-09-30/
LOCATION:ACIF Matriz\, Rua Emilio Blum\, 121\, Florianópolis\, Santa Catarina\, 88020010\, Brasil
CATEGORIES:Reunião de núcleo
END:VEVENT
BEGIN:VEVENT
DTSTART;TZID=America/Sao_Paulo:20240930T180000
DTEND;TZID=America/Sao_Paulo:20240930T193000
DTSTAMP:20260422T222138
CREATED:20240703T172017Z
LAST-MODIFIED:20240703T172919Z
UID:10000894-1727719200-1727724600@acif.org.br
SUMMARY:Reunião Núcleo Guias de Turismo
DESCRIPTION:Link google meet: https://meet.google.com/hfy-wfcr-aew \n  \nDúvidas? Entre em contato pelo 48 99118-5881 e fale com Maísa.
URL:https://acif.org.br/evento/reuniao-nucleo-guias-de-turismo/2024-09-30/
LOCATION:ACIF Matriz\, Rua Emilio Blum\, 121\, Florianópolis\, Santa Catarina\, 88020010\, Brasil
CATEGORIES:Reunião de núcleo
END:VEVENT
BEGIN:VEVENT
DTSTART;TZID=America/Sao_Paulo:20240930T143000
DTEND;TZID=America/Sao_Paulo:20240930T160000
DTSTAMP:20260422T222138
CREATED:20240702T194655Z
LAST-MODIFIED:20240702T194655Z
UID:10000830-1727706600-1727712000@acif.org.br
SUMMARY:Núcleo Consultoria de Imagem
DESCRIPTION:Link da Reunião: meet.google.com/eui-rahd-dmv  \n 
URL:https://acif.org.br/evento/nucleo-consultoria-de-imagem/2024-09-30/
LOCATION:ACIF Matriz\, Rua Emilio Blum\, 121\, Florianópolis\, Santa Catarina\, 88020010\, Brasil
CATEGORIES:Reunião de núcleo
END:VEVENT
BEGIN:VEVENT
DTSTART;TZID=America/Sao_Paulo:20240926T190000
DTEND;TZID=America/Sao_Paulo:20240926T210000
DTSTAMP:20260422T222138
CREATED:20240906T113714Z
LAST-MODIFIED:20240906T113714Z
UID:10001054-1727377200-1727384400@acif.org.br
SUMMARY:Projeção de Carreiras e IA’s
DESCRIPTION:>> Capacitação para empreendedores e colaboradores <<<  \nSuas habilidades podem te levar ao topo. Seja você um empresário visionário ou um colaborador em ascensão\, o aprimoramento contínuo é a chave para o sucesso duradouro. \n A ACIF\, em parceria com instituições de ensino renomadas\, te convida para um evento imperdível que vai te impulsionar para o próximo nível!  \nJunte-se a nós no dia 29 de agosto\, das 19h às 21h\, na sede da ACIF no centro de Floripa. \n Investimento: R$ 30 associado e R$ 60 não associado
URL:https://acif.org.br/evento/projecao-de-carreiras-e-ias/
LOCATION:ACIF Matriz\, Rua Emilio Blum\, 121\, Florianópolis\, Santa Catarina\, 88020010\, Brasil
CATEGORIES:Curso
ATTACH;FMTTYPE=image/jpeg:https://acif.org.br/wp-content/uploads/2024/09/Banner-Agenda.jpg
END:VEVENT
BEGIN:VEVENT
DTSTART;TZID=America/Sao_Paulo:20240926T190000
DTEND;TZID=America/Sao_Paulo:20240926T203000
DTSTAMP:20260422T222138
CREATED:20240703T201247Z
LAST-MODIFIED:20240703T201247Z
UID:10000955-1727377200-1727382600@acif.org.br
SUMMARY:Núcleo Setorial de Marketing
DESCRIPTION:Dúvidas? Entre em contato com a consultora Letícia Alves pelo (48)98816-9993
URL:https://acif.org.br/evento/nucleo-setorial-de-marketing/2024-09-26/
LOCATION:ACIF Matriz\, Rua Emilio Blum\, 121\, Florianópolis\, Santa Catarina\, 88020010\, Brasil
CATEGORIES:Reunião de núcleo
END:VEVENT
BEGIN:VEVENT
DTSTART;TZID=America/Sao_Paulo:20240926T090000
DTEND;TZID=America/Sao_Paulo:20240926T103000
DTSTAMP:20260422T222138
CREATED:20240201T142453Z
LAST-MODIFIED:20240709T184556Z
UID:10000978-1727341200-1727346600@acif.org.br
SUMMARY:Reunião Núcleo de Educação
DESCRIPTION:Dúvidas? Entre em contato com a consultora  Jéssika (48) 99988-2432
URL:https://acif.org.br/evento/reuniao-nucleo-de-educacao/2024-09-26/
LOCATION:ACIF Matriz\, Rua Emilio Blum\, 121\, Florianópolis\, Santa Catarina\, 88020010\, Brasil
CATEGORIES:Reunião de núcleo
END:VEVENT
BEGIN:VEVENT
DTSTART;TZID=America/Sao_Paulo:20240925T190000
DTEND;TZID=America/Sao_Paulo:20240925T203000
DTSTAMP:20260422T222138
CREATED:20240201T141345Z
LAST-MODIFIED:20240711T174726Z
UID:10000987-1727290800-1727296200@acif.org.br
SUMMARY:Reunião Núcleo de Advocacia
DESCRIPTION:Dúvidas? Fale com a consultora Jéssika pelo (48) 99988-2432
URL:https://acif.org.br/evento/reuniao-nucleo-de-advocacia/2024-09-25/
LOCATION:ACIF Matriz\, Rua Emilio Blum\, 121\, Florianópolis\, Santa Catarina\, 88020010\, Brasil
CATEGORIES:Reunião de núcleo
END:VEVENT
BEGIN:VEVENT
DTSTART;TZID=America/Sao_Paulo:20240924T083000
DTEND;TZID=America/Sao_Paulo:20240924T100000
DTSTAMP:20260422T222138
CREATED:20240703T192042Z
LAST-MODIFIED:20240709T172955Z
UID:10000919-1727166600-1727172000@acif.org.br
SUMMARY:Reunião do Núcleo Eventos Organizados
DESCRIPTION:
URL:https://acif.org.br/evento/reuniao-do-nucleo-eventos-organizados/2024-09-24/
LOCATION:ACIF Matriz\, Rua Emilio Blum\, 121\, Florianópolis\, Santa Catarina\, 88020010\, Brasil
CATEGORIES:Reunião de núcleo
END:VEVENT
BEGIN:VEVENT
DTSTART;TZID=America/Sao_Paulo:20240923T193000
DTEND;TZID=America/Sao_Paulo:20240923T210000
DTSTAMP:20260422T222138
CREATED:20240201T165041Z
LAST-MODIFIED:20240201T172000Z
UID:10000197-1727119800-1727125200@acif.org.br
SUMMARY:Reunião Núcleo Pet Shops
DESCRIPTION:Poderão participar do Núcleo empresas que se enquadrem nos respectivos códigos de atividade economica (CNAE): \n\n4789-0/04\n9609-2/07\n9609-2/08
URL:https://acif.org.br/evento/reuniao-nucleo-pet-shops/2024-09-23/
LOCATION:ACIF Matriz\, Rua Emilio Blum\, 121\, Florianópolis\, Santa Catarina\, 88020010\, Brasil
CATEGORIES:Reunião de núcleo
END:VEVENT
BEGIN:VEVENT
DTSTART;TZID=America/Sao_Paulo:20240923T190000
DTEND;TZID=America/Sao_Paulo:20240923T210000
DTSTAMP:20260422T222138
CREATED:20240702T184618Z
LAST-MODIFIED:20240702T184908Z
UID:10000800-1727118000-1727125200@acif.org.br
SUMMARY:Reunião ACIF Jovem
DESCRIPTION:Reunião Ordinária do Núcleo Jovem. \nLink Inscrição para visitantes: https://forms.gle/kGSZiwSWm5UwMcyY9 \nContato consultora: Letícia Alves (48)98816-9993 \n 
URL:https://acif.org.br/evento/reuniao-acif-jovem-5/2024-09-23/
LOCATION:ACIF Matriz\, Rua Emilio Blum\, 121\, Florianópolis\, Santa Catarina\, 88020010\, Brasil
CATEGORIES:Reunião de núcleo
END:VEVENT
BEGIN:VEVENT
DTSTART;TZID=America/Sao_Paulo:20240920T103000
DTEND;TZID=America/Sao_Paulo:20240920T120000
DTSTAMP:20260422T222138
CREATED:20240703T181412Z
LAST-MODIFIED:20240703T181412Z
UID:10000907-1726828200-1726833600@acif.org.br
SUMMARY:Reunião Núcleo Temático de Inovação
DESCRIPTION:Link para reunião: https://meet.google.com/tqn-bhzx-jsd \nDúvidas? Fale com a consultora Letícia pelo (48) 98816-9993
URL:https://acif.org.br/evento/reuniao-nucleo-tematico-de-inovacao/2024-09-20/
LOCATION:ACIF Matriz\, Rua Emilio Blum\, 121\, Florianópolis\, Santa Catarina\, 88020010\, Brasil
CATEGORIES:Reunião de núcleo
END:VEVENT
BEGIN:VEVENT
DTSTART;TZID=America/Sao_Paulo:20240919T160000
DTEND;TZID=America/Sao_Paulo:20240919T173000
DTSTAMP:20260422T222138
CREATED:20240702T195133Z
LAST-MODIFIED:20240702T195133Z
UID:10000837-1726761600-1726767000@acif.org.br
SUMMARY:Núcleo de Cooperativas
DESCRIPTION:
URL:https://acif.org.br/evento/nucleo-de-cooperativas/2024-09-19/
LOCATION:ACIF Matriz\, Rua Emilio Blum\, 121\, Florianópolis\, Santa Catarina\, 88020010\, Brasil
CATEGORIES:Reunião de núcleo
END:VEVENT
BEGIN:VEVENT
DTSTART;TZID=America/Sao_Paulo:20240917T173000
DTEND;TZID=America/Sao_Paulo:20240917T190000
DTSTAMP:20260422T222138
CREATED:20240703T165942Z
LAST-MODIFIED:20240703T165942Z
UID:10000870-1726594200-1726599600@acif.org.br
SUMMARY:Reunião Núcleo Coworking
DESCRIPTION:Link para reuniões online google meet:  https://meet.google.com/uqe-wkno-nqj\n  \nDúvidas: Consultora Andréa Firmo (48) 99988-0462
URL:https://acif.org.br/evento/reuniao-nucleo-coworking/2024-09-17/
LOCATION:ACIF Matriz\, Rua Emilio Blum\, 121\, Florianópolis\, Santa Catarina\, 88020010\, Brasil
CATEGORIES:Reunião de núcleo
END:VEVENT
BEGIN:VEVENT
DTSTART;TZID=America/Sao_Paulo:20240916T190000
DTEND;TZID=America/Sao_Paulo:20240916T203000
DTSTAMP:20260422T222138
CREATED:20240702T193715Z
LAST-MODIFIED:20240702T193836Z
UID:10000817-1726513200-1726518600@acif.org.br
SUMMARY:Reunião Núcleo Condomínios
DESCRIPTION:
URL:https://acif.org.br/evento/reuniao-nucleo-condominios/2024-09-16/
LOCATION:ACIF Matriz\, Rua Emilio Blum\, 121\, Florianópolis\, Santa Catarina\, 88020010\, Brasil
CATEGORIES:Reunião de núcleo
END:VEVENT
BEGIN:VEVENT
DTSTART;TZID=America/Sao_Paulo:20240916T180000
DTEND;TZID=America/Sao_Paulo:20240916T193000
DTSTAMP:20260422T222138
CREATED:20240703T172017Z
LAST-MODIFIED:20240703T172919Z
UID:10000893-1726509600-1726515000@acif.org.br
SUMMARY:Reunião Núcleo Guias de Turismo
DESCRIPTION:Link google meet: https://meet.google.com/hfy-wfcr-aew \n  \nDúvidas? Entre em contato pelo 48 99118-5881 e fale com Maísa.
URL:https://acif.org.br/evento/reuniao-nucleo-guias-de-turismo/2024-09-16/
LOCATION:ACIF Matriz\, Rua Emilio Blum\, 121\, Florianópolis\, Santa Catarina\, 88020010\, Brasil
CATEGORIES:Reunião de núcleo
END:VEVENT
BEGIN:VEVENT
DTSTART;TZID=America/Sao_Paulo:20240916T140000
DTEND;TZID=America/Sao_Paulo:20240916T160000
DTSTAMP:20260422T222138
CREATED:20240702T194655Z
LAST-MODIFIED:20240702T194655Z
UID:10000829-1726495200-1726502400@acif.org.br
SUMMARY:Núcleo Consultoria de Imagem
DESCRIPTION:Link da Reunião: meet.google.com/eui-rahd-dmv  \n 
URL:https://acif.org.br/evento/nucleo-consultoria-de-imagem/2024-09-16/
LOCATION:ACIF Matriz\, Rua Emilio Blum\, 121\, Florianópolis\, Santa Catarina\, 88020010\, Brasil
CATEGORIES:Reunião de núcleo
END:VEVENT
BEGIN:VEVENT
DTSTART;TZID=America/Sao_Paulo:20240912T190000
DTEND;TZID=America/Sao_Paulo:20240912T203000
DTSTAMP:20260422T222138
CREATED:20240703T201247Z
LAST-MODIFIED:20240703T201247Z
UID:10000954-1726167600-1726173000@acif.org.br
SUMMARY:Núcleo Setorial de Marketing
DESCRIPTION:Dúvidas? Entre em contato com a consultora Letícia Alves pelo (48)98816-9993
URL:https://acif.org.br/evento/nucleo-setorial-de-marketing/2024-09-12/
LOCATION:ACIF Matriz\, Rua Emilio Blum\, 121\, Florianópolis\, Santa Catarina\, 88020010\, Brasil
CATEGORIES:Reunião de núcleo
END:VEVENT
BEGIN:VEVENT
DTSTART;TZID=America/Sao_Paulo:20240912T090000
DTEND;TZID=America/Sao_Paulo:20240912T103000
DTSTAMP:20260422T222138
CREATED:20240201T142453Z
LAST-MODIFIED:20240709T184556Z
UID:10000977-1726131600-1726137000@acif.org.br
SUMMARY:Reunião Núcleo de Educação
DESCRIPTION:Dúvidas? Entre em contato com a consultora  Jéssika (48) 99988-2432
URL:https://acif.org.br/evento/reuniao-nucleo-de-educacao/2024-09-12/
LOCATION:ACIF Matriz\, Rua Emilio Blum\, 121\, Florianópolis\, Santa Catarina\, 88020010\, Brasil
CATEGORIES:Reunião de núcleo
END:VEVENT
BEGIN:VEVENT
DTSTART;TZID=America/Sao_Paulo:20240911T190000
DTEND;TZID=America/Sao_Paulo:20240911T203000
DTSTAMP:20260422T222138
CREATED:20240201T141345Z
LAST-MODIFIED:20240711T174726Z
UID:10000986-1726081200-1726086600@acif.org.br
SUMMARY:Reunião Núcleo de Advocacia
DESCRIPTION:Dúvidas? Fale com a consultora Jéssika pelo (48) 99988-2432
URL:https://acif.org.br/evento/reuniao-nucleo-de-advocacia/2024-09-11/
LOCATION:ACIF Matriz\, Rua Emilio Blum\, 121\, Florianópolis\, Santa Catarina\, 88020010\, Brasil
CATEGORIES:Reunião de núcleo
END:VEVENT
BEGIN:VEVENT
DTSTART;TZID=America/Sao_Paulo:20240910T083000
DTEND;TZID=America/Sao_Paulo:20240910T100000
DTSTAMP:20260422T222138
CREATED:20240703T192042Z
LAST-MODIFIED:20240709T172955Z
UID:10000918-1725957000-1725962400@acif.org.br
SUMMARY:Reunião do Núcleo Eventos Organizados
DESCRIPTION:
URL:https://acif.org.br/evento/reuniao-do-nucleo-eventos-organizados/2024-09-10/
LOCATION:ACIF Matriz\, Rua Emilio Blum\, 121\, Florianópolis\, Santa Catarina\, 88020010\, Brasil
CATEGORIES:Reunião de núcleo
END:VEVENT
BEGIN:VEVENT
DTSTART;TZID=America/Sao_Paulo:20240909T193000
DTEND;TZID=America/Sao_Paulo:20240909T210000
DTSTAMP:20260422T222138
CREATED:20240201T165041Z
LAST-MODIFIED:20240201T172000Z
UID:10000196-1725910200-1725915600@acif.org.br
SUMMARY:Reunião Núcleo Pet Shops
DESCRIPTION:Poderão participar do Núcleo empresas que se enquadrem nos respectivos códigos de atividade economica (CNAE): \n\n4789-0/04\n9609-2/07\n9609-2/08
URL:https://acif.org.br/evento/reuniao-nucleo-pet-shops/2024-09-09/
LOCATION:ACIF Matriz\, Rua Emilio Blum\, 121\, Florianópolis\, Santa Catarina\, 88020010\, Brasil
CATEGORIES:Reunião de núcleo
END:VEVENT
BEGIN:VEVENT
DTSTART;TZID=America/Sao_Paulo:20240909T190000
DTEND;TZID=America/Sao_Paulo:20240909T210000
DTSTAMP:20260422T222138
CREATED:20240702T184618Z
LAST-MODIFIED:20240702T184908Z
UID:10000799-1725908400-1725915600@acif.org.br
SUMMARY:Reunião ACIF Jovem
DESCRIPTION:Reunião Ordinária do Núcleo Jovem. \nLink Inscrição para visitantes: https://forms.gle/kGSZiwSWm5UwMcyY9 \nContato consultora: Letícia Alves (48)98816-9993 \n 
URL:https://acif.org.br/evento/reuniao-acif-jovem-5/2024-09-09/
LOCATION:ACIF Matriz\, Rua Emilio Blum\, 121\, Florianópolis\, Santa Catarina\, 88020010\, Brasil
CATEGORIES:Reunião de núcleo
END:VEVENT
BEGIN:VEVENT
DTSTART;TZID=America/Sao_Paulo:20240906T103000
DTEND;TZID=America/Sao_Paulo:20240906T120000
DTSTAMP:20260422T222138
CREATED:20240703T181412Z
LAST-MODIFIED:20240703T181412Z
UID:10000906-1725618600-1725624000@acif.org.br
SUMMARY:Reunião Núcleo Temático de Inovação
DESCRIPTION:Link para reunião: https://meet.google.com/tqn-bhzx-jsd \nDúvidas? Fale com a consultora Letícia pelo (48) 98816-9993
URL:https://acif.org.br/evento/reuniao-nucleo-tematico-de-inovacao/2024-09-06/
LOCATION:ACIF Matriz\, Rua Emilio Blum\, 121\, Florianópolis\, Santa Catarina\, 88020010\, Brasil
CATEGORIES:Reunião de núcleo
END:VEVENT
BEGIN:VEVENT
DTSTART;TZID=America/Sao_Paulo:20240904T190000
DTEND;TZID=America/Sao_Paulo:20240904T203000
DTSTAMP:20260422T222138
CREATED:20240702T191141Z
LAST-MODIFIED:20240702T191141Z
UID:10000808-1725476400-1725481800@acif.org.br
SUMMARY:Reunião Conselho de Núcleos
DESCRIPTION:Reunião para Coordenadores de Núcleos. \n 
URL:https://acif.org.br/evento/reuniao-conselho-de-nucleos/2024-09-04/
LOCATION:ACIF Matriz\, Rua Emilio Blum\, 121\, Florianópolis\, Santa Catarina\, 88020010\, Brasil
CATEGORIES:Reunião de núcleo
END:VEVENT
BEGIN:VEVENT
DTSTART;TZID=America/Sao_Paulo:20240903T110000
DTEND;TZID=America/Sao_Paulo:20240903T123000
DTSTAMP:20260422T222138
CREATED:20240703T165942Z
LAST-MODIFIED:20240703T165942Z
UID:10000869-1725361200-1725366600@acif.org.br
SUMMARY:Reunião Núcleo Coworking
DESCRIPTION:Link para reuniões online google meet:  https://meet.google.com/uqe-wkno-nqj\n  \nDúvidas: Consultora Andréa Firmo (48) 99988-0462
URL:https://acif.org.br/evento/reuniao-nucleo-coworking/2024-09-03/
LOCATION:ACIF Matriz\, Rua Emilio Blum\, 121\, Florianópolis\, Santa Catarina\, 88020010\, Brasil
CATEGORIES:Reunião de núcleo
END:VEVENT
BEGIN:VEVENT
DTSTART;TZID=America/Sao_Paulo:20240902T190000
DTEND;TZID=America/Sao_Paulo:20240902T203000
DTSTAMP:20260422T222138
CREATED:20240702T193715Z
LAST-MODIFIED:20240702T193836Z
UID:10000816-1725303600-1725309000@acif.org.br
SUMMARY:Reunião Núcleo Condomínios
DESCRIPTION:
URL:https://acif.org.br/evento/reuniao-nucleo-condominios/2024-09-02/
LOCATION:ACIF Matriz\, Rua Emilio Blum\, 121\, Florianópolis\, Santa Catarina\, 88020010\, Brasil
CATEGORIES:Reunião de núcleo
END:VEVENT
END:VCALENDAR