BEGIN:VCALENDAR
VERSION:2.0
PRODID:-//ACIF - ECPv6.14.0//NONSGML v1.0//EN
CALSCALE:GREGORIAN
METHOD:PUBLISH
X-WR-CALNAME:ACIF
X-ORIGINAL-URL:https://acif.org.br
X-WR-CALDESC:Eventos para ACIF
REFRESH-INTERVAL;VALUE=DURATION:PT1H
X-Robots-Tag:noindex
X-PUBLISHED-TTL:PT1H
BEGIN:VTIMEZONE
TZID:America/Sao_Paulo
BEGIN:STANDARD
TZOFFSETFROM:-0300
TZOFFSETTO:-0300
TZNAME:-03
DTSTART:20240101T000000
END:STANDARD
END:VTIMEZONE
BEGIN:VEVENT
DTSTART;TZID=America/Sao_Paulo:20241118T190000
DTEND;TZID=America/Sao_Paulo:20241118T203000
DTSTAMP:20260422T174517
CREATED:20240702T193715Z
LAST-MODIFIED:20240702T193836Z
UID:10000822-1731956400-1731961800@acif.org.br
SUMMARY:Reunião Núcleo Condomínios
DESCRIPTION:
URL:https://acif.org.br/evento/reuniao-nucleo-condominios/2024-11-18/
LOCATION:ACIF Matriz\, Rua Emilio Blum\, 121\, Florianópolis\, Santa Catarina\, 88020010\, Brasil
CATEGORIES:Reunião de núcleo
END:VEVENT
BEGIN:VEVENT
DTSTART;TZID=America/Sao_Paulo:20241118T143000
DTEND;TZID=America/Sao_Paulo:20241118T160000
DTSTAMP:20260422T174517
CREATED:20240702T194655Z
LAST-MODIFIED:20240702T194655Z
UID:10000834-1731940200-1731945600@acif.org.br
SUMMARY:Núcleo Consultoria de Imagem
DESCRIPTION:Link da Reunião: meet.google.com/eui-rahd-dmv  \n 
URL:https://acif.org.br/evento/nucleo-consultoria-de-imagem/2024-11-18/
LOCATION:ACIF Matriz\, Rua Emilio Blum\, 121\, Florianópolis\, Santa Catarina\, 88020010\, Brasil
CATEGORIES:Reunião de núcleo
END:VEVENT
BEGIN:VEVENT
DTSTART;TZID=America/Sao_Paulo:20241114T190000
DTEND;TZID=America/Sao_Paulo:20241114T203000
DTSTAMP:20260422T174517
CREATED:20240703T201247Z
LAST-MODIFIED:20240703T201247Z
UID:10000958-1731610800-1731616200@acif.org.br
SUMMARY:Núcleo Setorial de Marketing
DESCRIPTION:Dúvidas? Entre em contato com a consultora Letícia Alves pelo (48)98816-9993
URL:https://acif.org.br/evento/nucleo-setorial-de-marketing/2024-11-14/
LOCATION:ACIF Matriz\, Rua Emilio Blum\, 121\, Florianópolis\, Santa Catarina\, 88020010\, Brasil
CATEGORIES:Reunião de núcleo
END:VEVENT
BEGIN:VEVENT
DTSTART;TZID=America/Sao_Paulo:20241114T160000
DTEND;TZID=America/Sao_Paulo:20241114T173000
DTSTAMP:20260422T174517
CREATED:20240702T195133Z
LAST-MODIFIED:20240702T195133Z
UID:10000839-1731600000-1731605400@acif.org.br
SUMMARY:Núcleo de Cooperativas
DESCRIPTION:
URL:https://acif.org.br/evento/nucleo-de-cooperativas/2024-11-14/
LOCATION:ACIF Matriz\, Rua Emilio Blum\, 121\, Florianópolis\, Santa Catarina\, 88020010\, Brasil
CATEGORIES:Reunião de núcleo
END:VEVENT
BEGIN:VEVENT
DTSTART;TZID=America/Sao_Paulo:20241114T090000
DTEND;TZID=America/Sao_Paulo:20241114T103000
DTSTAMP:20260422T174517
CREATED:20240201T142453Z
LAST-MODIFIED:20240709T184556Z
UID:10000913-1731574800-1731580200@acif.org.br
SUMMARY:Reunião Núcleo de Educação
DESCRIPTION:Dúvidas? Entre em contato com a consultora  Jéssika (48) 99988-2432
URL:https://acif.org.br/evento/reuniao-nucleo-de-educacao/2024-11-14/
LOCATION:ACIF Matriz\, Rua Emilio Blum\, 121\, Florianópolis\, Santa Catarina\, 88020010\, Brasil
CATEGORIES:Reunião de núcleo
END:VEVENT
BEGIN:VEVENT
DTSTART;TZID=America/Sao_Paulo:20241113T190000
DTEND;TZID=America/Sao_Paulo:20241113T203000
DTSTAMP:20260422T174517
CREATED:20240702T191141Z
LAST-MODIFIED:20240702T191141Z
UID:10000810-1731524400-1731529800@acif.org.br
SUMMARY:Reunião Conselho de Núcleos
DESCRIPTION:Reunião para Coordenadores de Núcleos. \n 
URL:https://acif.org.br/evento/reuniao-conselho-de-nucleos/2024-11-13/
LOCATION:ACIF Matriz\, Rua Emilio Blum\, 121\, Florianópolis\, Santa Catarina\, 88020010\, Brasil
CATEGORIES:Reunião de núcleo
END:VEVENT
BEGIN:VEVENT
DTSTART;TZID=America/Sao_Paulo:20241112T173000
DTEND;TZID=America/Sao_Paulo:20241112T190000
DTSTAMP:20260422T174517
CREATED:20240703T165942Z
LAST-MODIFIED:20240703T165942Z
UID:10000874-1731432600-1731438000@acif.org.br
SUMMARY:Reunião Núcleo Coworking
DESCRIPTION:Link para reuniões online google meet:  https://meet.google.com/uqe-wkno-nqj\n  \nDúvidas: Consultora Andréa Firmo (48) 99988-0462
URL:https://acif.org.br/evento/reuniao-nucleo-coworking/2024-11-12/
LOCATION:ACIF Matriz\, Rua Emilio Blum\, 121\, Florianópolis\, Santa Catarina\, 88020010\, Brasil
CATEGORIES:Reunião de núcleo
END:VEVENT
BEGIN:VEVENT
DTSTART;TZID=America/Sao_Paulo:20241111T180000
DTEND;TZID=America/Sao_Paulo:20241111T193000
DTSTAMP:20260422T174517
CREATED:20240703T172017Z
LAST-MODIFIED:20240703T172919Z
UID:10000897-1731348000-1731353400@acif.org.br
SUMMARY:Reunião Núcleo Guias de Turismo
DESCRIPTION:Link google meet: https://meet.google.com/hfy-wfcr-aew \n  \nDúvidas? Entre em contato pelo 48 99118-5881 e fale com Maísa.
URL:https://acif.org.br/evento/reuniao-nucleo-guias-de-turismo/2024-11-11/
LOCATION:ACIF Matriz\, Rua Emilio Blum\, 121\, Florianópolis\, Santa Catarina\, 88020010\, Brasil
CATEGORIES:Reunião de núcleo
END:VEVENT
BEGIN:VEVENT
DTSTART;TZID=America/Sao_Paulo:20241107T090000
DTEND;TZID=America/Sao_Paulo:20241107T103000
DTSTAMP:20260422T174517
CREATED:20240201T142453Z
LAST-MODIFIED:20240709T184556Z
UID:10000980-1730970000-1730975400@acif.org.br
SUMMARY:Reunião Núcleo de Educação
DESCRIPTION:Dúvidas? Entre em contato com a consultora  Jéssika (48) 99988-2432
URL:https://acif.org.br/evento/reuniao-nucleo-de-educacao/2024-11-07/
LOCATION:ACIF Matriz\, Rua Emilio Blum\, 121\, Florianópolis\, Santa Catarina\, 88020010\, Brasil
CATEGORIES:Reunião de núcleo
END:VEVENT
BEGIN:VEVENT
DTSTART;TZID=America/Sao_Paulo:20241106T190000
DTEND;TZID=America/Sao_Paulo:20241106T203000
DTSTAMP:20260422T174517
CREATED:20240201T141345Z
LAST-MODIFIED:20240711T174726Z
UID:10000990-1730919600-1730925000@acif.org.br
SUMMARY:Reunião Núcleo de Advocacia
DESCRIPTION:Dúvidas? Fale com a consultora Jéssika pelo (48) 99988-2432
URL:https://acif.org.br/evento/reuniao-nucleo-de-advocacia/2024-11-06/
LOCATION:ACIF Matriz\, Rua Emilio Blum\, 121\, Florianópolis\, Santa Catarina\, 88020010\, Brasil
CATEGORIES:Reunião de núcleo
END:VEVENT
BEGIN:VEVENT
DTSTART;TZID=America/Sao_Paulo:20241105T083000
DTEND;TZID=America/Sao_Paulo:20241105T100000
DTSTAMP:20260422T174517
CREATED:20240703T192042Z
LAST-MODIFIED:20240709T172955Z
UID:10000922-1730795400-1730800800@acif.org.br
SUMMARY:Reunião do Núcleo Eventos Organizados
DESCRIPTION:
URL:https://acif.org.br/evento/reuniao-do-nucleo-eventos-organizados/2024-11-05/
LOCATION:ACIF Matriz\, Rua Emilio Blum\, 121\, Florianópolis\, Santa Catarina\, 88020010\, Brasil
CATEGORIES:Reunião de núcleo
END:VEVENT
BEGIN:VEVENT
DTSTART;TZID=America/Sao_Paulo:20241104T193000
DTEND;TZID=America/Sao_Paulo:20241104T210000
DTSTAMP:20260422T174517
CREATED:20240201T165041Z
LAST-MODIFIED:20240201T172000Z
UID:10000200-1730748600-1730754000@acif.org.br
SUMMARY:Reunião Núcleo Pet Shops
DESCRIPTION:Poderão participar do Núcleo empresas que se enquadrem nos respectivos códigos de atividade economica (CNAE): \n\n4789-0/04\n9609-2/07\n9609-2/08
URL:https://acif.org.br/evento/reuniao-nucleo-pet-shops/2024-11-04/
LOCATION:ACIF Matriz\, Rua Emilio Blum\, 121\, Florianópolis\, Santa Catarina\, 88020010\, Brasil
CATEGORIES:Reunião de núcleo
END:VEVENT
BEGIN:VEVENT
DTSTART;TZID=America/Sao_Paulo:20241104T190000
DTEND;TZID=America/Sao_Paulo:20241104T210000
DTSTAMP:20260422T174517
CREATED:20240702T184618Z
LAST-MODIFIED:20240702T184908Z
UID:10000803-1730746800-1730754000@acif.org.br
SUMMARY:Reunião ACIF Jovem
DESCRIPTION:Reunião Ordinária do Núcleo Jovem. \nLink Inscrição para visitantes: https://forms.gle/kGSZiwSWm5UwMcyY9 \nContato consultora: Letícia Alves (48)98816-9993 \n 
URL:https://acif.org.br/evento/reuniao-acif-jovem-5/2024-11-04/
LOCATION:ACIF Matriz\, Rua Emilio Blum\, 121\, Florianópolis\, Santa Catarina\, 88020010\, Brasil
CATEGORIES:Reunião de núcleo
END:VEVENT
BEGIN:VEVENT
DTSTART;TZID=America/Sao_Paulo:20241104T190000
DTEND;TZID=America/Sao_Paulo:20241104T203000
DTSTAMP:20260422T174517
CREATED:20240702T193715Z
LAST-MODIFIED:20240702T193836Z
UID:10000821-1730746800-1730752200@acif.org.br
SUMMARY:Reunião Núcleo Condomínios
DESCRIPTION:
URL:https://acif.org.br/evento/reuniao-nucleo-condominios/2024-11-04/
LOCATION:ACIF Matriz\, Rua Emilio Blum\, 121\, Florianópolis\, Santa Catarina\, 88020010\, Brasil
CATEGORIES:Reunião de núcleo
END:VEVENT
BEGIN:VEVENT
DTSTART;TZID=America/Sao_Paulo:20241104T143000
DTEND;TZID=America/Sao_Paulo:20241104T160000
DTSTAMP:20260422T174517
CREATED:20240702T194655Z
LAST-MODIFIED:20240702T194655Z
UID:10000833-1730730600-1730736000@acif.org.br
SUMMARY:Núcleo Consultoria de Imagem
DESCRIPTION:Link da Reunião: meet.google.com/eui-rahd-dmv  \n 
URL:https://acif.org.br/evento/nucleo-consultoria-de-imagem/2024-11-04/
LOCATION:ACIF Matriz\, Rua Emilio Blum\, 121\, Florianópolis\, Santa Catarina\, 88020010\, Brasil
CATEGORIES:Reunião de núcleo
END:VEVENT
BEGIN:VEVENT
DTSTART;TZID=America/Sao_Paulo:20241101T103000
DTEND;TZID=America/Sao_Paulo:20241101T120000
DTSTAMP:20260422T174517
CREATED:20240703T181412Z
LAST-MODIFIED:20240703T181412Z
UID:10000910-1730457000-1730462400@acif.org.br
SUMMARY:Reunião Núcleo Temático de Inovação
DESCRIPTION:Link para reunião: https://meet.google.com/tqn-bhzx-jsd \nDúvidas? Fale com a consultora Letícia pelo (48) 98816-9993
URL:https://acif.org.br/evento/reuniao-nucleo-tematico-de-inovacao/2024-11-01/
LOCATION:ACIF Matriz\, Rua Emilio Blum\, 121\, Florianópolis\, Santa Catarina\, 88020010\, Brasil
CATEGORIES:Reunião de núcleo
END:VEVENT
BEGIN:VEVENT
DTSTART;TZID=America/Sao_Paulo:20241029T110000
DTEND;TZID=America/Sao_Paulo:20241029T123000
DTSTAMP:20260422T174517
CREATED:20240703T165942Z
LAST-MODIFIED:20240703T165942Z
UID:10000873-1730199600-1730205000@acif.org.br
SUMMARY:Reunião Núcleo Coworking
DESCRIPTION:Link para reuniões online google meet:  https://meet.google.com/uqe-wkno-nqj\n  \nDúvidas: Consultora Andréa Firmo (48) 99988-0462
URL:https://acif.org.br/evento/reuniao-nucleo-coworking/2024-10-29/
LOCATION:ACIF Matriz\, Rua Emilio Blum\, 121\, Florianópolis\, Santa Catarina\, 88020010\, Brasil
CATEGORIES:Reunião de núcleo
END:VEVENT
BEGIN:VEVENT
DTSTART;TZID=America/Sao_Paulo:20241028T180000
DTEND;TZID=America/Sao_Paulo:20241028T193000
DTSTAMP:20260422T174517
CREATED:20240703T172017Z
LAST-MODIFIED:20240703T172919Z
UID:10000896-1730138400-1730143800@acif.org.br
SUMMARY:Reunião Núcleo Guias de Turismo
DESCRIPTION:Link google meet: https://meet.google.com/hfy-wfcr-aew \n  \nDúvidas? Entre em contato pelo 48 99118-5881 e fale com Maísa.
URL:https://acif.org.br/evento/reuniao-nucleo-guias-de-turismo/2024-10-28/
LOCATION:ACIF Matriz\, Rua Emilio Blum\, 121\, Florianópolis\, Santa Catarina\, 88020010\, Brasil
CATEGORIES:Reunião de núcleo
END:VEVENT
BEGIN:VEVENT
DTSTART;TZID=America/Sao_Paulo:20241024T190000
DTEND;TZID=America/Sao_Paulo:20241024T203000
DTSTAMP:20260422T174517
CREATED:20240703T201247Z
LAST-MODIFIED:20240703T201247Z
UID:10000957-1729796400-1729801800@acif.org.br
SUMMARY:Núcleo Setorial de Marketing
DESCRIPTION:Dúvidas? Entre em contato com a consultora Letícia Alves pelo (48)98816-9993
URL:https://acif.org.br/evento/nucleo-setorial-de-marketing/2024-10-24/
LOCATION:ACIF Matriz\, Rua Emilio Blum\, 121\, Florianópolis\, Santa Catarina\, 88020010\, Brasil
CATEGORIES:Reunião de núcleo
END:VEVENT
BEGIN:VEVENT
DTSTART;TZID=America/Sao_Paulo:20241023T190000
DTEND;TZID=America/Sao_Paulo:20241023T203000
DTSTAMP:20260422T174517
CREATED:20240201T141345Z
LAST-MODIFIED:20240711T174726Z
UID:10000989-1729710000-1729715400@acif.org.br
SUMMARY:Reunião Núcleo de Advocacia
DESCRIPTION:Dúvidas? Fale com a consultora Jéssika pelo (48) 99988-2432
URL:https://acif.org.br/evento/reuniao-nucleo-de-advocacia/2024-10-23/
LOCATION:ACIF Matriz\, Rua Emilio Blum\, 121\, Florianópolis\, Santa Catarina\, 88020010\, Brasil
CATEGORIES:Reunião de núcleo
END:VEVENT
BEGIN:VEVENT
DTSTART;TZID=America/Sao_Paulo:20241022T083000
DTEND;TZID=America/Sao_Paulo:20241022T100000
DTSTAMP:20260422T174517
CREATED:20240703T192042Z
LAST-MODIFIED:20240709T172955Z
UID:10000921-1729585800-1729591200@acif.org.br
SUMMARY:Reunião do Núcleo Eventos Organizados
DESCRIPTION:
URL:https://acif.org.br/evento/reuniao-do-nucleo-eventos-organizados/2024-10-22/
LOCATION:ACIF Matriz\, Rua Emilio Blum\, 121\, Florianópolis\, Santa Catarina\, 88020010\, Brasil
CATEGORIES:Reunião de núcleo
END:VEVENT
BEGIN:VEVENT
DTSTART;TZID=America/Sao_Paulo:20241021T193000
DTEND;TZID=America/Sao_Paulo:20241021T210000
DTSTAMP:20260422T174517
CREATED:20240201T165041Z
LAST-MODIFIED:20240201T172000Z
UID:10000199-1729539000-1729544400@acif.org.br
SUMMARY:Reunião Núcleo Pet Shops
DESCRIPTION:Poderão participar do Núcleo empresas que se enquadrem nos respectivos códigos de atividade economica (CNAE): \n\n4789-0/04\n9609-2/07\n9609-2/08
URL:https://acif.org.br/evento/reuniao-nucleo-pet-shops/2024-10-21/
LOCATION:ACIF Matriz\, Rua Emilio Blum\, 121\, Florianópolis\, Santa Catarina\, 88020010\, Brasil
CATEGORIES:Reunião de núcleo
END:VEVENT
BEGIN:VEVENT
DTSTART;TZID=America/Sao_Paulo:20241021T190000
DTEND;TZID=America/Sao_Paulo:20241021T210000
DTSTAMP:20260422T174517
CREATED:20240702T184618Z
LAST-MODIFIED:20240702T184908Z
UID:10000802-1729537200-1729544400@acif.org.br
SUMMARY:Reunião ACIF Jovem
DESCRIPTION:Reunião Ordinária do Núcleo Jovem. \nLink Inscrição para visitantes: https://forms.gle/kGSZiwSWm5UwMcyY9 \nContato consultora: Letícia Alves (48)98816-9993 \n 
URL:https://acif.org.br/evento/reuniao-acif-jovem-5/2024-10-21/
LOCATION:ACIF Matriz\, Rua Emilio Blum\, 121\, Florianópolis\, Santa Catarina\, 88020010\, Brasil
CATEGORIES:Reunião de núcleo
END:VEVENT
BEGIN:VEVENT
DTSTART;TZID=America/Sao_Paulo:20241021T190000
DTEND;TZID=America/Sao_Paulo:20241021T203000
DTSTAMP:20260422T174517
CREATED:20240702T193715Z
LAST-MODIFIED:20240702T193836Z
UID:10000820-1729537200-1729542600@acif.org.br
SUMMARY:Reunião Núcleo Condomínios
DESCRIPTION:
URL:https://acif.org.br/evento/reuniao-nucleo-condominios/2024-10-21/
LOCATION:ACIF Matriz\, Rua Emilio Blum\, 121\, Florianópolis\, Santa Catarina\, 88020010\, Brasil
CATEGORIES:Reunião de núcleo
END:VEVENT
BEGIN:VEVENT
DTSTART;TZID=America/Sao_Paulo:20241021T140000
DTEND;TZID=America/Sao_Paulo:20241021T153000
DTSTAMP:20260422T174517
CREATED:20240702T194655Z
LAST-MODIFIED:20240702T194655Z
UID:10000832-1729519200-1729524600@acif.org.br
SUMMARY:Núcleo Consultoria de Imagem
DESCRIPTION:Link da Reunião: meet.google.com/eui-rahd-dmv  \n 
URL:https://acif.org.br/evento/nucleo-consultoria-de-imagem/2024-10-21/
LOCATION:ACIF Matriz\, Rua Emilio Blum\, 121\, Florianópolis\, Santa Catarina\, 88020010\, Brasil
CATEGORIES:Reunião de núcleo
END:VEVENT
BEGIN:VEVENT
DTSTART;TZID=America/Sao_Paulo:20241018T103000
DTEND;TZID=America/Sao_Paulo:20241018T120000
DTSTAMP:20260422T174517
CREATED:20240703T181412Z
LAST-MODIFIED:20240703T181412Z
UID:10000909-1729247400-1729252800@acif.org.br
SUMMARY:Reunião Núcleo Temático de Inovação
DESCRIPTION:Link para reunião: https://meet.google.com/tqn-bhzx-jsd \nDúvidas? Fale com a consultora Letícia pelo (48) 98816-9993
URL:https://acif.org.br/evento/reuniao-nucleo-tematico-de-inovacao/2024-10-18/
LOCATION:ACIF Matriz\, Rua Emilio Blum\, 121\, Florianópolis\, Santa Catarina\, 88020010\, Brasil
CATEGORIES:Reunião de núcleo
END:VEVENT
BEGIN:VEVENT
DTSTART;TZID=America/Sao_Paulo:20241017T160000
DTEND;TZID=America/Sao_Paulo:20241017T173000
DTSTAMP:20260422T174517
CREATED:20240702T195133Z
LAST-MODIFIED:20240702T195133Z
UID:10000838-1729180800-1729186200@acif.org.br
SUMMARY:Núcleo de Cooperativas
DESCRIPTION:
URL:https://acif.org.br/evento/nucleo-de-cooperativas/2024-10-17/
LOCATION:ACIF Matriz\, Rua Emilio Blum\, 121\, Florianópolis\, Santa Catarina\, 88020010\, Brasil
CATEGORIES:Reunião de núcleo
END:VEVENT
BEGIN:VEVENT
DTSTART;TZID=America/Sao_Paulo:20241015T173000
DTEND;TZID=America/Sao_Paulo:20241015T190000
DTSTAMP:20260422T174517
CREATED:20240703T165942Z
LAST-MODIFIED:20240703T165942Z
UID:10000872-1729013400-1729018800@acif.org.br
SUMMARY:Reunião Núcleo Coworking
DESCRIPTION:Link para reuniões online google meet:  https://meet.google.com/uqe-wkno-nqj\n  \nDúvidas: Consultora Andréa Firmo (48) 99988-0462
URL:https://acif.org.br/evento/reuniao-nucleo-coworking/2024-10-15/
LOCATION:ACIF Matriz\, Rua Emilio Blum\, 121\, Florianópolis\, Santa Catarina\, 88020010\, Brasil
CATEGORIES:Reunião de núcleo
END:VEVENT
BEGIN:VEVENT
DTSTART;TZID=America/Sao_Paulo:20241014T180000
DTEND;TZID=America/Sao_Paulo:20241014T193000
DTSTAMP:20260422T174517
CREATED:20240703T172017Z
LAST-MODIFIED:20240703T172919Z
UID:10000895-1728928800-1728934200@acif.org.br
SUMMARY:Reunião Núcleo Guias de Turismo
DESCRIPTION:Link google meet: https://meet.google.com/hfy-wfcr-aew \n  \nDúvidas? Entre em contato pelo 48 99118-5881 e fale com Maísa.
URL:https://acif.org.br/evento/reuniao-nucleo-guias-de-turismo/2024-10-14/
LOCATION:ACIF Matriz\, Rua Emilio Blum\, 121\, Florianópolis\, Santa Catarina\, 88020010\, Brasil
CATEGORIES:Reunião de núcleo
END:VEVENT
BEGIN:VEVENT
DTSTART;TZID=America/Sao_Paulo:20241010T190000
DTEND;TZID=America/Sao_Paulo:20241010T203000
DTSTAMP:20260422T174517
CREATED:20240703T201247Z
LAST-MODIFIED:20240703T201247Z
UID:10000956-1728586800-1728592200@acif.org.br
SUMMARY:Núcleo Setorial de Marketing
DESCRIPTION:Dúvidas? Entre em contato com a consultora Letícia Alves pelo (48)98816-9993
URL:https://acif.org.br/evento/nucleo-setorial-de-marketing/2024-10-10/
LOCATION:ACIF Matriz\, Rua Emilio Blum\, 121\, Florianópolis\, Santa Catarina\, 88020010\, Brasil
CATEGORIES:Reunião de núcleo
END:VEVENT
END:VCALENDAR