BEGIN:VCALENDAR
VERSION:2.0
PRODID:-//ACIF - ECPv6.14.0//NONSGML v1.0//EN
CALSCALE:GREGORIAN
METHOD:PUBLISH
X-ORIGINAL-URL:https://acif.org.br
X-WR-CALDESC:Eventos para ACIF
REFRESH-INTERVAL;VALUE=DURATION:PT1H
X-Robots-Tag:noindex
X-PUBLISHED-TTL:PT1H
BEGIN:VTIMEZONE
TZID:America/Sao_Paulo
BEGIN:STANDARD
TZOFFSETFROM:-0300
TZOFFSETTO:-0300
TZNAME:-03
DTSTART:20250101T000000
END:STANDARD
END:VTIMEZONE
BEGIN:VEVENT
DTSTART;TZID=America/Sao_Paulo:20250529T200000
DTEND;TZID=America/Sao_Paulo:20250529T213000
DTSTAMP:20260422T123209
CREATED:20250409T194956Z
LAST-MODIFIED:20250409T194956Z
UID:10001424-1748548800-1748554200@acif.org.br
SUMMARY:Reunião Ordinária Reparação Automotiva
DESCRIPTION:Caso tenha interesse em participar!\nEntre em contato com: \nAndréa Firmo da Silva– Consultora de Núcleos \nTel.: 48 99988-0462 – andrea.firmo@acif.org.br
URL:https://acif.org.br/evento/reuniao-ordinaria-reparacao-automotiva/2025-05-29/
LOCATION:ACIF Matriz\, Rua Emilio Blum\, 121\, Florianópolis\, Santa Catarina\, 88020010\, Brasil
CATEGORIES:Reunião de núcleo
ATTACH;FMTTYPE=image/png:https://acif.org.br/wp-content/uploads/2025/02/ACIF-NUCLEO-REPARACAO-AUTOMOTIVA-AZUL-1.png
END:VEVENT
BEGIN:VEVENT
DTSTART;TZID=America/Sao_Paulo:20250528T193000
DTEND;TZID=America/Sao_Paulo:20250528T213000
DTSTAMP:20260422T123209
CREATED:20250409T190404Z
LAST-MODIFIED:20260114T192146Z
UID:10001372-1748460600-1748467800@acif.org.br
SUMMARY:Reunião Ordinária Energia\, Engenharia e Sustentabilidade (NEES)
DESCRIPTION:Reunião será realizada na ACIF Matriz às 19h. \nCaso tenha interesse em participar\, \nEntre em contato com: \nJoão Moraes – Consultor de Núcleos \nTel.: 48 8816-9993
URL:https://acif.org.br/evento/reuniao-ordinaria-energia-engenharia-e-sustentabilidade-nees/
LOCATION:ACIF Matriz\, Rua Emilio Blum\, 121\, Florianópolis\, Santa Catarina\, 88020010\, Brasil
CATEGORIES:Reunião de núcleo
ATTACH;FMTTYPE=image/png:https://acif.org.br/wp-content/uploads/2025/04/ACIF-NUCLEO-NEES-AZUL-AMARELA-300x191-1.png
END:VEVENT
BEGIN:VEVENT
DTSTART;TZID=America/Sao_Paulo:20250528T190000
DTEND;TZID=America/Sao_Paulo:20250528T203000
DTSTAMP:20260422T123209
CREATED:20250408T210248Z
LAST-MODIFIED:20250408T210248Z
UID:10001239-1748458800-1748464200@acif.org.br
SUMMARY:Reunião Ordinária de Advocacia
DESCRIPTION:Reuniões presenciais serão realizadas na ACIF Matriz às 19h. \nLink para reuniões online: https://meet.google.com/krm-ujrt-izf \nCaso tenha interesse em participar!\nEntre em contato com: \nAndréa Firmo da Silva– Consultora de Núcleos \nTel.: 48 99988-0462 – andrea.firmo@acif.org.br
URL:https://acif.org.br/evento/reuniao-ordinaria-de-advocacia-2/2025-05-28/
LOCATION:ACIF Matriz\, Rua Emilio Blum\, 121\, Florianópolis\, Santa Catarina\, 88020010\, Brasil
CATEGORIES:Reunião de núcleo
ATTACH;FMTTYPE=image/png:https://acif.org.br/wp-content/uploads/2025/02/ACIF-NUCLEO-ADVOCACIA-AZUL-1.png
END:VEVENT
BEGIN:VEVENT
DTSTART;TZID=America/Sao_Paulo:20250527T090000
DTEND;TZID=America/Sao_Paulo:20250527T103000
DTSTAMP:20260422T123209
CREATED:20250409T191434Z
LAST-MODIFIED:20250409T191434Z
UID:10001390-1748336400-1748341800@acif.org.br
SUMMARY:Reunião Ordinária do Núcleo Multissetorial de Eventos Organizados - NEO
DESCRIPTION:Reunião será realizada na ACIF Matriz às 09h. \nCaso tenha interesse em participar\, \nEntre em contato com: \nJoão Vitor Pacheco – Consultor de Núcleos Empresariais \nTel.: 3084-9400 ou 99134-8587 – joao.vitor@acif.org.br
URL:https://acif.org.br/evento/reuniao-ordinaria-do-nucleo-multissetorial-de-eventos-organizados-neo/2025-05-27/
LOCATION:ACIF Matriz\, Rua Emilio Blum\, 121\, Florianópolis\, Santa Catarina\, 88020010\, Brasil
CATEGORIES:Reunião de núcleo
ATTACH;FMTTYPE=image/png:https://acif.org.br/wp-content/uploads/2025/02/ACIF-NUCLEO-NEO-AZUL.png
END:VEVENT
BEGIN:VEVENT
DTSTART;TZID=America/Sao_Paulo:20250525T180000
DTEND;TZID=America/Sao_Paulo:20250525T200000
DTSTAMP:20260422T123209
CREATED:20250408T190535Z
LAST-MODIFIED:20251219T170458Z
UID:10001535-1748196000-1748203200@acif.org.br
SUMMARY:Reunião Ordinária do Núcleo de Contadores
DESCRIPTION:Reunião será realizada na ACIF Matriz às 18h. \nCaso tenha interesse em participar!\nEntre em contato com: \nFranciele Medeiros  – Consultora de Núcleos \nTel.: 48 9 9988-2432
URL:https://acif.org.br/evento/reuniao-ordinaria-do-nucleo-de-contadores/2025-05-25/
LOCATION:ACIF Matriz\, Rua Emilio Blum\, 121\, Florianópolis\, Santa Catarina\, 88020010\, Brasil
CATEGORIES:Reunião de núcleo
ATTACH;FMTTYPE=image/png:https://acif.org.br/wp-content/uploads/2023/09/ACIF-NUCLEO-CONTADORES-AZUL.png
END:VEVENT
BEGIN:VEVENT
DTSTART;TZID=America/Sao_Paulo:20250522T090000
DTEND;TZID=America/Sao_Paulo:20250522T120000
DTSTAMP:20260422T123209
CREATED:20250408T204702Z
LAST-MODIFIED:20250408T204702Z
UID:10001222-1747904400-1747915200@acif.org.br
SUMMARY:Reunião Ordinária de Educação
DESCRIPTION:Reunião será realizada na Sala Multiuso (ACIF Matriz) 09h \nCaso tenha interesse em participar! \nEntre em conta com: \nJessika Silva Pereira – Consultora de Núcleos Empresariais \nTel.: 48 9 9988-2432 – jessika.silva@acif.org.br
URL:https://acif.org.br/evento/reuniao-ordinaria-de-educacao-2/2025-05-22/
LOCATION:ACIF Matriz\, Rua Emilio Blum\, 121\, Florianópolis\, Santa Catarina\, 88020010\, Brasil
CATEGORIES:Reunião de núcleo
ATTACH;FMTTYPE=image/png:https://acif.org.br/wp-content/uploads/2025/02/NUCLEO-EDUCACAO-Azul_Azul.png
END:VEVENT
BEGIN:VEVENT
DTSTART;TZID=America/Sao_Paulo:20250516T103000
DTEND;TZID=America/Sao_Paulo:20250516T120000
DTSTAMP:20260422T123209
CREATED:20250409T175012Z
LAST-MODIFIED:20250409T175012Z
UID:10001318-1747391400-1747396800@acif.org.br
SUMMARY:Reunião Ordinária Inovação
DESCRIPTION:Reunião será realizada na Sala Multiuso (ACIF Matriz) às 10:30h. \nCaso tenha interesse em participar! \nEntre em contato com: \nLetícia Alves– Consultora de Núcleos \nTel.: 48 98816-9993 – leticia.alves@acif.org.br
URL:https://acif.org.br/evento/reuniao-ordinaria-inovacao/2025-05-16/
LOCATION:ACIF Matriz\, Rua Emilio Blum\, 121\, Florianópolis\, Santa Catarina\, 88020010\, Brasil
CATEGORIES:Reunião de núcleo
ATTACH;FMTTYPE=image/png:https://acif.org.br/wp-content/uploads/2024/07/ACIF_Logo-Nucleo-Inovacao-Azul-Claro_Azul.png
END:VEVENT
BEGIN:VEVENT
DTSTART;TZID=America/Sao_Paulo:20250515T160000
DTEND;TZID=America/Sao_Paulo:20250515T190000
DTSTAMP:20260422T123209
CREATED:20250408T191533Z
LAST-MODIFIED:20250408T191533Z
UID:10001174-1747324800-1747335600@acif.org.br
SUMMARY:Reunião Ordinária de Cooperativas
DESCRIPTION:Reunião será realizada na ACIF Matriz às 16h. \nCaso tenha interesse em participar\, \nEntre em contato com: \nJoão Vitor Pacheco – Consultor de Núcleos Empresariais \nTel.: 3084-9400 ou 99134-8587 – joao.vitor@acif.org.br
URL:https://acif.org.br/evento/reuniao-ordinaria-de-cooperativas-2/2025-05-15/
LOCATION:ACIF Matriz\, Rua Emilio Blum\, 121\, Florianópolis\, Santa Catarina\, 88020010\, Brasil
CATEGORIES:Reunião de núcleo
ATTACH;FMTTYPE=image/png:https://acif.org.br/wp-content/uploads/2023/09/ACIF-NUCLEO-COOPERATIVAS-AZUL-1.png
END:VEVENT
BEGIN:VEVENT
DTSTART;TZID=America/Sao_Paulo:20250514T193000
DTEND;TZID=America/Sao_Paulo:20250514T213000
DTSTAMP:20260422T123209
CREATED:20250409T190404Z
LAST-MODIFIED:20260114T192146Z
UID:10001371-1747251000-1747258200@acif.org.br
SUMMARY:Reunião Ordinária Energia\, Engenharia e Sustentabilidade (NEES)
DESCRIPTION:Reunião será realizada na ACIF Matriz às 19h. \nCaso tenha interesse em participar\, \nEntre em contato com: \nJoão Moraes – Consultor de Núcleos \nTel.: 48 8816-9993
URL:https://acif.org.br/evento/reuniao-ordinaria-energia-engenharia-e-sustentabilidade-nees/
LOCATION:ACIF Matriz\, Rua Emilio Blum\, 121\, Florianópolis\, Santa Catarina\, 88020010\, Brasil
CATEGORIES:Reunião de núcleo
ATTACH;FMTTYPE=image/png:https://acif.org.br/wp-content/uploads/2025/04/ACIF-NUCLEO-NEES-AZUL-AMARELA-300x191-1.png
END:VEVENT
BEGIN:VEVENT
DTSTART;TZID=America/Sao_Paulo:20250514T190000
DTEND;TZID=America/Sao_Paulo:20250514T203000
DTSTAMP:20260422T123209
CREATED:20250408T210248Z
LAST-MODIFIED:20250408T210248Z
UID:10001238-1747249200-1747254600@acif.org.br
SUMMARY:Reunião Ordinária de Advocacia
DESCRIPTION:Reuniões presenciais serão realizadas na ACIF Matriz às 19h. \nLink para reuniões online: https://meet.google.com/krm-ujrt-izf \nCaso tenha interesse em participar!\nEntre em contato com: \nAndréa Firmo da Silva– Consultora de Núcleos \nTel.: 48 99988-0462 – andrea.firmo@acif.org.br
URL:https://acif.org.br/evento/reuniao-ordinaria-de-advocacia-2/2025-05-14/
LOCATION:ACIF Matriz\, Rua Emilio Blum\, 121\, Florianópolis\, Santa Catarina\, 88020010\, Brasil
CATEGORIES:Reunião de núcleo
ATTACH;FMTTYPE=image/png:https://acif.org.br/wp-content/uploads/2025/02/ACIF-NUCLEO-ADVOCACIA-AZUL-1.png
END:VEVENT
BEGIN:VEVENT
DTSTART;TZID=America/Sao_Paulo:20250514T170000
DTEND;TZID=America/Sao_Paulo:20250514T190000
DTSTAMP:20260422T123209
CREATED:20250325T143145Z
LAST-MODIFIED:20250506T135057Z
UID:10001092-1747242000-1747249200@acif.org.br
SUMMARY:Projeto Tira Dúvidas Jurídico - Orlando Martins
DESCRIPTION:Você é associado ACIF e tem dúvidas jurídicas? \nEssa é sua chance de receber orientação personalizada e gratuita com o Núcleo de Advocacia da ACIF!\n📅 Data: 14 de Maio de 2025\n⏰ Horário: Das 17h às 19h\n📍 Local: ACIF Matriz — R. Emílio Blum\, 121\nAtendimento com: Orlando Martins\nÁrea de atuação: \nOrlando Martins – Ações trabalhistas\, Análise de Contratos de Trabalho\, Prevenção de Acidentes de Trabalho\, Composição de Acordos Judiciais e Extrajudiciais. \nPlanejamento previdenciário\, como chegar na melhor aposentadoria pagando menos \nConsultoria em licitações e contratos públicos e privados\, estruturação de negócios jurídicos \n⚠️ As vagas são limitadas e preenchidas por ordem de inscrição! \n👉 Garanta sua vaga agora:\nhttps://forms.gle/nPjq6sZXujQWNLPM9 \nSeus dados serão utilizados exclusivamente para o evento\, conforme a LGPD.\nEsperamos por você! 😉
URL:https://acif.org.br/evento/projeto-tira-duvidas-juridico-matheus/
LOCATION:ACIF Matriz\, Rua Emilio Blum\, 121\, Florianópolis\, Santa Catarina\, 88020010\, Brasil
CATEGORIES:Evento
ATTACH;FMTTYPE=image/jpeg:https://acif.org.br/wp-content/uploads/2025/03/Agenda-1.jpg
END:VEVENT
BEGIN:VEVENT
DTSTART;TZID=America/Sao_Paulo:20250511T180000
DTEND;TZID=America/Sao_Paulo:20250511T200000
DTSTAMP:20260422T123209
CREATED:20250408T190535Z
LAST-MODIFIED:20251219T170458Z
UID:10001534-1746986400-1746993600@acif.org.br
SUMMARY:Reunião Ordinária do Núcleo de Contadores
DESCRIPTION:Reunião será realizada na ACIF Matriz às 18h. \nCaso tenha interesse em participar!\nEntre em contato com: \nFranciele Medeiros  – Consultora de Núcleos \nTel.: 48 9 9988-2432
URL:https://acif.org.br/evento/reuniao-ordinaria-do-nucleo-de-contadores/2025-05-11/
LOCATION:ACIF Matriz\, Rua Emilio Blum\, 121\, Florianópolis\, Santa Catarina\, 88020010\, Brasil
CATEGORIES:Reunião de núcleo
ATTACH;FMTTYPE=image/png:https://acif.org.br/wp-content/uploads/2023/09/ACIF-NUCLEO-CONTADORES-AZUL.png
END:VEVENT
BEGIN:VEVENT
DTSTART;TZID=America/Sao_Paulo:20250509T190000
DTEND;TZID=America/Sao_Paulo:20250509T203000
DTSTAMP:20260422T123209
CREATED:20250408T184819Z
LAST-MODIFIED:20250408T184819Z
UID:10001151-1746817200-1746822600@acif.org.br
SUMMARY:Reunião Ordinária Conselho de Núcleos
DESCRIPTION:Reunião será realizada na ACIF Matriz às 19h. \nCaso tenha interesse em participar!\nEntre em contato com: \nLetícia Alves – Consultora de Núcleos \nTel.: 48 98816-9993 – leticia.alves@acif.org.br
URL:https://acif.org.br/evento/reuniao-ordinaria-conselho-de-nucleos/2025-05-09/
LOCATION:ACIF Matriz\, Rua Emilio Blum\, 121\, Florianópolis\, Santa Catarina\, 88020010\, Brasil
CATEGORIES:Reunião de núcleo
ATTACH;FMTTYPE=image/png:https://acif.org.br/wp-content/uploads/2024/07/ACIF-CONSELHO-DE-NUCLEOS-AZUL_1-1.png
END:VEVENT
BEGIN:VEVENT
DTSTART;TZID=America/Sao_Paulo:20250509T160000
DTEND;TZID=America/Sao_Paulo:20250509T190000
DTSTAMP:20260422T123209
CREATED:20250408T191533Z
LAST-MODIFIED:20250408T191533Z
UID:10001173-1746806400-1746817200@acif.org.br
SUMMARY:Reunião Ordinária de Cooperativas
DESCRIPTION:Reunião será realizada na ACIF Matriz às 16h. \nCaso tenha interesse em participar\, \nEntre em contato com: \nJoão Vitor Pacheco – Consultor de Núcleos Empresariais \nTel.: 3084-9400 ou 99134-8587 – joao.vitor@acif.org.br
URL:https://acif.org.br/evento/reuniao-ordinaria-de-cooperativas-2/2025-05-09/
LOCATION:ACIF Matriz\, Rua Emilio Blum\, 121\, Florianópolis\, Santa Catarina\, 88020010\, Brasil
CATEGORIES:Reunião de núcleo
ATTACH;FMTTYPE=image/png:https://acif.org.br/wp-content/uploads/2023/09/ACIF-NUCLEO-COOPERATIVAS-AZUL-1.png
END:VEVENT
BEGIN:VEVENT
DTSTART;TZID=America/Sao_Paulo:20250508T190000
DTEND;TZID=America/Sao_Paulo:20250508T203000
DTSTAMP:20260422T123209
CREATED:20250408T184819Z
LAST-MODIFIED:20250408T184819Z
UID:10001150-1746730800-1746736200@acif.org.br
SUMMARY:Reunião Ordinária Conselho de Núcleos
DESCRIPTION:Reunião será realizada na ACIF Matriz às 19h. \nCaso tenha interesse em participar!\nEntre em contato com: \nLetícia Alves – Consultora de Núcleos \nTel.: 48 98816-9993 – leticia.alves@acif.org.br
URL:https://acif.org.br/evento/reuniao-ordinaria-conselho-de-nucleos/2025-05-08/
LOCATION:ACIF Matriz\, Rua Emilio Blum\, 121\, Florianópolis\, Santa Catarina\, 88020010\, Brasil
CATEGORIES:Reunião de núcleo
ATTACH;FMTTYPE=image/png:https://acif.org.br/wp-content/uploads/2024/07/ACIF-CONSELHO-DE-NUCLEOS-AZUL_1-1.png
END:VEVENT
BEGIN:VEVENT
DTSTART;TZID=America/Sao_Paulo:20250508T160000
DTEND;TZID=America/Sao_Paulo:20250508T190000
DTSTAMP:20260422T123209
CREATED:20250408T191533Z
LAST-MODIFIED:20250408T191533Z
UID:10001172-1746720000-1746730800@acif.org.br
SUMMARY:Reunião Ordinária de Cooperativas
DESCRIPTION:Reunião será realizada na ACIF Matriz às 16h. \nCaso tenha interesse em participar\, \nEntre em contato com: \nJoão Vitor Pacheco – Consultor de Núcleos Empresariais \nTel.: 3084-9400 ou 99134-8587 – joao.vitor@acif.org.br
URL:https://acif.org.br/evento/reuniao-ordinaria-de-cooperativas-2/2025-05-08/
LOCATION:ACIF Matriz\, Rua Emilio Blum\, 121\, Florianópolis\, Santa Catarina\, 88020010\, Brasil
CATEGORIES:Reunião de núcleo
ATTACH;FMTTYPE=image/png:https://acif.org.br/wp-content/uploads/2023/09/ACIF-NUCLEO-COOPERATIVAS-AZUL-1.png
END:VEVENT
BEGIN:VEVENT
DTSTART;TZID=America/Sao_Paulo:20250508T090000
DTEND;TZID=America/Sao_Paulo:20250508T120000
DTSTAMP:20260422T123209
CREATED:20250408T204702Z
LAST-MODIFIED:20250408T204702Z
UID:10001221-1746694800-1746705600@acif.org.br
SUMMARY:Reunião Ordinária de Educação
DESCRIPTION:Reunião será realizada na Sala Multiuso (ACIF Matriz) 09h \nCaso tenha interesse em participar! \nEntre em conta com: \nJessika Silva Pereira – Consultora de Núcleos Empresariais \nTel.: 48 9 9988-2432 – jessika.silva@acif.org.br
URL:https://acif.org.br/evento/reuniao-ordinaria-de-educacao-2/2025-05-08/
LOCATION:ACIF Matriz\, Rua Emilio Blum\, 121\, Florianópolis\, Santa Catarina\, 88020010\, Brasil
CATEGORIES:Reunião de núcleo
ATTACH;FMTTYPE=image/png:https://acif.org.br/wp-content/uploads/2025/02/NUCLEO-EDUCACAO-Azul_Azul.png
END:VEVENT
BEGIN:VEVENT
DTSTART;TZID=America/Sao_Paulo:20250430T193000
DTEND;TZID=America/Sao_Paulo:20250430T213000
DTSTAMP:20260422T123209
CREATED:20250409T190404Z
LAST-MODIFIED:20260114T192146Z
UID:10001370-1746041400-1746048600@acif.org.br
SUMMARY:Reunião Ordinária Energia\, Engenharia e Sustentabilidade (NEES)
DESCRIPTION:Reunião será realizada na ACIF Matriz às 19h. \nCaso tenha interesse em participar\, \nEntre em contato com: \nJoão Moraes – Consultor de Núcleos \nTel.: 48 8816-9993
URL:https://acif.org.br/evento/reuniao-ordinaria-energia-engenharia-e-sustentabilidade-nees/
LOCATION:ACIF Matriz\, Rua Emilio Blum\, 121\, Florianópolis\, Santa Catarina\, 88020010\, Brasil
CATEGORIES:Reunião de núcleo
ATTACH;FMTTYPE=image/png:https://acif.org.br/wp-content/uploads/2025/04/ACIF-NUCLEO-NEES-AZUL-AMARELA-300x191-1.png
END:VEVENT
BEGIN:VEVENT
DTSTART;TZID=America/Sao_Paulo:20250430T190000
DTEND;TZID=America/Sao_Paulo:20250430T203000
DTSTAMP:20260422T123209
CREATED:20250408T210248Z
LAST-MODIFIED:20250408T210248Z
UID:10001237-1746039600-1746045000@acif.org.br
SUMMARY:Reunião Ordinária de Advocacia
DESCRIPTION:Reuniões presenciais serão realizadas na ACIF Matriz às 19h. \nLink para reuniões online: https://meet.google.com/krm-ujrt-izf \nCaso tenha interesse em participar!\nEntre em contato com: \nAndréa Firmo da Silva– Consultora de Núcleos \nTel.: 48 99988-0462 – andrea.firmo@acif.org.br
URL:https://acif.org.br/evento/reuniao-ordinaria-de-advocacia-2/2025-04-30/
LOCATION:ACIF Matriz\, Rua Emilio Blum\, 121\, Florianópolis\, Santa Catarina\, 88020010\, Brasil
CATEGORIES:Reunião de núcleo
ATTACH;FMTTYPE=image/png:https://acif.org.br/wp-content/uploads/2025/02/ACIF-NUCLEO-ADVOCACIA-AZUL-1.png
END:VEVENT
BEGIN:VEVENT
DTSTART;TZID=America/Sao_Paulo:20250430T170000
DTEND;TZID=America/Sao_Paulo:20250430T190000
DTSTAMP:20260422T123209
CREATED:20250325T141947Z
LAST-MODIFIED:20250425T134204Z
UID:10001091-1746032400-1746039600@acif.org.br
SUMMARY:Projeto Tira Dúvidas Jurídico - Ricardo e Takaki
DESCRIPTION:Você é associado ACIF e tem dúvidas jurídicas? \nEssa é sua chance de receber orientação personalizada e gratuita com o Núcleo de Advocacia da ACIF!\n📅 Data: 30 de abril de 2025\n⏰ Horário: Das 17h às 19h\n📍 Local: ACIF Matriz — R. Emílio Blum\, 121\nAtendimento com: Ricardo e Leandro Takaki\nÁrea de atuação: \nRicardo Schiavo – Assessoria jurídica de empresas\, com foco em franquias (franchising)\, contratos\, sociedades\, proteção de marcas e ações judiciais. Consultoria para tomada de decisões seguras\, prevenindo problemas e garantindo a segurança jurídica dos negócios. \nLeandro Takaki – Consultoria e Planejamento Tributário com atuação em defesa administrativa e judicial e recuperação de tributos; Gestão\, reestruturação e elaboração de documentos societários; Gestão\, elaboração e revisão de contratos; \nConsultoria em licitações e contratos públicos e privados\, estruturação de negócios jurídicos \n⚠️ As vagas são limitadas e preenchidas por ordem de inscrição! \n👉 Garanta sua vaga agora:\nhttps://forms.gle/nPjq6sZXujQWNLPM9 \nSeus dados serão utilizados exclusivamente para o evento\, conforme a LGPD.\nEsperamos por você! 😉
URL:https://acif.org.br/evento/projeto-tira-duvidas-juridico-orlando-e-guilherme/
LOCATION:ACIF Matriz\, Rua Emilio Blum\, 121\, Florianópolis\, Santa Catarina\, 88020010\, Brasil
CATEGORIES:Evento
ATTACH;FMTTYPE=image/jpeg:https://acif.org.br/wp-content/uploads/2025/03/Agenda.jpg
END:VEVENT
BEGIN:VEVENT
DTSTART;TZID=America/Sao_Paulo:20250429T090000
DTEND;TZID=America/Sao_Paulo:20250429T103000
DTSTAMP:20260422T123209
CREATED:20250409T191434Z
LAST-MODIFIED:20250409T191434Z
UID:10001388-1745917200-1745922600@acif.org.br
SUMMARY:Reunião Ordinária do Núcleo Multissetorial de Eventos Organizados - NEO
DESCRIPTION:Reunião será realizada na ACIF Matriz às 09h. \nCaso tenha interesse em participar\, \nEntre em contato com: \nJoão Vitor Pacheco – Consultor de Núcleos Empresariais \nTel.: 3084-9400 ou 99134-8587 – joao.vitor@acif.org.br
URL:https://acif.org.br/evento/reuniao-ordinaria-do-nucleo-multissetorial-de-eventos-organizados-neo/2025-04-29/
LOCATION:ACIF Matriz\, Rua Emilio Blum\, 121\, Florianópolis\, Santa Catarina\, 88020010\, Brasil
CATEGORIES:Reunião de núcleo
ATTACH;FMTTYPE=image/png:https://acif.org.br/wp-content/uploads/2025/02/ACIF-NUCLEO-NEO-AZUL.png
END:VEVENT
BEGIN:VEVENT
DTSTART;TZID=America/Sao_Paulo:20250427T180000
DTEND;TZID=America/Sao_Paulo:20250427T200000
DTSTAMP:20260422T123209
CREATED:20250408T190535Z
LAST-MODIFIED:20251219T170458Z
UID:10001533-1745776800-1745784000@acif.org.br
SUMMARY:Reunião Ordinária do Núcleo de Contadores
DESCRIPTION:Reunião será realizada na ACIF Matriz às 18h. \nCaso tenha interesse em participar!\nEntre em contato com: \nFranciele Medeiros  – Consultora de Núcleos \nTel.: 48 9 9988-2432
URL:https://acif.org.br/evento/reuniao-ordinaria-do-nucleo-de-contadores/2025-04-27/
LOCATION:ACIF Matriz\, Rua Emilio Blum\, 121\, Florianópolis\, Santa Catarina\, 88020010\, Brasil
CATEGORIES:Reunião de núcleo
ATTACH;FMTTYPE=image/png:https://acif.org.br/wp-content/uploads/2023/09/ACIF-NUCLEO-CONTADORES-AZUL.png
END:VEVENT
BEGIN:VEVENT
DTSTART;TZID=America/Sao_Paulo:20250425T103000
DTEND;TZID=America/Sao_Paulo:20250425T120000
DTSTAMP:20260422T123209
CREATED:20250409T175012Z
LAST-MODIFIED:20250409T175012Z
UID:10001317-1745577000-1745582400@acif.org.br
SUMMARY:Reunião Ordinária Inovação
DESCRIPTION:Reunião será realizada na Sala Multiuso (ACIF Matriz) às 10:30h. \nCaso tenha interesse em participar! \nEntre em contato com: \nLetícia Alves– Consultora de Núcleos \nTel.: 48 98816-9993 – leticia.alves@acif.org.br
URL:https://acif.org.br/evento/reuniao-ordinaria-inovacao/2025-04-25/
LOCATION:ACIF Matriz\, Rua Emilio Blum\, 121\, Florianópolis\, Santa Catarina\, 88020010\, Brasil
CATEGORIES:Reunião de núcleo
ATTACH;FMTTYPE=image/png:https://acif.org.br/wp-content/uploads/2024/07/ACIF_Logo-Nucleo-Inovacao-Azul-Claro_Azul.png
END:VEVENT
BEGIN:VEVENT
DTSTART;TZID=America/Sao_Paulo:20250424T200000
DTEND;TZID=America/Sao_Paulo:20250424T200000
DTSTAMP:20260422T123209
CREATED:20250409T194956Z
LAST-MODIFIED:20250409T194956Z
UID:10001423-1745524800-1745524800@acif.org.br
SUMMARY:Reunião Ordinária Reparação Automotiva
DESCRIPTION:Caso tenha interesse em participar!\nEntre em contato com: \nAndréa Firmo da Silva– Consultora de Núcleos \nTel.: 48 99988-0462 – andrea.firmo@acif.org.br
URL:https://acif.org.br/evento/reuniao-ordinaria-reparacao-automotiva/2025-04-24/
LOCATION:ACIF Matriz\, Rua Emilio Blum\, 121\, Florianópolis\, Santa Catarina\, 88020010\, Brasil
CATEGORIES:Reunião de núcleo
ATTACH;FMTTYPE=image/png:https://acif.org.br/wp-content/uploads/2025/02/ACIF-NUCLEO-REPARACAO-AUTOMOTIVA-AZUL-1.png
END:VEVENT
BEGIN:VEVENT
DTSTART;TZID=America/Sao_Paulo:20250424T090000
DTEND;TZID=America/Sao_Paulo:20250424T120000
DTSTAMP:20260422T123209
CREATED:20250408T204702Z
LAST-MODIFIED:20250408T204702Z
UID:10001220-1745485200-1745496000@acif.org.br
SUMMARY:Reunião Ordinária de Educação
DESCRIPTION:Reunião será realizada na Sala Multiuso (ACIF Matriz) 09h \nCaso tenha interesse em participar! \nEntre em conta com: \nJessika Silva Pereira – Consultora de Núcleos Empresariais \nTel.: 48 9 9988-2432 – jessika.silva@acif.org.br
URL:https://acif.org.br/evento/reuniao-ordinaria-de-educacao-2/2025-04-24/
LOCATION:ACIF Matriz\, Rua Emilio Blum\, 121\, Florianópolis\, Santa Catarina\, 88020010\, Brasil
CATEGORIES:Reunião de núcleo
ATTACH;FMTTYPE=image/png:https://acif.org.br/wp-content/uploads/2025/02/NUCLEO-EDUCACAO-Azul_Azul.png
END:VEVENT
BEGIN:VEVENT
DTSTART;TZID=America/Sao_Paulo:20250422T090000
DTEND;TZID=America/Sao_Paulo:20250422T090000
DTSTAMP:20260422T123209
CREATED:20250409T191434Z
LAST-MODIFIED:20250409T191434Z
UID:10001387-1745312400-1745312400@acif.org.br
SUMMARY:Reunião Ordinária do Núcleo Multissetorial de Eventos Organizados - NEO
DESCRIPTION:Reunião será realizada na ACIF Matriz às 09h. \nCaso tenha interesse em participar\, \nEntre em contato com: \nJoão Vitor Pacheco – Consultor de Núcleos Empresariais \nTel.: 3084-9400 ou 99134-8587 – joao.vitor@acif.org.br
URL:https://acif.org.br/evento/reuniao-ordinaria-do-nucleo-multissetorial-de-eventos-organizados-neo/2025-04-22/
LOCATION:ACIF Matriz\, Rua Emilio Blum\, 121\, Florianópolis\, Santa Catarina\, 88020010\, Brasil
CATEGORIES:Reunião de núcleo
ATTACH;FMTTYPE=image/png:https://acif.org.br/wp-content/uploads/2025/02/ACIF-NUCLEO-NEO-AZUL.png
END:VEVENT
BEGIN:VEVENT
DTSTART;TZID=America/Sao_Paulo:20250417T160000
DTEND;TZID=America/Sao_Paulo:20250417T190000
DTSTAMP:20260422T123209
CREATED:20250408T191533Z
LAST-MODIFIED:20250408T191533Z
UID:10001171-1744905600-1744916400@acif.org.br
SUMMARY:Reunião Ordinária de Cooperativas
DESCRIPTION:Reunião será realizada na ACIF Matriz às 16h. \nCaso tenha interesse em participar\, \nEntre em contato com: \nJoão Vitor Pacheco – Consultor de Núcleos Empresariais \nTel.: 3084-9400 ou 99134-8587 – joao.vitor@acif.org.br
URL:https://acif.org.br/evento/reuniao-ordinaria-de-cooperativas-2/2025-04-17/
LOCATION:ACIF Matriz\, Rua Emilio Blum\, 121\, Florianópolis\, Santa Catarina\, 88020010\, Brasil
CATEGORIES:Reunião de núcleo
ATTACH;FMTTYPE=image/png:https://acif.org.br/wp-content/uploads/2023/09/ACIF-NUCLEO-COOPERATIVAS-AZUL-1.png
END:VEVENT
BEGIN:VEVENT
DTSTART;TZID=America/Sao_Paulo:20250416T193000
DTEND;TZID=America/Sao_Paulo:20250416T213000
DTSTAMP:20260422T123209
CREATED:20250409T190404Z
LAST-MODIFIED:20260114T192146Z
UID:10001369-1744831800-1744839000@acif.org.br
SUMMARY:Reunião Ordinária Energia\, Engenharia e Sustentabilidade (NEES)
DESCRIPTION:Reunião será realizada na ACIF Matriz às 19h. \nCaso tenha interesse em participar\, \nEntre em contato com: \nJoão Moraes – Consultor de Núcleos \nTel.: 48 8816-9993
URL:https://acif.org.br/evento/reuniao-ordinaria-energia-engenharia-e-sustentabilidade-nees/
LOCATION:ACIF Matriz\, Rua Emilio Blum\, 121\, Florianópolis\, Santa Catarina\, 88020010\, Brasil
CATEGORIES:Reunião de núcleo
ATTACH;FMTTYPE=image/png:https://acif.org.br/wp-content/uploads/2025/04/ACIF-NUCLEO-NEES-AZUL-AMARELA-300x191-1.png
END:VEVENT
BEGIN:VEVENT
DTSTART;TZID=America/Sao_Paulo:20250416T190000
DTEND;TZID=America/Sao_Paulo:20250416T203000
DTSTAMP:20260422T123209
CREATED:20250408T210248Z
LAST-MODIFIED:20250408T210248Z
UID:10001236-1744830000-1744835400@acif.org.br
SUMMARY:Reunião Ordinária de Advocacia
DESCRIPTION:Reuniões presenciais serão realizadas na ACIF Matriz às 19h. \nLink para reuniões online: https://meet.google.com/krm-ujrt-izf \nCaso tenha interesse em participar!\nEntre em contato com: \nAndréa Firmo da Silva– Consultora de Núcleos \nTel.: 48 99988-0462 – andrea.firmo@acif.org.br
URL:https://acif.org.br/evento/reuniao-ordinaria-de-advocacia-2/2025-04-16/
LOCATION:ACIF Matriz\, Rua Emilio Blum\, 121\, Florianópolis\, Santa Catarina\, 88020010\, Brasil
CATEGORIES:Reunião de núcleo
ATTACH;FMTTYPE=image/png:https://acif.org.br/wp-content/uploads/2025/02/ACIF-NUCLEO-ADVOCACIA-AZUL-1.png
END:VEVENT
BEGIN:VEVENT
DTSTART;TZID=America/Sao_Paulo:20250416T170000
DTEND;TZID=America/Sao_Paulo:20250416T190000
DTSTAMP:20260422T123209
CREATED:20250325T141719Z
LAST-MODIFIED:20250404T134108Z
UID:10001090-1744822800-1744830000@acif.org.br
SUMMARY:Projeto Tira Dúvidas Jurídico - Marcell e Jefferson
DESCRIPTION:Você é associado ACIF e tem dúvidas jurídicas? \nEssa é sua chance de receber orientação personalizada e gratuita com o Núcleo de Advocacia da ACIF!\n📅 Data: 16 de abril de 2025\n⏰ Horário: Das 17h às 19h\n📍 Local: ACIF Matriz — R. Emílio Blum\, 121\nAtendimento com: Marcell e Jefferson\nÁrea de atuação: \n– Marcel S. Fracaro –Áreas de atuação: Direito Civil\, Empresarial\, Administrativo e Contratual \n\n– Jefferson Bertran – Especialista em Direito Aéreo do Passageiro e na Defesa de Agências de Viagens Advogado Especialista em viagens nacionais e internacionais com milhas e vouchers\, salas VIPs\, cartões de crédito. \nConsultoria em licitações e contratos públicos e privados\, estruturação de negócios jurídicos \n⚠️ As vagas são limitadas e preenchidas por ordem de inscrição! \n👉 Garanta sua vaga agora:\nhttps://forms.gle/nPjq6sZXujQWNLPM9 \nSeus dados serão utilizados exclusivamente para o evento\, conforme a LGPD.\nEsperamos por você! 😉
URL:https://acif.org.br/evento/projeto-tira-duvidas-juridico-ricardo-e-takaki/
LOCATION:ACIF Matriz\, Rua Emilio Blum\, 121\, Florianópolis\, Santa Catarina\, 88020010\, Brasil
CATEGORIES:Evento
END:VEVENT
END:VCALENDAR