BEGIN:VCALENDAR
VERSION:2.0
PRODID:-//ACIF - ECPv6.14.0//NONSGML v1.0//EN
CALSCALE:GREGORIAN
METHOD:PUBLISH
X-ORIGINAL-URL:https://acif.org.br
X-WR-CALDESC:Eventos para ACIF
REFRESH-INTERVAL;VALUE=DURATION:PT1H
X-Robots-Tag:noindex
X-PUBLISHED-TTL:PT1H
BEGIN:VTIMEZONE
TZID:America/Sao_Paulo
BEGIN:STANDARD
TZOFFSETFROM:-0300
TZOFFSETTO:-0300
TZNAME:-03
DTSTART:20260101T000000
END:STANDARD
END:VTIMEZONE
BEGIN:VEVENT
DTSTART;TZID=America/Sao_Paulo:20260501T090000
DTEND;TZID=America/Sao_Paulo:20260501T103000
DTSTAMP:20260421T224724
CREATED:20250213T194532Z
LAST-MODIFIED:20251219T182651Z
UID:10001608-1777626000-1777631400@acif.org.br
SUMMARY:Reunião Ordinária Corretoras de Seguro
DESCRIPTION:Reunião será realizada na Instituição Facisc às 09h. \nCaso tenha interesse em participar\, entre em contato com \nAndréa Firmo – Consultora de Núcleos \nTel.: 48 9 9988-0462
URL:https://acif.org.br/evento/reuniao-ordinaria-corretoras-de-seguro/2026-05-01/
LOCATION:ACIF Matriz\, Rua Emilio Blum\, 121\, Florianópolis\, Santa Catarina\, 88020010\, Brasil
CATEGORIES:Reunião de núcleo
END:VEVENT
BEGIN:VEVENT
DTSTART;TZID=America/Sao_Paulo:20260504T180000
DTEND;TZID=America/Sao_Paulo:20260504T193000
DTSTAMP:20260421T224724
CREATED:20250409T165943Z
LAST-MODIFIED:20260113T144049Z
UID:10001738-1777917600-1777923000@acif.org.br
SUMMARY:Reunião Ordinária Guias de Turismo
DESCRIPTION:Reunião será realizada na ACIF Matriz às 18h. \nCaso tenha interesse em participar!\nEntre em contato com: \nMaísa Gomes – Consultora de Núcleos \nTel.: 48 9118-5881
URL:https://acif.org.br/evento/reuniao-ordinaria-guias-de-turismo/2026-05-04/
LOCATION:ACIF Matriz\, Rua Emilio Blum\, 121\, Florianópolis\, Santa Catarina\, 88020010\, Brasil
CATEGORIES:Reunião de núcleo
ATTACH;FMTTYPE=image/png:https://acif.org.br/wp-content/uploads/2023/09/NUCLEO-GUIAS-DE-TURISMO-AZUL-ROXO-1.png
END:VEVENT
BEGIN:VEVENT
DTSTART;TZID=America/Sao_Paulo:20260504T190000
DTEND;TZID=America/Sao_Paulo:20260504T203000
DTSTAMP:20260421T224724
CREATED:20260330T193048Z
LAST-MODIFIED:20260330T205807Z
UID:10002054-1777921200-1777926600@acif.org.br
SUMMARY:Reunião Ordinária ACIF Jovem
DESCRIPTION:Reunião será realizada na ACIF Matriz às 19h. \nEntre em contato com: \n48 9102-9404 \nCaso tenha interesse em participar!
URL:https://acif.org.br/evento/reuniao-ordinaria-acif-jovem-3/2026-05-04/
LOCATION:ACIF Matriz\, Rua Emilio Blum\, 121\, Florianópolis\, Santa Catarina\, 88020010\, Brasil
CATEGORIES:Reunião de núcleo
ATTACH;FMTTYPE=image/png:https://acif.org.br/wp-content/uploads/2025/02/ACIF-NUCLEO-JOVEM-AZUL.png
END:VEVENT
BEGIN:VEVENT
DTSTART;TZID=America/Sao_Paulo:20260505T093000
DTEND;TZID=America/Sao_Paulo:20260505T110000
DTSTAMP:20260421T224724
CREATED:20260310T182853Z
LAST-MODIFIED:20260310T182907Z
UID:10001676-1777973400-1777978800@acif.org.br
SUMMARY:Reunião Ordinária Núcleo Gastronômico da Costa da Lagoa
DESCRIPTION:Reunião será realizada no Restaurante Lagoa Bonita às 09:30h. \nCaso tenha interesse em participar\, \nEntre em contato com: \nAndré Carvalho – Consultor de Núcleos \nTel.: 48 9134-8587
URL:https://acif.org.br/evento/reuniao-ordinaria-nucleo-gastronomico-da-costa-da-lagoa-6/
LOCATION:ACIF Matriz\, Rua Emilio Blum\, 121\, Florianópolis\, Santa Catarina\, 88020010\, Brasil
CATEGORIES:Reunião de núcleo
ATTACH;FMTTYPE=image/png:https://acif.org.br/wp-content/uploads/2023/09/7679_19_M_Submarcas_Nucleos_Setorial-de-Gastronomia-da-Costa-da-Lagoa-positivo.png
END:VEVENT
BEGIN:VEVENT
DTSTART;TZID=America/Sao_Paulo:20260506T190000
DTEND;TZID=America/Sao_Paulo:20260506T203000
DTSTAMP:20260421T224724
CREATED:20260114T192719Z
LAST-MODIFIED:20260114T193126Z
UID:10001891-1778094000-1778099400@acif.org.br
SUMMARY:Reunião Ordinária NEES
DESCRIPTION:Reunião será realizada na ACIF Matriz às 19h. \nCaso tenha interesse em participar\, \nEntre em contato com: \nJoão Moraes – Consultor de Núcleos \nTel.: 48 8816-9993
URL:https://acif.org.br/evento/reuniao-ordinaria-nees/2026-05-06/
LOCATION:ACIF Matriz\, Rua Emilio Blum\, 121\, Florianópolis\, Santa Catarina\, 88020010\, Brasil
CATEGORIES:Reunião de núcleo
END:VEVENT
BEGIN:VEVENT
DTSTART;TZID=America/Sao_Paulo:20260506T190000
DTEND;TZID=America/Sao_Paulo:20260506T203000
DTSTAMP:20260421T224724
CREATED:20260316T191809Z
LAST-MODIFIED:20260316T191809Z
UID:10002019-1778094000-1778099400@acif.org.br
SUMMARY:Reunião Ordinária do Núcleo de Advocacia
DESCRIPTION:Reunião será realizada ás 19h na ACIF Matriz. \nCaso tenha interesse em participar!  \nEntre em contato com: \nAndréa Firmo – Consultora de Núcleos \nTel: 48 9988-0462 – andrea.firmo@acif.org.br
URL:https://acif.org.br/evento/reuniao-ordinaria-do-nucleo-de-advocacia-2/2026-05-06/
LOCATION:ACIF Matriz\, Rua Emilio Blum\, 121\, Florianópolis\, Santa Catarina\, 88020010\, Brasil
CATEGORIES:Reunião de núcleo
END:VEVENT
BEGIN:VEVENT
DTSTART;TZID=America/Sao_Paulo:20260506T193000
DTEND;TZID=America/Sao_Paulo:20260506T210000
DTSTAMP:20260421T224724
CREATED:20260114T190601Z
LAST-MODIFIED:20260114T190850Z
UID:10001869-1778095800-1778101200@acif.org.br
SUMMARY:Reunião Ordinária Mercado Imobiliário
DESCRIPTION:Reunião será realizada na ACIF Matriz às 19:30.  \nCaso tenha interesse em participar!  \nEntre em contato com:  \nMaísa Gomes – Consultora de Núcleos  \nTel.: (48) 3084-9400
URL:https://acif.org.br/evento/reuniao-ordinaria-mercado-imobiliario/2026-05-06/
LOCATION:ACIF Matriz\, Rua Emilio Blum\, 121\, Florianópolis\, Santa Catarina\, 88020010\, Brasil
CATEGORIES:Reunião de núcleo
END:VEVENT
BEGIN:VEVENT
DTSTART;TZID=America/Sao_Paulo:20260507T160000
DTEND;TZID=America/Sao_Paulo:20260507T173000
DTSTAMP:20260421T224724
CREATED:20250217T175953Z
LAST-MODIFIED:20251219T172933Z
UID:10001575-1778169600-1778175000@acif.org.br
SUMMARY:Reunião Ordinária de Cooperativas
DESCRIPTION:Reunião será realizada na Sala CMAA (ACIF Matriz) às 16h. \nCaso tenha interesse em participar\, \nEntre em contato com: \nTatiane Silva  – Consultora de Núcleos \nTel.: 48 9 8864-1801 \n 
URL:https://acif.org.br/evento/reuniao-ordinaria-de-cooperativas/2026-05-07/
CATEGORIES:Reunião de núcleo
END:VEVENT
BEGIN:VEVENT
DTSTART;TZID=America/Sao_Paulo:20260507T183000
DTEND;TZID=America/Sao_Paulo:20260507T200000
DTSTAMP:20260421T224724
CREATED:20260114T204522Z
LAST-MODIFIED:20260127T181329Z
UID:10001943-1778178600-1778184000@acif.org.br
SUMMARY:Reunião Ordinária Psicologia
DESCRIPTION:Reunião será realizada na ACIF Matriz às 18:30h.  \nCaso tenha interesse em participar!  \nEntre em contato com:  \nFranciele Medeiros – Consultora de Núcleos  \nTel.:48 9988-2432
URL:https://acif.org.br/evento/reuniao-ordinaria-psicologia/2026-05-07/
LOCATION:ACIF Matriz\, Rua Emilio Blum\, 121\, Florianópolis\, Santa Catarina\, 88020010\, Brasil
CATEGORIES:Reunião de núcleo
END:VEVENT
BEGIN:VEVENT
DTSTART;TZID=America/Sao_Paulo:20260507T190000
DTEND;TZID=America/Sao_Paulo:20260507T203000
DTSTAMP:20260421T224724
CREATED:20250217T203028Z
LAST-MODIFIED:20260114T203600Z
UID:10001920-1778180400-1778185800@acif.org.br
SUMMARY:Reunião Ordinária Núcleo de Soluções Empresariais (NUSE)
DESCRIPTION:Reunião será realizada às 19h. \nCaso tenha interesse em participar! \nEntre em contato com: \nAndrea Firmo – Consultora de Núcleos \nTel.:48 9988-0462 – andrea.firmo@acif.org.br
URL:https://acif.org.br/evento/reuniao-ordinaria-nucleo-de-solucoes-empresariais-nuse/2026-05-07/
CATEGORIES:Reunião de núcleo
END:VEVENT
BEGIN:VEVENT
DTSTART;TZID=America/Sao_Paulo:20260511T180000
DTEND;TZID=America/Sao_Paulo:20260511T193000
DTSTAMP:20260421T224724
CREATED:20240201T194935Z
LAST-MODIFIED:20251219T171938Z
UID:10001557-1778522400-1778527800@acif.org.br
SUMMARY:Reunião Núcleo de Contadores
DESCRIPTION:Reunião será realizada na ACIF Matriz às 18h. \nEntre em contato com a consultora Franciele (48 9 9988-2432) caso tenha interesse em participar!
URL:https://acif.org.br/evento/reuniao-nucleo-de-contadores/2026-05-11/
CATEGORIES:Reunião de núcleo
END:VEVENT
BEGIN:VEVENT
DTSTART;TZID=America/Sao_Paulo:20260511T190000
DTEND;TZID=America/Sao_Paulo:20260511T203000
DTSTAMP:20260421T224724
CREATED:20260115T142802Z
LAST-MODIFIED:20260115T142802Z
UID:10001974-1778526000-1778531400@acif.org.br
SUMMARY:Reunião Ordinária Saúde & Bem-Estar
DESCRIPTION:Reunião será realizada no HUB Ingleses às 19h. \nCaso tenha interesse em participar! \nEntre em contato: \nHugo Goulart – Consultor de Núcleos  \nTel.: 48 9134-8587
URL:https://acif.org.br/evento/reuniao-ordinaria-saude-bem-estar/2026-05-11/
LOCATION:ACIF Matriz\, Rua Emilio Blum\, 121\, Florianópolis\, Santa Catarina\, 88020010\, Brasil
CATEGORIES:Reunião de núcleo
END:VEVENT
BEGIN:VEVENT
DTSTART;TZID=America/Sao_Paulo:20260511T190000
DTEND;TZID=America/Sao_Paulo:20260511T213000
DTSTAMP:20260421T224724
CREATED:20250221T180028Z
LAST-MODIFIED:20260113T133054Z
UID:10001656-1778526000-1778535000@acif.org.br
SUMMARY:Reunião Ordinária do Núcleo de Condomínios e Prestadores de Serviços
DESCRIPTION:Reunião será realizada na Sala da Presidência (ACIF Matriz) às 19h. \nCaso tenha interesse em participar!\nEntre em contato com: \nJoão Moraes – Consultor de Núcleos \nTel.:48 8816-9993 
URL:https://acif.org.br/evento/reuniao-ordinaria-do-nucleo-de-condominios-e-prestadores-de-servicos/2026-05-11/
CATEGORIES:Reunião de núcleo
END:VEVENT
BEGIN:VEVENT
DTSTART;TZID=America/Sao_Paulo:20260512T090000
DTEND;TZID=America/Sao_Paulo:20260512T103000
DTSTAMP:20260421T224724
CREATED:20260114T194256Z
LAST-MODIFIED:20260114T194256Z
UID:10001898-1778576400-1778581800@acif.org.br
SUMMARY:Reunião Ordinária Eventos Organizados
DESCRIPTION:Reunião será realizada na ACIF Matriz às 09h.  \nCaso tenha interesse em participar!  \nEntre em contato com:  \nMaísa Gomes – Consultora de Núcleos  \nTel.: (48) 3084-9400
URL:https://acif.org.br/evento/reuniao-ordinaria-eventos-organizados/2026-05-12/
LOCATION:ACIF Matriz\, Rua Emilio Blum\, 121\, Florianópolis\, Santa Catarina\, 88020010\, Brasil
CATEGORIES:Reunião de núcleo
END:VEVENT
BEGIN:VEVENT
DTSTART;TZID=America/Sao_Paulo:20260512T150000
DTEND;TZID=America/Sao_Paulo:20260512T163000
DTSTAMP:20260421T224724
CREATED:20260420T194938Z
LAST-MODIFIED:20260420T194938Z
UID:10002082-1778598000-1778603400@acif.org.br
SUMMARY:Reunião Ordinária Núcleo Coworking
DESCRIPTION:Reunião acontecerá via meet ás 15h. \nLink para a reunião: meet.google.com/fby-tvvu-ozn \nCaso tenha interesse em participar!  \nEntre em contato com:  \nAndré Carvalho – Consultor de Núcleos  \nTel.: 48 9 9134-8587
URL:https://acif.org.br/evento/reuniao-ordinaria-nucleo-coworking-3/2026-05-12/
CATEGORIES:Reunião de núcleo
END:VEVENT
BEGIN:VEVENT
DTSTART;TZID=America/Sao_Paulo:20260513T140000
DTEND;TZID=America/Sao_Paulo:20260513T153000
DTSTAMP:20260421T224724
CREATED:20250409T173524Z
LAST-MODIFIED:20260113T150722Z
UID:10001779-1778680800-1778686200@acif.org.br
SUMMARY:Reunião Ordinária Hotéis do Norte da Ilha
DESCRIPTION:Reunião será realizada no HUB Ingleses às 14h. \nCaso tenha interesse em participar!\nEntre em contato com: \nAndréa Firmo da Silva– Consultora de Núcleos \nTel.: 48 99988-0462
URL:https://acif.org.br/evento/reuniao-ordinaria-hoteis-do-norte-da-ilha/2026-05-13/
LOCATION:Ingleses
CATEGORIES:Reunião de núcleo
ATTACH;FMTTYPE=image/png:https://acif.org.br/wp-content/uploads/2023/09/ACIF-NUCLEO-HOTEIS-DO-NORTE-DA-ILHA-AZUL-5.png
END:VEVENT
BEGIN:VEVENT
DTSTART;TZID=America/Sao_Paulo:20260513T150000
DTEND;TZID=America/Sao_Paulo:20260513T163000
DTSTAMP:20260421T224724
CREATED:20250217T195142Z
LAST-MODIFIED:20260113T142349Z
UID:10001719-1778684400-1778689800@acif.org.br
SUMMARY:Reunião Ordinária  Núcleo Gastronômico da Lagoa da Conceição
DESCRIPTION:Reunião será realizada na Regional Lagoa às 15h. \nCaso tenha interesse em participar! \nEntre em contato com: \nTatiane Silva – Consultora de Núcleos\n \nTel.: (48) 8864-1801
URL:https://acif.org.br/evento/reuniao-ordinaria-nucleo-gastronomico-da-lagoa-da-conceicao/2026-05-13/
CATEGORIES:Reunião de núcleo
END:VEVENT
BEGIN:VEVENT
DTSTART;TZID=America/Sao_Paulo:20260513T153000
DTEND;TZID=America/Sao_Paulo:20260513T170000
DTSTAMP:20260421T224724
CREATED:20250409T172158Z
LAST-MODIFIED:20260113T145454Z
UID:10001758-1778686200-1778691600@acif.org.br
SUMMARY:Reunião Ordinária Hotéis da Região Central
DESCRIPTION:Reuniões presenciais serão realizadas na ACIF Matriz às 15:30h. \nReuniões On-line por meio do link: https://meet.google.com/bry-jjyc-tct \nCaso tenha interesse em participar!\nEntre em contato com: \nHugo Goulart – Consultor de Núcleos \nTel.: 48 9134-8587
URL:https://acif.org.br/evento/reuniao-ordinaria-hoteis-da-regiao-central/2026-05-13/
LOCATION:ACIF Matriz\, Rua Emilio Blum\, 121\, Florianópolis\, Santa Catarina\, 88020010\, Brasil
CATEGORIES:Reunião de núcleo
ATTACH;FMTTYPE=image/png:https://acif.org.br/wp-content/uploads/2023/09/ACIF-NUCLEO-HOTEIS-DA-REGIAO-CENTRAL-AZUL-LARANJA.png
END:VEVENT
BEGIN:VEVENT
DTSTART;TZID=America/Sao_Paulo:20260514T090000
DTEND;TZID=America/Sao_Paulo:20260514T103000
DTSTAMP:20260421T224724
CREATED:20250217T181733Z
LAST-MODIFIED:20260113T140024Z
UID:10001696-1778749200-1778754600@acif.org.br
SUMMARY:Reunião Ordinária de Educação
DESCRIPTION:Reuniões Presenciais serão realizadas na Sala Multiuso (ACIF Matriz) ás 09h. \nReuniões On-line por via do link: https://meet.google.com/yne-scar-qfv \nCaso tenha interesse em participar! \nEntre em conta com: \nJoão Moraes – Consultor de Núcleos \nTel.: 48 8816-9993
URL:https://acif.org.br/evento/reuniao-ordinaria-de-educacao/2026-05-14/
CATEGORIES:Reunião de núcleo
END:VEVENT
BEGIN:VEVENT
DTSTART;TZID=America/Sao_Paulo:20260514T190000
DTEND;TZID=America/Sao_Paulo:20260514T203000
DTSTAMP:20260421T224724
CREATED:20250409T181650Z
LAST-MODIFIED:20260113T154322Z
UID:10001822-1778785200-1778790600@acif.org.br
SUMMARY:Reunião Ordinária Marketing
DESCRIPTION:Reunião será realizada na Sala da CMAA (ACIF Matriz) às 19h. \nCaso tenha interesse em participar\, entre em contato com \nHugo Goulart – Consultor de Núcleos \nTel.: 48 9134-8587
URL:https://acif.org.br/evento/reuniao-ordinaria-marketing/2026-05-14/
LOCATION:ACIF Matriz\, Rua Emilio Blum\, 121\, Florianópolis\, Santa Catarina\, 88020010\, Brasil
CATEGORIES:Reunião de núcleo
ATTACH;FMTTYPE=image/png:https://acif.org.br/wp-content/uploads/2023/09/MARKETING-AZUL.png
END:VEVENT
BEGIN:VEVENT
DTSTART;TZID=America/Sao_Paulo:20260515T090000
DTEND;TZID=America/Sao_Paulo:20260515T103000
DTSTAMP:20260421T224724
CREATED:20250213T194532Z
LAST-MODIFIED:20251219T182651Z
UID:10001609-1778835600-1778841000@acif.org.br
SUMMARY:Reunião Ordinária Corretoras de Seguro
DESCRIPTION:Reunião será realizada na Instituição Facisc às 09h. \nCaso tenha interesse em participar\, entre em contato com \nAndréa Firmo – Consultora de Núcleos \nTel.: 48 9 9988-0462
URL:https://acif.org.br/evento/reuniao-ordinaria-corretoras-de-seguro/2026-05-15/
LOCATION:ACIF Matriz\, Rua Emilio Blum\, 121\, Florianópolis\, Santa Catarina\, 88020010\, Brasil
CATEGORIES:Reunião de núcleo
END:VEVENT
BEGIN:VEVENT
DTSTART;TZID=America/Sao_Paulo:20260518T140000
DTEND;TZID=America/Sao_Paulo:20260519T190000
DTSTAMP:20260421T224724
CREATED:20260310T173042Z
LAST-MODIFIED:20260310T173042Z
UID:10002013-1779112800-1779217200@acif.org.br
SUMMARY:Conexa
DESCRIPTION:O principal encontro multissetorial de negócios de Florianópolis está de volta. \nNos dias 18 e 19 de maio de 2026\, o CentroSul recebe o Conexa\, o maior evento de associativismo do país\, e que irá garantir uma experiência completa para quem quer se conectar\, gerar negócios\, fortalecer parcerias e ampliar oportunidades. \nApós o sucesso da edição comemorativa dos 110 anos\, a ACIF eleva o nível e entrega um evento ainda mais estratégico\, com conteúdo relevante\, networking qualificado\, conexões entre empresas de diferentes portes e setores\, além de ambientes pensados para troca\, relacionamento e crescimento. \nSerão dois dias intensos para quem busca visibilidade\, relacionamento\, aprendizado e negócios reais\, em um ambiente que reúne líderes\, empresários\, empreendedores e decisores do ecossistema empresarial. \nSe você acredita no associativismo\, quer fortalecer sua rede e transformar conexões em resultados\, este evento é para você.
URL:https://acif.org.br/evento/conexa/
LOCATION:Centro Sul – Centro de Convenções de Florianópolis\, Av. Gov. Gustavo Richard\, 850 - Centro\, Florianópolis - SC\, 88010-290\, Florianópolis\, Santa Catarina\, 88010-290
CATEGORIES:Encontro de networking,Evento,Institucional,Palestra
ATTACH;FMTTYPE=image/png:https://acif.org.br/wp-content/uploads/2026/03/Banner-Site.png
END:VEVENT
BEGIN:VEVENT
DTSTART;TZID=America/Sao_Paulo:20260518T180000
DTEND;TZID=America/Sao_Paulo:20260518T193000
DTSTAMP:20260421T224724
CREATED:20250409T165943Z
LAST-MODIFIED:20260113T144049Z
UID:10001739-1779127200-1779132600@acif.org.br
SUMMARY:Reunião Ordinária Guias de Turismo
DESCRIPTION:Reunião será realizada na ACIF Matriz às 18h. \nCaso tenha interesse em participar!\nEntre em contato com: \nMaísa Gomes – Consultora de Núcleos \nTel.: 48 9118-5881
URL:https://acif.org.br/evento/reuniao-ordinaria-guias-de-turismo/2026-05-18/
LOCATION:ACIF Matriz\, Rua Emilio Blum\, 121\, Florianópolis\, Santa Catarina\, 88020010\, Brasil
CATEGORIES:Reunião de núcleo
ATTACH;FMTTYPE=image/png:https://acif.org.br/wp-content/uploads/2023/09/NUCLEO-GUIAS-DE-TURISMO-AZUL-ROXO-1.png
END:VEVENT
BEGIN:VEVENT
DTSTART;TZID=America/Sao_Paulo:20260518T190000
DTEND;TZID=America/Sao_Paulo:20260518T203000
DTSTAMP:20260421T224724
CREATED:20260330T193048Z
LAST-MODIFIED:20260330T205807Z
UID:10002055-1779130800-1779136200@acif.org.br
SUMMARY:Reunião Ordinária ACIF Jovem
DESCRIPTION:Reunião será realizada na ACIF Matriz às 19h. \nEntre em contato com: \n48 9102-9404 \nCaso tenha interesse em participar!
URL:https://acif.org.br/evento/reuniao-ordinaria-acif-jovem-3/2026-05-18/
LOCATION:ACIF Matriz\, Rua Emilio Blum\, 121\, Florianópolis\, Santa Catarina\, 88020010\, Brasil
CATEGORIES:Reunião de núcleo
ATTACH;FMTTYPE=image/png:https://acif.org.br/wp-content/uploads/2025/02/ACIF-NUCLEO-JOVEM-AZUL.png
END:VEVENT
BEGIN:VEVENT
DTSTART;TZID=America/Sao_Paulo:20260520T190000
DTEND;TZID=America/Sao_Paulo:20260520T203000
DTSTAMP:20260421T224724
CREATED:20260114T192719Z
LAST-MODIFIED:20260114T193126Z
UID:10001892-1779303600-1779309000@acif.org.br
SUMMARY:Reunião Ordinária NEES
DESCRIPTION:Reunião será realizada na ACIF Matriz às 19h. \nCaso tenha interesse em participar\, \nEntre em contato com: \nJoão Moraes – Consultor de Núcleos \nTel.: 48 8816-9993
URL:https://acif.org.br/evento/reuniao-ordinaria-nees/2026-05-20/
LOCATION:ACIF Matriz\, Rua Emilio Blum\, 121\, Florianópolis\, Santa Catarina\, 88020010\, Brasil
CATEGORIES:Reunião de núcleo
END:VEVENT
BEGIN:VEVENT
DTSTART;TZID=America/Sao_Paulo:20260520T190000
DTEND;TZID=America/Sao_Paulo:20260520T203000
DTSTAMP:20260421T224724
CREATED:20260316T191809Z
LAST-MODIFIED:20260316T191809Z
UID:10002020-1779303600-1779309000@acif.org.br
SUMMARY:Reunião Ordinária do Núcleo de Advocacia
DESCRIPTION:Reunião será realizada ás 19h na ACIF Matriz. \nCaso tenha interesse em participar!  \nEntre em contato com: \nAndréa Firmo – Consultora de Núcleos \nTel: 48 9988-0462 – andrea.firmo@acif.org.br
URL:https://acif.org.br/evento/reuniao-ordinaria-do-nucleo-de-advocacia-2/2026-05-20/
LOCATION:ACIF Matriz\, Rua Emilio Blum\, 121\, Florianópolis\, Santa Catarina\, 88020010\, Brasil
CATEGORIES:Reunião de núcleo
END:VEVENT
BEGIN:VEVENT
DTSTART;TZID=America/Sao_Paulo:20260520T193000
DTEND;TZID=America/Sao_Paulo:20260520T210000
DTSTAMP:20260421T224724
CREATED:20260114T190601Z
LAST-MODIFIED:20260114T190850Z
UID:10001870-1779305400-1779310800@acif.org.br
SUMMARY:Reunião Ordinária Mercado Imobiliário
DESCRIPTION:Reunião será realizada na ACIF Matriz às 19:30.  \nCaso tenha interesse em participar!  \nEntre em contato com:  \nMaísa Gomes – Consultora de Núcleos  \nTel.: (48) 3084-9400
URL:https://acif.org.br/evento/reuniao-ordinaria-mercado-imobiliario/2026-05-20/
LOCATION:ACIF Matriz\, Rua Emilio Blum\, 121\, Florianópolis\, Santa Catarina\, 88020010\, Brasil
CATEGORIES:Reunião de núcleo
END:VEVENT
BEGIN:VEVENT
DTSTART;TZID=America/Sao_Paulo:20260521T160000
DTEND;TZID=America/Sao_Paulo:20260521T173000
DTSTAMP:20260421T224724
CREATED:20250217T175953Z
LAST-MODIFIED:20251219T172933Z
UID:10001576-1779379200-1779384600@acif.org.br
SUMMARY:Reunião Ordinária de Cooperativas
DESCRIPTION:Reunião será realizada na Sala CMAA (ACIF Matriz) às 16h. \nCaso tenha interesse em participar\, \nEntre em contato com: \nTatiane Silva  – Consultora de Núcleos \nTel.: 48 9 8864-1801 \n 
URL:https://acif.org.br/evento/reuniao-ordinaria-de-cooperativas/2026-05-21/
CATEGORIES:Reunião de núcleo
END:VEVENT
BEGIN:VEVENT
DTSTART;TZID=America/Sao_Paulo:20260521T183000
DTEND;TZID=America/Sao_Paulo:20260521T200000
DTSTAMP:20260421T224724
CREATED:20260114T204522Z
LAST-MODIFIED:20260127T181329Z
UID:10001944-1779388200-1779393600@acif.org.br
SUMMARY:Reunião Ordinária Psicologia
DESCRIPTION:Reunião será realizada na ACIF Matriz às 18:30h.  \nCaso tenha interesse em participar!  \nEntre em contato com:  \nFranciele Medeiros – Consultora de Núcleos  \nTel.:48 9988-2432
URL:https://acif.org.br/evento/reuniao-ordinaria-psicologia/2026-05-21/
LOCATION:ACIF Matriz\, Rua Emilio Blum\, 121\, Florianópolis\, Santa Catarina\, 88020010\, Brasil
CATEGORIES:Reunião de núcleo
END:VEVENT
BEGIN:VEVENT
DTSTART;TZID=America/Sao_Paulo:20260521T190000
DTEND;TZID=America/Sao_Paulo:20260521T203000
DTSTAMP:20260421T224724
CREATED:20250217T203028Z
LAST-MODIFIED:20260114T203600Z
UID:10001921-1779390000-1779395400@acif.org.br
SUMMARY:Reunião Ordinária Núcleo de Soluções Empresariais (NUSE)
DESCRIPTION:Reunião será realizada às 19h. \nCaso tenha interesse em participar! \nEntre em contato com: \nAndrea Firmo – Consultora de Núcleos \nTel.:48 9988-0462 – andrea.firmo@acif.org.br
URL:https://acif.org.br/evento/reuniao-ordinaria-nucleo-de-solucoes-empresariais-nuse/2026-05-21/
CATEGORIES:Reunião de núcleo
END:VEVENT
END:VCALENDAR