BEGIN:VCALENDAR
VERSION:2.0
PRODID:-//ACIF - ECPv6.14.0//NONSGML v1.0//EN
CALSCALE:GREGORIAN
METHOD:PUBLISH
X-WR-CALNAME:ACIF
X-ORIGINAL-URL:https://acif.org.br
X-WR-CALDESC:Eventos para ACIF
REFRESH-INTERVAL;VALUE=DURATION:PT1H
X-Robots-Tag:noindex
X-PUBLISHED-TTL:PT1H
BEGIN:VTIMEZONE
TZID:America/Sao_Paulo
BEGIN:STANDARD
TZOFFSETFROM:-0300
TZOFFSETTO:-0300
TZNAME:-03
DTSTART:20260101T000000
END:STANDARD
END:VTIMEZONE
BEGIN:VEVENT
DTSTART;TZID=America/Sao_Paulo:20260109T170000
DTEND;TZID=America/Sao_Paulo:20260109T183000
DTSTAMP:20260423T202619
CREATED:20260318T124416Z
LAST-MODIFIED:20260318T124417Z
UID:10002036-1767978000-1767983400@acif.org.br
SUMMARY:Reunião Ordinária Núcleo Coworking
DESCRIPTION:Reuniões presenciais serão realizadas na ACIF Matriz às 17h. \nLink para as reuniões on-line: https://meet.google.com/fby-tvvu-ozn \nEntre em contato com o consultor André (48 9 9134-8587) caso tenha interesse em participar!
URL:https://acif.org.br/evento/reuniao-ordinaria-nucleo-coworking-2/2026-01-09/
END:VEVENT
BEGIN:VEVENT
DTSTART;TZID=America/Sao_Paulo:20260114T190000
DTEND;TZID=America/Sao_Paulo:20260114T213000
DTSTAMP:20260423T202619
CREATED:20260206T135437Z
LAST-MODIFIED:20260206T140033Z
UID:10001991-1768417200-1768426200@acif.org.br
SUMMARY:Encontro de Negócios - 2ª EDIÇÃO 2026
DESCRIPTION:Data: 14/01\nHorário: 19h\nLocal: GUACIARA \nObjetivo: Fomentar o relacionamento entre os empresários da Região. \nProgramação: \n19h – Credenciamento\n19h30 – Abertura + PITCH DE NEGÓCIOS\n21h – Coquetel \nInscrições: Associados R$ 30\,00 | Não associados R$ 60\,00 \nLink da inscrição: https://acif.tcsdigital.com.br/digital/inscricoes/evento3.aspx?evento=104&idativa=1
URL:https://acif.org.br/evento/encontro-de-negocios-2a-edicao-2026/
LOCATION:Guaciara Restaurante\, R. Gen. Liberato Bittencourt\, 1901 - Estreito\, Florianópolis - SC\, 88070-800\, Florianópolis\, Santa Catarina\, 88070-800
CATEGORIES:Encontro de networking
ATTACH;FMTTYPE=image/jpeg:https://acif.org.br/wp-content/uploads/2025/02/Encontro-de-Negocios.jpg
END:VEVENT
BEGIN:VEVENT
DTSTART;TZID=America/Sao_Paulo:20260114T190000
DTEND;TZID=America/Sao_Paulo:20260114T220000
DTSTAMP:20260423T202619
CREATED:20260112T140430Z
LAST-MODIFIED:20260112T140430Z
UID:10001647-1768417200-1768428000@acif.org.br
SUMMARY:1º Encontro de Negócios 2026 - Regional Continente
DESCRIPTION:Depois de um ano de eventos de absoluto sucesso\, os Encontros de Negócios retornam em 2026 com ainda mais força! 🌟 \nConsolidados como o ponto de encontro do empreendedor de Florianópolis e região\, os nossos Encontros permitem a geração de networking de qualidade\, troca de experiências\, aprendizado e conexões que geram negócios. 🤝🏼 \nE para abrir o ano\, nossa primeira edição acontece no Continente\, no restaurante Guaciara\, a partir das 19 horas no dia 14 de janeiro. \nNão perca\, nos vemos lá! 😉
URL:https://acif.org.br/evento/https-acif-tcsdigital-com-br-digital-inscricoes-evento3-aspxevento164idativa1rascunho-automatico/
LOCATION:Guaciara Restaurante\, R. Gen. Liberato Bittencourt\, 1901 - Estreito\, Florianópolis - SC\, 88070-800\, Florianópolis\, Santa Catarina\, 88070-800
CATEGORIES:Encontro de networking
ATTACH;FMTTYPE=image/png:https://acif.org.br/wp-content/uploads/2026/01/Banner-site-desktop.png
END:VEVENT
BEGIN:VEVENT
DTSTART;TZID=America/Sao_Paulo:20260119T180000
DTEND;TZID=America/Sao_Paulo:20260119T193000
DTSTAMP:20260423T202619
CREATED:20240201T194935Z
LAST-MODIFIED:20260422T194447Z
UID:10001549-1768845600-1768851000@acif.org.br
SUMMARY:Reunião Ordinária Núcleo de Contadores
DESCRIPTION:Reunião presencial será realizada na ACIF Matriz às 18h. \nLink para participar online: meet.google.com/nux-vqzq-byz \nCaso tenha interesse em participar!  \nEntre em contato com:  \nAnne Caroline – Consultora de Núcleos  \nTel.: 48 8864-1801 \nanne.rios@acif.org.br
URL:https://acif.org.br/evento/reuniao-nucleo-de-contadores/2026-01-19/
CATEGORIES:Reunião de núcleo
END:VEVENT
BEGIN:VEVENT
DTSTART;TZID=America/Sao_Paulo:20260121T150000
DTEND;TZID=America/Sao_Paulo:20260121T163000
DTSTAMP:20260423T202619
CREATED:20250217T195142Z
LAST-MODIFIED:20260422T183317Z
UID:10001072-1769007600-1769013000@acif.org.br
SUMMARY:Reunião Ordinária  Núcleo Gastronômico da Lagoa da Conceição
DESCRIPTION:Reunião será realizada na Regional Lagoa às 15h. \nCaso tenha interesse em participar! \nEntre em contato com: \nAndré Carvalho – Consultor de Núcleos  \nTel.: 48 9134-8587 \nandre.carvalho@acif.org.br
URL:https://acif.org.br/evento/reuniao-ordinaria-nucleo-gastronomico-da-lagoa-da-conceicao/2026-01-21/
CATEGORIES:Reunião de núcleo
END:VEVENT
BEGIN:VEVENT
DTSTART;TZID=America/Sao_Paulo:20260123T190000
DTEND;TZID=America/Sao_Paulo:20260123T203000
DTSTAMP:20260423T202619
CREATED:20260120T163335Z
LAST-MODIFIED:20260120T163336Z
UID:10001481-1769194800-1769200200@acif.org.br
SUMMARY:Reunião Ordinária ACIF Jovem
DESCRIPTION:Reunião será realizada na ACIF Matriz às 19h. \nEntre em contato com a consultora Franciele (48 9988-2432) caso tenha interesse em participar!
URL:https://acif.org.br/evento/reuniao-ordinaria-acif-jovem-2/
LOCATION:ACIF Matriz\, Rua Emilio Blum\, 121\, Florianópolis\, Santa Catarina\, 88020010\, Brasil
CATEGORIES:Reunião de núcleo
ATTACH;FMTTYPE=image/png:https://acif.org.br/wp-content/uploads/2025/02/ACIF-NUCLEO-JOVEM-AZUL.png
END:VEVENT
BEGIN:VEVENT
DTSTART;TZID=America/Sao_Paulo:20260126T190000
DTEND;TZID=America/Sao_Paulo:20260126T203000
DTSTAMP:20260423T202619
CREATED:20260115T142802Z
LAST-MODIFIED:20260422T192353Z
UID:10001968-1769454000-1769459400@acif.org.br
SUMMARY:Reunião Ordinária Saúde & Bem-Estar
DESCRIPTION:Reunião será realizada no HUB Ingleses às 19h. \nCaso tenha interesse em participar! \nEntre em contato: \nMariana Aguiar – Consultora de Núcleos  \nTel.:48 9988-0462  \nmariana.aguiar@acif.org.br
URL:https://acif.org.br/evento/reuniao-ordinaria-saude-bem-estar/2026-01-26/
LOCATION:ACIF Matriz\, Rua Emilio Blum\, 121\, Florianópolis\, Santa Catarina\, 88020010\, Brasil
CATEGORIES:Reunião de núcleo
END:VEVENT
BEGIN:VEVENT
DTSTART;TZID=America/Sao_Paulo:20260128T193000
DTEND;TZID=America/Sao_Paulo:20260128T193000
DTSTAMP:20260423T202619
CREATED:20260114T190601Z
LAST-MODIFIED:20260422T190201Z
UID:10001862-1769628600-1769628600@acif.org.br
SUMMARY:Reunião Ordinária Mercado Imobiliário
DESCRIPTION:Reunião será realizada na ACIF Matriz às 19:00.  \nCaso tenha interesse em participar!  \nEntre em contato com:  \nMariana Aguiar – Consultora de Núcleos \nTel.: 48 9 9988-0462 \nmariana.aguiar@acif.org.br
URL:https://acif.org.br/evento/reuniao-ordinaria-mercado-imobiliario/2026-01-28/
LOCATION:ACIF Matriz\, Rua Emilio Blum\, 121\, Florianópolis\, Santa Catarina\, 88020010\, Brasil
CATEGORIES:Reunião de núcleo
END:VEVENT
END:VCALENDAR