BEGIN:VCALENDAR
VERSION:2.0
PRODID:-//ACIF - ECPv6.14.0//NONSGML v1.0//EN
CALSCALE:GREGORIAN
METHOD:PUBLISH
X-ORIGINAL-URL:https://acif.org.br
X-WR-CALDESC:Eventos para ACIF
REFRESH-INTERVAL;VALUE=DURATION:PT1H
X-Robots-Tag:noindex
X-PUBLISHED-TTL:PT1H
BEGIN:VTIMEZONE
TZID:America/Sao_Paulo
BEGIN:STANDARD
TZOFFSETFROM:-0300
TZOFFSETTO:-0300
TZNAME:-03
DTSTART:20260101T000000
END:STANDARD
END:VTIMEZONE
BEGIN:VEVENT
DTSTART;TZID=America/Sao_Paulo:20261116T180000
DTEND;TZID=America/Sao_Paulo:20261116T193000
DTSTAMP:20260422T184859
CREATED:20240201T194935Z
LAST-MODIFIED:20260422T194447Z
UID:10001569-1794852000-1794857400@acif.org.br
SUMMARY:Reunião Ordinária Núcleo de Contadores
DESCRIPTION:Reunião presencial será realizada na ACIF Matriz às 18h. \nLink para participar online: meet.google.com/nux-vqzq-byz \nCaso tenha interesse em participar!  \nEntre em contato com:  \nAnne Caroline – Consultora de Núcleos  \nTel.: 48 8864-1801 \nanne.rios@acif.org.br
URL:https://acif.org.br/evento/reuniao-nucleo-de-contadores/2026-11-16/
LOCATION:Santa Catarina
CATEGORIES:Reunião de núcleo
END:VEVENT
BEGIN:VEVENT
DTSTART;TZID=America/Sao_Paulo:20261117T090000
DTEND;TZID=America/Sao_Paulo:20261117T103000
DTSTAMP:20260422T184859
CREATED:20260114T194256Z
LAST-MODIFIED:20260114T194256Z
UID:10001911-1794906000-1794911400@acif.org.br
SUMMARY:Reunião Ordinária Eventos Organizados
DESCRIPTION:Reunião será realizada na ACIF Matriz às 09h.  \nCaso tenha interesse em participar!  \nEntre em contato com:  \nMaísa Gomes – Consultora de Núcleos  \nTel.: (48) 3084-9400
URL:https://acif.org.br/evento/reuniao-ordinaria-eventos-organizados/2026-11-17/
LOCATION:ACIF Matriz\, Rua Emilio Blum\, 121\, Florianópolis\, Santa Catarina\, 88020010\, Brasil
CATEGORIES:Reunião de núcleo
END:VEVENT
BEGIN:VEVENT
DTSTART;TZID=America/Sao_Paulo:20261117T093000
DTEND;TZID=America/Sao_Paulo:20261117T110000
DTSTAMP:20260422T184859
CREATED:20250408T193842Z
LAST-MODIFIED:20260310T183639Z
UID:10001690-1794907800-1794913200@acif.org.br
SUMMARY:Reunião Ordinária Núcleo Gastronômico da Costa da Lagoa
DESCRIPTION:Reunião será realizada no Restaurante Cabral às 09:30h. \nCaso tenha interesse em participar\, \nEntre em contato com: \nAndré Carvalho – Consultor de Núcleos \nTel.: 48 9134-8587
URL:https://acif.org.br/evento/reuniao-ordinaria-nucleo-gastronomico-da-costa-da-lagoa/2026-11-17/
LOCATION:ACIF Matriz\, Rua Emilio Blum\, 121\, Florianópolis\, Santa Catarina\, 88020010\, Brasil
CATEGORIES:Reunião de núcleo
ATTACH;FMTTYPE=image/png:https://acif.org.br/wp-content/uploads/2023/09/7679_19_M_Submarcas_Nucleos_Setorial-de-Gastronomia-da-Costa-da-Lagoa-positivo.png
END:VEVENT
BEGIN:VEVENT
DTSTART;TZID=America/Sao_Paulo:20261117T093000
DTEND;TZID=America/Sao_Paulo:20261117T110000
DTSTAMP:20260422T184859
CREATED:20260310T184732Z
LAST-MODIFIED:20260310T184732Z
UID:10001688-1794907800-1794913200@acif.org.br
SUMMARY:Reunião Ordinária Núcleo Gastronômico da Costa da Lagoa
DESCRIPTION:Reunião será realizada no Restaurante Recanto da Natureza às 09:30h. \nCaso tenha interesse em participar\, \nEntre em contato com: \nAndré Carvalho – Consultor de Núcleos \nTel.: 48 9134-8587
URL:https://acif.org.br/evento/reuniao-ordinaria-nucleo-gastronomico-da-costa-da-lagoa-19/
LOCATION:ACIF Matriz\, Rua Emilio Blum\, 121\, Florianópolis\, Santa Catarina\, 88020010\, Brasil
CATEGORIES:Reunião de núcleo
ATTACH;FMTTYPE=image/png:https://acif.org.br/wp-content/uploads/2023/09/7679_19_M_Submarcas_Nucleos_Setorial-de-Gastronomia-da-Costa-da-Lagoa-positivo.png
END:VEVENT
BEGIN:VEVENT
DTSTART;TZID=America/Sao_Paulo:20261118T150000
DTEND;TZID=America/Sao_Paulo:20261118T163000
DTSTAMP:20260422T184859
CREATED:20250217T195142Z
LAST-MODIFIED:20260422T183317Z
UID:10001733-1795014000-1795019400@acif.org.br
SUMMARY:Reunião Ordinária  Núcleo Gastronômico da Lagoa da Conceição
DESCRIPTION:Reunião será realizada na Regional Lagoa às 15h. \nCaso tenha interesse em participar! \nEntre em contato com: \nAndré Carvalho – Consultor de Núcleos  \nTel.: 48 9134-8587 \nandre.carvalho@acif.org.br
URL:https://acif.org.br/evento/reuniao-ordinaria-nucleo-gastronomico-da-lagoa-da-conceicao/2026-11-18/
LOCATION:Santa Catarina
CATEGORIES:Reunião de núcleo
END:VEVENT
BEGIN:VEVENT
DTSTART;TZID=America/Sao_Paulo:20261118T190000
DTEND;TZID=America/Sao_Paulo:20261118T213000
DTSTAMP:20260422T184859
CREATED:20260206T143648Z
LAST-MODIFIED:20260206T143648Z
UID:10002008-1795028400-1795037400@acif.org.br
SUMMARY:Encontro de Negócios - 2ª EDIÇÃO 2026
DESCRIPTION:Data: 18/11\nHorário: 19h\nRegional: CENTRO – LOCAL À DEFINIR. \nObjetivo: Fomentar o relacionamento entre os empresários da Região. \nProgramação: \n19h – Credenciamento\n19h30 – Abertura + PITCH DE NEGÓCIOS\n21h – Coquetel \nInscrições: Associados R$ 30\,00 | Não associados R$ 60\,00 \nLink da inscrição: https://acif.tcsdigital.com.br/digital/inscricoes/evento3.aspx?evento=167&idativa=1
URL:https://acif.org.br/evento/encontro-de-negocios-2a-edicao-2026-19/
LOCATION:Centro
CATEGORIES:Encontro de networking
ATTACH;FMTTYPE=image/jpeg:https://acif.org.br/wp-content/uploads/2025/02/Encontro-de-Negocios.jpg
END:VEVENT
BEGIN:VEVENT
DTSTART;TZID=America/Sao_Paulo:20261118T193000
DTEND;TZID=America/Sao_Paulo:20261118T210000
DTSTAMP:20260422T184859
CREATED:20260114T190601Z
LAST-MODIFIED:20260422T190201Z
UID:10001882-1795030200-1795035600@acif.org.br
SUMMARY:Reunião Ordinária Mercado Imobiliário
DESCRIPTION:Reunião será realizada na ACIF Matriz às 19:00.  \nCaso tenha interesse em participar!  \nEntre em contato com:  \nMariana Aguiar – Consultora de Núcleos \nTel.: 48 9 9988-0462 \nmariana.aguiar@acif.org.br
URL:https://acif.org.br/evento/reuniao-ordinaria-mercado-imobiliario/2026-11-18/
LOCATION:ACIF Matriz\, Rua Emilio Blum\, 121\, Florianópolis\, Santa Catarina\, 88020010\, Brasil
CATEGORIES:Reunião de núcleo
END:VEVENT
BEGIN:VEVENT
DTSTART;TZID=America/Sao_Paulo:20261119T160000
DTEND;TZID=America/Sao_Paulo:20261119T173000
DTSTAMP:20260422T184859
CREATED:20250217T175953Z
LAST-MODIFIED:20260422T185544Z
UID:10001582-1795104000-1795109400@acif.org.br
SUMMARY:Reunião Ordinária de Cooperativas
DESCRIPTION:Reunião será realizada na ACIF Matriz às 16h. \nCaso tenha interesse em participar\, \nEntre em contato com: \nMariana Aguiar – Consultora de Núcleos \nTel.: 48 9 9988-0462 \nmariana.aguiar@acif.org.br
URL:https://acif.org.br/evento/reuniao-ordinaria-de-cooperativas/2026-11-19/
LOCATION:Santa Catarina
CATEGORIES:Reunião de núcleo
END:VEVENT
BEGIN:VEVENT
DTSTART;TZID=America/Sao_Paulo:20261119T200000
DTEND;TZID=America/Sao_Paulo:20261119T220000
DTSTAMP:20260422T184859
CREATED:20250217T204441Z
LAST-MODIFIED:20260422T184457Z
UID:10001967-1795118400-1795125600@acif.org.br
SUMMARY:Reunião Ordinária Núcleo  Setorial de Reparação Automotiva
DESCRIPTION:Reunião será realizada ás 20h nas oficinas. \nCaso tenha interesse em participar! \nEntre em contato com: \nAndré Carvalho – Consultor de Núcleos  \nTel.: 48 9134-8587  \nandre.carvalho@acif.org.br
URL:https://acif.org.br/evento/reuniao-ordinaria-nucleo-setorial-de-reparacao-automotiva/2026-11-19/
LOCATION:Santa Catarina
CATEGORIES:Reunião de núcleo
END:VEVENT
BEGIN:VEVENT
DTSTART;TZID=America/Sao_Paulo:20261123T180000
DTEND;TZID=America/Sao_Paulo:20261123T193000
DTSTAMP:20260422T184859
CREATED:20260422T214632Z
LAST-MODIFIED:20260422T214632Z
UID:10002163-1795456800-1795462200@acif.org.br
SUMMARY:Reunião Ordinária Núcleo de Guias de Turismo
DESCRIPTION:Reunião será realizada na ACIF Matriz às 18h.  \nCaso tenha interesse em participar! \n Entre em contato com:  \nCibele Quintino – Consultora de Núcleos  \nTel.: 48 9102-9404 \ncibele.quintino@acif.org.br
URL:https://acif.org.br/evento/reuniao-ordinaria-nucleo-de-guias-de-turismo/2026-11-23/
LOCATION:ACIF Matriz\, Rua Emilio Blum\, 121\, Florianópolis\, Santa Catarina\, 88020010\, Brasil
CATEGORIES:Reunião de núcleo
END:VEVENT
BEGIN:VEVENT
DTSTART;TZID=America/Sao_Paulo:20261123T190000
DTEND;TZID=America/Sao_Paulo:20261123T203000
DTSTAMP:20260422T184859
CREATED:20260115T142802Z
LAST-MODIFIED:20260422T192353Z
UID:10001988-1795460400-1795465800@acif.org.br
SUMMARY:Reunião Ordinária Saúde & Bem-Estar
DESCRIPTION:Reunião será realizada no HUB Ingleses às 19h. \nCaso tenha interesse em participar! \nEntre em contato: \nMariana Aguiar – Consultora de Núcleos  \nTel.:48 9988-0462  \nmariana.aguiar@acif.org.br
URL:https://acif.org.br/evento/reuniao-ordinaria-saude-bem-estar/2026-11-23/
LOCATION:ACIF Matriz\, Rua Emilio Blum\, 121\, Florianópolis\, Santa Catarina\, 88020010\, Brasil
CATEGORIES:Reunião de núcleo
END:VEVENT
BEGIN:VEVENT
DTSTART;TZID=America/Sao_Paulo:20261123T190000
DTEND;TZID=America/Sao_Paulo:20261123T213000
DTSTAMP:20260422T184859
CREATED:20250221T180028Z
LAST-MODIFIED:20260113T133054Z
UID:10001670-1795460400-1795469400@acif.org.br
SUMMARY:Reunião Ordinária do Núcleo de Condomínios e Prestadores de Serviços
DESCRIPTION:Reunião será realizada na Sala da Presidência (ACIF Matriz) às 19h. \nCaso tenha interesse em participar!\nEntre em contato com: \nJoão Moraes – Consultor de Núcleos \nTel.:48 8816-9993 
URL:https://acif.org.br/evento/reuniao-ordinaria-do-nucleo-de-condominios-e-prestadores-de-servicos/2026-11-23/
LOCATION:Santa Catarina
CATEGORIES:Reunião de núcleo
END:VEVENT
BEGIN:VEVENT
DTSTART;TZID=America/Sao_Paulo:20261124T170000
DTEND;TZID=America/Sao_Paulo:20261124T183000
DTSTAMP:20260422T184859
CREATED:20250408T201208Z
LAST-MODIFIED:20260420T194308Z
UID:10002080-1795539600-1795545000@acif.org.br
SUMMARY:Reunião Ordinária do Núcleo de Coworking
DESCRIPTION:Reuniões presenciais serão realizadas na ACIF Matriz ás 17h. \nCaso tenha interesse em participar! \nEntre em contato com: \nAndré Carvalho – Consultor de Núcleos \nTel.: 48 9 9134-8587
URL:https://acif.org.br/evento/reuniao-ordinaria-do-nucleo-de-coworking/2026-11-24/
LOCATION:ACIF Matriz\, Rua Emilio Blum\, 121\, Florianópolis\, Santa Catarina\, 88020010\, Brasil
CATEGORIES:Reunião de núcleo
ATTACH;FMTTYPE=image/png:https://acif.org.br/wp-content/uploads/2023/09/ACIF-NUCLEO-COWORKING-AZUL-4-1.png
END:VEVENT
BEGIN:VEVENT
DTSTART;TZID=America/Sao_Paulo:20261125T140000
DTEND;TZID=America/Sao_Paulo:20261125T153000
DTSTAMP:20260422T184859
CREATED:20250409T173524Z
LAST-MODIFIED:20260422T212436Z
UID:10001793-1795615200-1795620600@acif.org.br
SUMMARY:Reunião Ordinária Hotéis do Norte da Ilha
DESCRIPTION:Reunião será realizada no HUB Ingleses às 14h. \nCaso tenha interesse em participar!\nEntre em contato com: \nAnne Caroline – Consultora de Núcleos  \nTel.: 48 8864-1801 \nanne.rios@acif.org.br
URL:https://acif.org.br/evento/reuniao-ordinaria-hoteis-do-norte-da-ilha/2026-11-25/
LOCATION:Ingleses
CATEGORIES:Reunião de núcleo
ATTACH;FMTTYPE=image/png:https://acif.org.br/wp-content/uploads/2023/09/ACIF-NUCLEO-HOTEIS-DO-NORTE-DA-ILHA-AZUL-5.png
END:VEVENT
BEGIN:VEVENT
DTSTART;TZID=America/Sao_Paulo:20261125T190000
DTEND;TZID=America/Sao_Paulo:20261125T203000
DTSTAMP:20260422T184859
CREATED:20260316T191809Z
LAST-MODIFIED:20260316T191809Z
UID:10002034-1795633200-1795638600@acif.org.br
SUMMARY:Reunião Ordinária do Núcleo de Advocacia
DESCRIPTION:Reunião será realizada ás 19h na ACIF Matriz. \nCaso tenha interesse em participar!  \nEntre em contato com: \nAndréa Firmo – Consultora de Núcleos \nTel: 48 9988-0462 – andrea.firmo@acif.org.br
URL:https://acif.org.br/evento/reuniao-ordinaria-do-nucleo-de-advocacia-2/2026-11-25/
LOCATION:ACIF Matriz\, Rua Emilio Blum\, 121\, Florianópolis\, Santa Catarina\, 88020010\, Brasil
CATEGORIES:Reunião de núcleo
END:VEVENT
BEGIN:VEVENT
DTSTART;TZID=America/Sao_Paulo:20261126T183000
DTEND;TZID=America/Sao_Paulo:20261126T200000
DTSTAMP:20260422T184859
CREATED:20260114T204522Z
LAST-MODIFIED:20260127T181329Z
UID:10001957-1795717800-1795723200@acif.org.br
SUMMARY:Reunião Ordinária Psicologia
DESCRIPTION:Reunião será realizada na ACIF Matriz às 18:30h.  \nCaso tenha interesse em participar!  \nEntre em contato com:  \nFranciele Medeiros – Consultora de Núcleos  \nTel.:48 9988-2432
URL:https://acif.org.br/evento/reuniao-ordinaria-psicologia/2026-11-26/
LOCATION:ACIF Matriz\, Rua Emilio Blum\, 121\, Florianópolis\, Santa Catarina\, 88020010\, Brasil
CATEGORIES:Reunião de núcleo
END:VEVENT
BEGIN:VEVENT
DTSTART;TZID=America/Sao_Paulo:20261126T183000
DTEND;TZID=America/Sao_Paulo:20261126T200000
DTSTAMP:20260422T184859
CREATED:20260422T182309Z
LAST-MODIFIED:20260422T191906Z
UID:10002106-1795717800-1795723200@acif.org.br
SUMMARY:Reunião Ordinária Núcleo de Soluções Empresariais (NUSE)
DESCRIPTION:Reunião será realizada na ACIF Matriz às 18h30. \nCaso tenha interesse em participar! \nEntre em contato com: \nMariana Aguiar – Consultora de Núcleos \nTel.:48 9988-0462 \nmariana.aguiar@acif.org.br
URL:https://acif.org.br/evento/reuniao-ordinaria-nucleo-de-solucoes-empresariais-nuse-2/2026-11-26/
LOCATION:ACIF Matriz\, Rua Emilio Blum\, 121\, Florianópolis\, Santa Catarina\, 88020010\, Brasil
CATEGORIES:Reunião de núcleo
END:VEVENT
BEGIN:VEVENT
DTSTART;TZID=America/Sao_Paulo:20261126T190000
DTEND;TZID=America/Sao_Paulo:20261126T203000
DTSTAMP:20260422T184859
CREATED:20250409T181650Z
LAST-MODIFIED:20260113T154322Z
UID:10001836-1795719600-1795725000@acif.org.br
SUMMARY:Reunião Ordinária Marketing
DESCRIPTION:Reunião será realizada na Sala da CMAA (ACIF Matriz) às 19h. \nCaso tenha interesse em participar\, entre em contato com \nHugo Goulart – Consultor de Núcleos \nTel.: 48 9134-8587
URL:https://acif.org.br/evento/reuniao-ordinaria-marketing/2026-11-26/
LOCATION:ACIF Matriz\, Rua Emilio Blum\, 121\, Florianópolis\, Santa Catarina\, 88020010\, Brasil
CATEGORIES:Reunião de núcleo
ATTACH;FMTTYPE=image/png:https://acif.org.br/wp-content/uploads/2023/09/MARKETING-AZUL.png
END:VEVENT
BEGIN:VEVENT
DTSTART;TZID=America/Sao_Paulo:20261127T090000
DTEND;TZID=America/Sao_Paulo:20261127T103000
DTSTAMP:20260422T184859
CREATED:20250213T194532Z
LAST-MODIFIED:20251219T182651Z
UID:10001623-1795770000-1795775400@acif.org.br
SUMMARY:Reunião Ordinária Corretoras de Seguro
DESCRIPTION:Reunião será realizada na Instituição Facisc às 09h. \nCaso tenha interesse em participar\, entre em contato com \nAndréa Firmo – Consultora de Núcleos \nTel.: 48 9 9988-0462
URL:https://acif.org.br/evento/reuniao-ordinaria-corretoras-de-seguro/2026-11-27/
LOCATION:ACIF Matriz\, Rua Emilio Blum\, 121\, Florianópolis\, Santa Catarina\, 88020010\, Brasil
CATEGORIES:Reunião de núcleo
END:VEVENT
BEGIN:VEVENT
DTSTART;TZID=America/Sao_Paulo:20261127T090000
DTEND;TZID=America/Sao_Paulo:20261127T103000
DTSTAMP:20260422T184859
CREATED:20250217T181733Z
LAST-MODIFIED:20260113T140024Z
UID:10001710-1795770000-1795775400@acif.org.br
SUMMARY:Reunião Ordinária de Educação
DESCRIPTION:Reuniões Presenciais serão realizadas na Sala Multiuso (ACIF Matriz) ás 09h. \nReuniões On-line por via do link: https://meet.google.com/yne-scar-qfv \nCaso tenha interesse em participar! \nEntre em conta com: \nJoão Moraes – Consultor de Núcleos \nTel.: 48 8816-9993
URL:https://acif.org.br/evento/reuniao-ordinaria-de-educacao/2026-11-27/
LOCATION:Santa Catarina
CATEGORIES:Reunião de núcleo
END:VEVENT
BEGIN:VEVENT
DTSTART;TZID=America/Sao_Paulo:20261130T180000
DTEND;TZID=America/Sao_Paulo:20261130T193000
DTSTAMP:20260422T184859
CREATED:20240201T194935Z
LAST-MODIFIED:20260422T194447Z
UID:10001570-1796061600-1796067000@acif.org.br
SUMMARY:Reunião Ordinária Núcleo de Contadores
DESCRIPTION:Reunião presencial será realizada na ACIF Matriz às 18h. \nLink para participar online: meet.google.com/nux-vqzq-byz \nCaso tenha interesse em participar!  \nEntre em contato com:  \nAnne Caroline – Consultora de Núcleos  \nTel.: 48 8864-1801 \nanne.rios@acif.org.br
URL:https://acif.org.br/evento/reuniao-nucleo-de-contadores/2026-11-30/
LOCATION:Santa Catarina
CATEGORIES:Reunião de núcleo
END:VEVENT
BEGIN:VEVENT
DTSTART;TZID=America/Sao_Paulo:20261130T190000
DTEND;TZID=America/Sao_Paulo:20261130T190000
DTSTAMP:20260422T184859
CREATED:20260206T143822Z
LAST-MODIFIED:20260206T143838Z
UID:10002009-1796065200-1796065200@acif.org.br
SUMMARY:Encontro de Negócios - 2ª EDIÇÃO 2026
DESCRIPTION:Data: 30/11\nHorário: 19h\nRegional: SUL – LOCAL À DEFINIR. \nObjetivo: Fomentar o relacionamento entre os empresários da Região. \nProgramação: \n19h – Credenciamento\n19h30 – Abertura + PITCH DE NEGÓCIOS\n21h – Coquetel \nInscrições: Associados R$ 30\,00 | Não associados R$ 60\,00 \nLink da inscrição: https://acif.tcsdigital.com.br/digital/inscricoes/evento3.aspx?evento=167&idativa=1
URL:https://acif.org.br/evento/encontro-de-negocios-2a-edicao-2026-20/
LOCATION:Sul
CATEGORIES:Encontro de networking
ATTACH;FMTTYPE=image/jpeg:https://acif.org.br/wp-content/uploads/2025/02/Encontro-de-Negocios.jpg
END:VEVENT
BEGIN:VEVENT
DTSTART;TZID=America/Sao_Paulo:20261201T090000
DTEND;TZID=America/Sao_Paulo:20261201T103000
DTSTAMP:20260422T184859
CREATED:20260114T194256Z
LAST-MODIFIED:20260114T194256Z
UID:10001912-1796115600-1796121000@acif.org.br
SUMMARY:Reunião Ordinária Eventos Organizados
DESCRIPTION:Reunião será realizada na ACIF Matriz às 09h.  \nCaso tenha interesse em participar!  \nEntre em contato com:  \nMaísa Gomes – Consultora de Núcleos  \nTel.: (48) 3084-9400
URL:https://acif.org.br/evento/reuniao-ordinaria-eventos-organizados/2026-12-01/
LOCATION:ACIF Matriz\, Rua Emilio Blum\, 121\, Florianópolis\, Santa Catarina\, 88020010\, Brasil
CATEGORIES:Reunião de núcleo
END:VEVENT
BEGIN:VEVENT
DTSTART;TZID=America/Sao_Paulo:20261202T193000
DTEND;TZID=America/Sao_Paulo:20261202T210000
DTSTAMP:20260422T184859
CREATED:20260114T190601Z
LAST-MODIFIED:20260422T190201Z
UID:10001883-1796239800-1796245200@acif.org.br
SUMMARY:Reunião Ordinária Mercado Imobiliário
DESCRIPTION:Reunião será realizada na ACIF Matriz às 19:00.  \nCaso tenha interesse em participar!  \nEntre em contato com:  \nMariana Aguiar – Consultora de Núcleos \nTel.: 48 9 9988-0462 \nmariana.aguiar@acif.org.br
URL:https://acif.org.br/evento/reuniao-ordinaria-mercado-imobiliario/2026-12-02/
LOCATION:ACIF Matriz\, Rua Emilio Blum\, 121\, Florianópolis\, Santa Catarina\, 88020010\, Brasil
CATEGORIES:Reunião de núcleo
END:VEVENT
BEGIN:VEVENT
DTSTART;TZID=America/Sao_Paulo:20261204T090000
DTEND;TZID=America/Sao_Paulo:20261204T103000
DTSTAMP:20260422T184859
CREATED:20250213T194532Z
LAST-MODIFIED:20251219T182651Z
UID:10001624-1796374800-1796380200@acif.org.br
SUMMARY:Reunião Ordinária Corretoras de Seguro
DESCRIPTION:Reunião será realizada na Instituição Facisc às 09h. \nCaso tenha interesse em participar\, entre em contato com \nAndréa Firmo – Consultora de Núcleos \nTel.: 48 9 9988-0462
URL:https://acif.org.br/evento/reuniao-ordinaria-corretoras-de-seguro/2026-12-04/
LOCATION:ACIF Matriz\, Rua Emilio Blum\, 121\, Florianópolis\, Santa Catarina\, 88020010\, Brasil
CATEGORIES:Reunião de núcleo
END:VEVENT
BEGIN:VEVENT
DTSTART;TZID=America/Sao_Paulo:20261204T183000
DTEND;TZID=America/Sao_Paulo:20261204T200000
DTSTAMP:20260422T184859
CREATED:20260422T182309Z
LAST-MODIFIED:20260422T191906Z
UID:10002107-1796409000-1796414400@acif.org.br
SUMMARY:Reunião Ordinária Núcleo de Soluções Empresariais (NUSE)
DESCRIPTION:Reunião será realizada na ACIF Matriz às 18h30. \nCaso tenha interesse em participar! \nEntre em contato com: \nMariana Aguiar – Consultora de Núcleos \nTel.:48 9988-0462 \nmariana.aguiar@acif.org.br
URL:https://acif.org.br/evento/reuniao-ordinaria-nucleo-de-solucoes-empresariais-nuse-2/2026-12-04/
LOCATION:ACIF Matriz\, Rua Emilio Blum\, 121\, Florianópolis\, Santa Catarina\, 88020010\, Brasil
CATEGORIES:Reunião de núcleo
END:VEVENT
BEGIN:VEVENT
DTSTART;TZID=America/Sao_Paulo:20261205T170000
DTEND;TZID=America/Sao_Paulo:20261205T183000
DTSTAMP:20260422T184859
CREATED:20260318T124416Z
LAST-MODIFIED:20260318T124417Z
UID:10002042-1796490000-1796495400@acif.org.br
SUMMARY:Reunião Ordinária Núcleo Coworking
DESCRIPTION:Reuniões presenciais serão realizadas na ACIF Matriz às 17h. \nLink para as reuniões on-line: https://meet.google.com/fby-tvvu-ozn \nEntre em contato com o consultor André (48 9 9134-8587) caso tenha interesse em participar!
URL:https://acif.org.br/evento/reuniao-ordinaria-nucleo-coworking-2/2026-12-05/
LOCATION:Santa Catarina
END:VEVENT
BEGIN:VEVENT
DTSTART;TZID=America/Sao_Paulo:20261207T180000
DTEND;TZID=America/Sao_Paulo:20261207T193000
DTSTAMP:20260422T184859
CREATED:20240201T194935Z
LAST-MODIFIED:20260422T194447Z
UID:10001571-1796666400-1796671800@acif.org.br
SUMMARY:Reunião Ordinária Núcleo de Contadores
DESCRIPTION:Reunião presencial será realizada na ACIF Matriz às 18h. \nLink para participar online: meet.google.com/nux-vqzq-byz \nCaso tenha interesse em participar!  \nEntre em contato com:  \nAnne Caroline – Consultora de Núcleos  \nTel.: 48 8864-1801 \nanne.rios@acif.org.br
URL:https://acif.org.br/evento/reuniao-nucleo-de-contadores/2026-12-07/
LOCATION:Santa Catarina
CATEGORIES:Reunião de núcleo
END:VEVENT
BEGIN:VEVENT
DTSTART;TZID=America/Sao_Paulo:20261207T180000
DTEND;TZID=America/Sao_Paulo:20261207T193000
DTSTAMP:20260422T184859
CREATED:20260422T214632Z
LAST-MODIFIED:20260422T214632Z
UID:10002164-1796666400-1796671800@acif.org.br
SUMMARY:Reunião Ordinária Núcleo de Guias de Turismo
DESCRIPTION:Reunião será realizada na ACIF Matriz às 18h.  \nCaso tenha interesse em participar! \n Entre em contato com:  \nCibele Quintino – Consultora de Núcleos  \nTel.: 48 9102-9404 \ncibele.quintino@acif.org.br
URL:https://acif.org.br/evento/reuniao-ordinaria-nucleo-de-guias-de-turismo/2026-12-07/
LOCATION:ACIF Matriz\, Rua Emilio Blum\, 121\, Florianópolis\, Santa Catarina\, 88020010\, Brasil
CATEGORIES:Reunião de núcleo
END:VEVENT
BEGIN:VEVENT
DTSTART;TZID=America/Sao_Paulo:20261207T190000
DTEND;TZID=America/Sao_Paulo:20261207T203000
DTSTAMP:20260422T184859
CREATED:20260115T142802Z
LAST-MODIFIED:20260422T192353Z
UID:10001989-1796670000-1796675400@acif.org.br
SUMMARY:Reunião Ordinária Saúde & Bem-Estar
DESCRIPTION:Reunião será realizada no HUB Ingleses às 19h. \nCaso tenha interesse em participar! \nEntre em contato: \nMariana Aguiar – Consultora de Núcleos  \nTel.:48 9988-0462  \nmariana.aguiar@acif.org.br
URL:https://acif.org.br/evento/reuniao-ordinaria-saude-bem-estar/2026-12-07/
LOCATION:ACIF Matriz\, Rua Emilio Blum\, 121\, Florianópolis\, Santa Catarina\, 88020010\, Brasil
CATEGORIES:Reunião de núcleo
END:VEVENT
END:VCALENDAR