BEGIN:VCALENDAR
VERSION:2.0
PRODID:-//ACIF - ECPv6.14.0//NONSGML v1.0//EN
CALSCALE:GREGORIAN
METHOD:PUBLISH
X-ORIGINAL-URL:https://acif.org.br
X-WR-CALDESC:Eventos para ACIF
REFRESH-INTERVAL;VALUE=DURATION:PT1H
X-Robots-Tag:noindex
X-PUBLISHED-TTL:PT1H
BEGIN:VTIMEZONE
TZID:America/Sao_Paulo
BEGIN:STANDARD
TZOFFSETFROM:-0300
TZOFFSETTO:-0300
TZNAME:-03
DTSTART:20260101T000000
END:STANDARD
END:VTIMEZONE
BEGIN:VEVENT
DTSTART;TZID=America/Sao_Paulo:20261103T090000
DTEND;TZID=America/Sao_Paulo:20261103T103000
DTSTAMP:20260422T073334
CREATED:20260114T194256Z
LAST-MODIFIED:20260114T194256Z
UID:10001910-1793696400-1793701800@acif.org.br
SUMMARY:Reunião Ordinária Eventos Organizados
DESCRIPTION:Reunião será realizada na ACIF Matriz às 09h.  \nCaso tenha interesse em participar!  \nEntre em contato com:  \nMaísa Gomes – Consultora de Núcleos  \nTel.: (48) 3084-9400
URL:https://acif.org.br/evento/reuniao-ordinaria-eventos-organizados/2026-11-03/
LOCATION:ACIF Matriz\, Rua Emilio Blum\, 121\, Florianópolis\, Santa Catarina\, 88020010\, Brasil
CATEGORIES:Reunião de núcleo
END:VEVENT
BEGIN:VEVENT
DTSTART;TZID=America/Sao_Paulo:20261103T093000
DTEND;TZID=America/Sao_Paulo:20261103T110000
DTSTAMP:20260422T073334
CREATED:20260310T184453Z
LAST-MODIFIED:20260310T184558Z
UID:10001689-1793698200-1793703600@acif.org.br
SUMMARY:Reunião Ordinária Núcleo Gastronômico da Costa da Lagoa
DESCRIPTION:Reunião será realizada no Restaurante Lagoa Bonita às 09:30h. \nCaso tenha interesse em participar\, \nEntre em contato com: \nAndré Carvalho – Consultor de Núcleos \nTel.: 48 9134-8587
URL:https://acif.org.br/evento/reuniao-ordinaria-nucleo-gastronomico-da-costa-da-lagoa-18/
LOCATION:ACIF Matriz\, Rua Emilio Blum\, 121\, Florianópolis\, Santa Catarina\, 88020010\, Brasil
CATEGORIES:Reunião de núcleo
ATTACH;FMTTYPE=image/png:https://acif.org.br/wp-content/uploads/2023/09/7679_19_M_Submarcas_Nucleos_Setorial-de-Gastronomia-da-Costa-da-Lagoa-positivo.png
END:VEVENT
BEGIN:VEVENT
DTSTART;TZID=America/Sao_Paulo:20261104T150000
DTEND;TZID=America/Sao_Paulo:20261104T163000
DTSTAMP:20260422T073334
CREATED:20250217T195142Z
LAST-MODIFIED:20260113T142349Z
UID:10001732-1793804400-1793809800@acif.org.br
SUMMARY:Reunião Ordinária  Núcleo Gastronômico da Lagoa da Conceição
DESCRIPTION:Reunião será realizada na Regional Lagoa às 15h. \nCaso tenha interesse em participar! \nEntre em contato com: \nTatiane Silva – Consultora de Núcleos\n \nTel.: (48) 8864-1801
URL:https://acif.org.br/evento/reuniao-ordinaria-nucleo-gastronomico-da-lagoa-da-conceicao/2026-11-04/
CATEGORIES:Reunião de núcleo
END:VEVENT
BEGIN:VEVENT
DTSTART;TZID=America/Sao_Paulo:20261104T193000
DTEND;TZID=America/Sao_Paulo:20261104T210000
DTSTAMP:20260422T073334
CREATED:20260114T190601Z
LAST-MODIFIED:20260114T190850Z
UID:10001881-1793820600-1793826000@acif.org.br
SUMMARY:Reunião Ordinária Mercado Imobiliário
DESCRIPTION:Reunião será realizada na ACIF Matriz às 19:30.  \nCaso tenha interesse em participar!  \nEntre em contato com:  \nMaísa Gomes – Consultora de Núcleos  \nTel.: (48) 3084-9400
URL:https://acif.org.br/evento/reuniao-ordinaria-mercado-imobiliario/2026-11-04/
LOCATION:ACIF Matriz\, Rua Emilio Blum\, 121\, Florianópolis\, Santa Catarina\, 88020010\, Brasil
CATEGORIES:Reunião de núcleo
END:VEVENT
BEGIN:VEVENT
DTSTART;TZID=America/Sao_Paulo:20261105T190000
DTEND;TZID=America/Sao_Paulo:20261105T203000
DTSTAMP:20260422T073334
CREATED:20250217T203028Z
LAST-MODIFIED:20260114T203600Z
UID:10001934-1793905200-1793910600@acif.org.br
SUMMARY:Reunião Ordinária Núcleo de Soluções Empresariais (NUSE)
DESCRIPTION:Reunião será realizada às 19h. \nCaso tenha interesse em participar! \nEntre em contato com: \nAndrea Firmo – Consultora de Núcleos \nTel.:48 9988-0462 – andrea.firmo@acif.org.br
URL:https://acif.org.br/evento/reuniao-ordinaria-nucleo-de-solucoes-empresariais-nuse/2026-11-05/
CATEGORIES:Reunião de núcleo
END:VEVENT
BEGIN:VEVENT
DTSTART;TZID=America/Sao_Paulo:20261109T180000
DTEND;TZID=America/Sao_Paulo:20261109T193000
DTSTAMP:20260422T073334
CREATED:20250409T165943Z
LAST-MODIFIED:20260113T144049Z
UID:10001751-1794247200-1794252600@acif.org.br
SUMMARY:Reunião Ordinária Guias de Turismo
DESCRIPTION:Reunião será realizada na ACIF Matriz às 18h. \nCaso tenha interesse em participar!\nEntre em contato com: \nMaísa Gomes – Consultora de Núcleos \nTel.: 48 9118-5881
URL:https://acif.org.br/evento/reuniao-ordinaria-guias-de-turismo/2026-11-09/
LOCATION:ACIF Matriz\, Rua Emilio Blum\, 121\, Florianópolis\, Santa Catarina\, 88020010\, Brasil
CATEGORIES:Reunião de núcleo
ATTACH;FMTTYPE=image/png:https://acif.org.br/wp-content/uploads/2023/09/NUCLEO-GUIAS-DE-TURISMO-AZUL-ROXO-1.png
END:VEVENT
BEGIN:VEVENT
DTSTART;TZID=America/Sao_Paulo:20261109T190000
DTEND;TZID=America/Sao_Paulo:20261109T203000
DTSTAMP:20260422T073334
CREATED:20260115T142802Z
LAST-MODIFIED:20260115T142802Z
UID:10001987-1794250800-1794256200@acif.org.br
SUMMARY:Reunião Ordinária Saúde & Bem-Estar
DESCRIPTION:Reunião será realizada no HUB Ingleses às 19h. \nCaso tenha interesse em participar! \nEntre em contato: \nHugo Goulart – Consultor de Núcleos  \nTel.: 48 9134-8587
URL:https://acif.org.br/evento/reuniao-ordinaria-saude-bem-estar/2026-11-09/
LOCATION:ACIF Matriz\, Rua Emilio Blum\, 121\, Florianópolis\, Santa Catarina\, 88020010\, Brasil
CATEGORIES:Reunião de núcleo
END:VEVENT
BEGIN:VEVENT
DTSTART;TZID=America/Sao_Paulo:20261109T190000
DTEND;TZID=America/Sao_Paulo:20261109T203000
DTSTAMP:20260422T073334
CREATED:20260330T193048Z
LAST-MODIFIED:20260330T205807Z
UID:10002068-1794250800-1794256200@acif.org.br
SUMMARY:Reunião Ordinária ACIF Jovem
DESCRIPTION:Reunião será realizada na ACIF Matriz às 19h. \nEntre em contato com: \n48 9102-9404 \nCaso tenha interesse em participar!
URL:https://acif.org.br/evento/reuniao-ordinaria-acif-jovem-3/2026-11-09/
LOCATION:ACIF Matriz\, Rua Emilio Blum\, 121\, Florianópolis\, Santa Catarina\, 88020010\, Brasil
CATEGORIES:Reunião de núcleo
ATTACH;FMTTYPE=image/png:https://acif.org.br/wp-content/uploads/2025/02/ACIF-NUCLEO-JOVEM-AZUL.png
END:VEVENT
BEGIN:VEVENT
DTSTART;TZID=America/Sao_Paulo:20261109T190000
DTEND;TZID=America/Sao_Paulo:20261109T213000
DTSTAMP:20260422T073334
CREATED:20250221T180028Z
LAST-MODIFIED:20260113T133054Z
UID:10001669-1794250800-1794259800@acif.org.br
SUMMARY:Reunião Ordinária do Núcleo de Condomínios e Prestadores de Serviços
DESCRIPTION:Reunião será realizada na Sala da Presidência (ACIF Matriz) às 19h. \nCaso tenha interesse em participar!\nEntre em contato com: \nJoão Moraes – Consultor de Núcleos \nTel.:48 8816-9993 
URL:https://acif.org.br/evento/reuniao-ordinaria-do-nucleo-de-condominios-e-prestadores-de-servicos/2026-11-09/
CATEGORIES:Reunião de núcleo
END:VEVENT
BEGIN:VEVENT
DTSTART;TZID=America/Sao_Paulo:20261110T170000
DTEND;TZID=America/Sao_Paulo:20261110T183000
DTSTAMP:20260422T073334
CREATED:20250408T201208Z
LAST-MODIFIED:20260420T194308Z
UID:10002079-1794330000-1794335400@acif.org.br
SUMMARY:Reunião Ordinária do Núcleo de Coworking
DESCRIPTION:Reuniões presenciais serão realizadas na ACIF Matriz ás 17h. \nCaso tenha interesse em participar! \nEntre em contato com: \nAndré Carvalho – Consultor de Núcleos \nTel.: 48 9 9134-8587
URL:https://acif.org.br/evento/reuniao-ordinaria-do-nucleo-de-coworking/2026-11-10/
LOCATION:ACIF Matriz\, Rua Emilio Blum\, 121\, Florianópolis\, Santa Catarina\, 88020010\, Brasil
CATEGORIES:Reunião de núcleo
ATTACH;FMTTYPE=image/png:https://acif.org.br/wp-content/uploads/2023/09/ACIF-NUCLEO-COWORKING-AZUL-4-1.png
END:VEVENT
BEGIN:VEVENT
DTSTART;TZID=America/Sao_Paulo:20261111T140000
DTEND;TZID=America/Sao_Paulo:20261111T153000
DTSTAMP:20260422T073334
CREATED:20250409T173524Z
LAST-MODIFIED:20260113T150722Z
UID:10001792-1794405600-1794411000@acif.org.br
SUMMARY:Reunião Ordinária Hotéis do Norte da Ilha
DESCRIPTION:Reunião será realizada no HUB Ingleses às 14h. \nCaso tenha interesse em participar!\nEntre em contato com: \nAndréa Firmo da Silva– Consultora de Núcleos \nTel.: 48 99988-0462
URL:https://acif.org.br/evento/reuniao-ordinaria-hoteis-do-norte-da-ilha/2026-11-11/
LOCATION:Ingleses
CATEGORIES:Reunião de núcleo
ATTACH;FMTTYPE=image/png:https://acif.org.br/wp-content/uploads/2023/09/ACIF-NUCLEO-HOTEIS-DO-NORTE-DA-ILHA-AZUL-5.png
END:VEVENT
BEGIN:VEVENT
DTSTART;TZID=America/Sao_Paulo:20261111T153000
DTEND;TZID=America/Sao_Paulo:20261111T170000
DTSTAMP:20260422T073334
CREATED:20250409T172158Z
LAST-MODIFIED:20260113T145454Z
UID:10001771-1794411000-1794416400@acif.org.br
SUMMARY:Reunião Ordinária Hotéis da Região Central
DESCRIPTION:Reuniões presenciais serão realizadas na ACIF Matriz às 15:30h. \nReuniões On-line por meio do link: https://meet.google.com/bry-jjyc-tct \nCaso tenha interesse em participar!\nEntre em contato com: \nHugo Goulart – Consultor de Núcleos \nTel.: 48 9134-8587
URL:https://acif.org.br/evento/reuniao-ordinaria-hoteis-da-regiao-central/2026-11-11/
LOCATION:ACIF Matriz\, Rua Emilio Blum\, 121\, Florianópolis\, Santa Catarina\, 88020010\, Brasil
CATEGORIES:Reunião de núcleo
ATTACH;FMTTYPE=image/png:https://acif.org.br/wp-content/uploads/2023/09/ACIF-NUCLEO-HOTEIS-DA-REGIAO-CENTRAL-AZUL-LARANJA.png
END:VEVENT
BEGIN:VEVENT
DTSTART;TZID=America/Sao_Paulo:20261111T190000
DTEND;TZID=America/Sao_Paulo:20261111T203000
DTSTAMP:20260422T073334
CREATED:20260316T191809Z
LAST-MODIFIED:20260316T191809Z
UID:10002033-1794423600-1794429000@acif.org.br
SUMMARY:Reunião Ordinária do Núcleo de Advocacia
DESCRIPTION:Reunião será realizada ás 19h na ACIF Matriz. \nCaso tenha interesse em participar!  \nEntre em contato com: \nAndréa Firmo – Consultora de Núcleos \nTel: 48 9988-0462 – andrea.firmo@acif.org.br
URL:https://acif.org.br/evento/reuniao-ordinaria-do-nucleo-de-advocacia-2/2026-11-11/
LOCATION:ACIF Matriz\, Rua Emilio Blum\, 121\, Florianópolis\, Santa Catarina\, 88020010\, Brasil
CATEGORIES:Reunião de núcleo
END:VEVENT
BEGIN:VEVENT
DTSTART;TZID=America/Sao_Paulo:20261112T183000
DTEND;TZID=America/Sao_Paulo:20261112T200000
DTSTAMP:20260422T073334
CREATED:20260114T204522Z
LAST-MODIFIED:20260127T181329Z
UID:10001956-1794508200-1794513600@acif.org.br
SUMMARY:Reunião Ordinária Psicologia
DESCRIPTION:Reunião será realizada na ACIF Matriz às 18:30h.  \nCaso tenha interesse em participar!  \nEntre em contato com:  \nFranciele Medeiros – Consultora de Núcleos  \nTel.:48 9988-2432
URL:https://acif.org.br/evento/reuniao-ordinaria-psicologia/2026-11-12/
LOCATION:ACIF Matriz\, Rua Emilio Blum\, 121\, Florianópolis\, Santa Catarina\, 88020010\, Brasil
CATEGORIES:Reunião de núcleo
END:VEVENT
BEGIN:VEVENT
DTSTART;TZID=America/Sao_Paulo:20261112T190000
DTEND;TZID=America/Sao_Paulo:20261112T203000
DTSTAMP:20260422T073334
CREATED:20250409T181650Z
LAST-MODIFIED:20260113T154322Z
UID:10001835-1794510000-1794515400@acif.org.br
SUMMARY:Reunião Ordinária Marketing
DESCRIPTION:Reunião será realizada na Sala da CMAA (ACIF Matriz) às 19h. \nCaso tenha interesse em participar\, entre em contato com \nHugo Goulart – Consultor de Núcleos \nTel.: 48 9134-8587
URL:https://acif.org.br/evento/reuniao-ordinaria-marketing/2026-11-12/
LOCATION:ACIF Matriz\, Rua Emilio Blum\, 121\, Florianópolis\, Santa Catarina\, 88020010\, Brasil
CATEGORIES:Reunião de núcleo
ATTACH;FMTTYPE=image/png:https://acif.org.br/wp-content/uploads/2023/09/MARKETING-AZUL.png
END:VEVENT
BEGIN:VEVENT
DTSTART;TZID=America/Sao_Paulo:20261113T090000
DTEND;TZID=America/Sao_Paulo:20261113T103000
DTSTAMP:20260422T073334
CREATED:20250213T194532Z
LAST-MODIFIED:20251219T182651Z
UID:10001622-1794560400-1794565800@acif.org.br
SUMMARY:Reunião Ordinária Corretoras de Seguro
DESCRIPTION:Reunião será realizada na Instituição Facisc às 09h. \nCaso tenha interesse em participar\, entre em contato com \nAndréa Firmo – Consultora de Núcleos \nTel.: 48 9 9988-0462
URL:https://acif.org.br/evento/reuniao-ordinaria-corretoras-de-seguro/2026-11-13/
LOCATION:ACIF Matriz\, Rua Emilio Blum\, 121\, Florianópolis\, Santa Catarina\, 88020010\, Brasil
CATEGORIES:Reunião de núcleo
END:VEVENT
BEGIN:VEVENT
DTSTART;TZID=America/Sao_Paulo:20261113T090000
DTEND;TZID=America/Sao_Paulo:20261113T103000
DTSTAMP:20260422T073334
CREATED:20250217T181733Z
LAST-MODIFIED:20260113T140024Z
UID:10001709-1794560400-1794565800@acif.org.br
SUMMARY:Reunião Ordinária de Educação
DESCRIPTION:Reuniões Presenciais serão realizadas na Sala Multiuso (ACIF Matriz) ás 09h. \nReuniões On-line por via do link: https://meet.google.com/yne-scar-qfv \nCaso tenha interesse em participar! \nEntre em conta com: \nJoão Moraes – Consultor de Núcleos \nTel.: 48 8816-9993
URL:https://acif.org.br/evento/reuniao-ordinaria-de-educacao/2026-11-13/
CATEGORIES:Reunião de núcleo
END:VEVENT
BEGIN:VEVENT
DTSTART;TZID=America/Sao_Paulo:20261116T180000
DTEND;TZID=America/Sao_Paulo:20261116T193000
DTSTAMP:20260422T073334
CREATED:20240201T194935Z
LAST-MODIFIED:20251219T171938Z
UID:10001569-1794852000-1794857400@acif.org.br
SUMMARY:Reunião Núcleo de Contadores
DESCRIPTION:Reunião será realizada na ACIF Matriz às 18h. \nEntre em contato com a consultora Franciele (48 9 9988-2432) caso tenha interesse em participar!
URL:https://acif.org.br/evento/reuniao-nucleo-de-contadores/2026-11-16/
CATEGORIES:Reunião de núcleo
END:VEVENT
BEGIN:VEVENT
DTSTART;TZID=America/Sao_Paulo:20261117T090000
DTEND;TZID=America/Sao_Paulo:20261117T103000
DTSTAMP:20260422T073334
CREATED:20260114T194256Z
LAST-MODIFIED:20260114T194256Z
UID:10001911-1794906000-1794911400@acif.org.br
SUMMARY:Reunião Ordinária Eventos Organizados
DESCRIPTION:Reunião será realizada na ACIF Matriz às 09h.  \nCaso tenha interesse em participar!  \nEntre em contato com:  \nMaísa Gomes – Consultora de Núcleos  \nTel.: (48) 3084-9400
URL:https://acif.org.br/evento/reuniao-ordinaria-eventos-organizados/2026-11-17/
LOCATION:ACIF Matriz\, Rua Emilio Blum\, 121\, Florianópolis\, Santa Catarina\, 88020010\, Brasil
CATEGORIES:Reunião de núcleo
END:VEVENT
BEGIN:VEVENT
DTSTART;TZID=America/Sao_Paulo:20261117T093000
DTEND;TZID=America/Sao_Paulo:20261117T110000
DTSTAMP:20260422T073334
CREATED:20250408T193842Z
LAST-MODIFIED:20260310T183639Z
UID:10001690-1794907800-1794913200@acif.org.br
SUMMARY:Reunião Ordinária Núcleo Gastronômico da Costa da Lagoa
DESCRIPTION:Reunião será realizada no Restaurante Cabral às 09:30h. \nCaso tenha interesse em participar\, \nEntre em contato com: \nAndré Carvalho – Consultor de Núcleos \nTel.: 48 9134-8587
URL:https://acif.org.br/evento/reuniao-ordinaria-nucleo-gastronomico-da-costa-da-lagoa/2026-11-17/
LOCATION:ACIF Matriz\, Rua Emilio Blum\, 121\, Florianópolis\, Santa Catarina\, 88020010\, Brasil
CATEGORIES:Reunião de núcleo
ATTACH;FMTTYPE=image/png:https://acif.org.br/wp-content/uploads/2023/09/7679_19_M_Submarcas_Nucleos_Setorial-de-Gastronomia-da-Costa-da-Lagoa-positivo.png
END:VEVENT
BEGIN:VEVENT
DTSTART;TZID=America/Sao_Paulo:20261117T093000
DTEND;TZID=America/Sao_Paulo:20261117T110000
DTSTAMP:20260422T073334
CREATED:20260310T184732Z
LAST-MODIFIED:20260310T184732Z
UID:10001688-1794907800-1794913200@acif.org.br
SUMMARY:Reunião Ordinária Núcleo Gastronômico da Costa da Lagoa
DESCRIPTION:Reunião será realizada no Restaurante Recanto da Natureza às 09:30h. \nCaso tenha interesse em participar\, \nEntre em contato com: \nAndré Carvalho – Consultor de Núcleos \nTel.: 48 9134-8587
URL:https://acif.org.br/evento/reuniao-ordinaria-nucleo-gastronomico-da-costa-da-lagoa-19/
LOCATION:ACIF Matriz\, Rua Emilio Blum\, 121\, Florianópolis\, Santa Catarina\, 88020010\, Brasil
CATEGORIES:Reunião de núcleo
ATTACH;FMTTYPE=image/png:https://acif.org.br/wp-content/uploads/2023/09/7679_19_M_Submarcas_Nucleos_Setorial-de-Gastronomia-da-Costa-da-Lagoa-positivo.png
END:VEVENT
BEGIN:VEVENT
DTSTART;TZID=America/Sao_Paulo:20261118T150000
DTEND;TZID=America/Sao_Paulo:20261118T163000
DTSTAMP:20260422T073334
CREATED:20250217T195142Z
LAST-MODIFIED:20260113T142349Z
UID:10001733-1795014000-1795019400@acif.org.br
SUMMARY:Reunião Ordinária  Núcleo Gastronômico da Lagoa da Conceição
DESCRIPTION:Reunião será realizada na Regional Lagoa às 15h. \nCaso tenha interesse em participar! \nEntre em contato com: \nTatiane Silva – Consultora de Núcleos\n \nTel.: (48) 8864-1801
URL:https://acif.org.br/evento/reuniao-ordinaria-nucleo-gastronomico-da-lagoa-da-conceicao/2026-11-18/
CATEGORIES:Reunião de núcleo
END:VEVENT
BEGIN:VEVENT
DTSTART;TZID=America/Sao_Paulo:20261118T190000
DTEND;TZID=America/Sao_Paulo:20261118T213000
DTSTAMP:20260422T073334
CREATED:20260206T143648Z
LAST-MODIFIED:20260206T143648Z
UID:10002008-1795028400-1795037400@acif.org.br
SUMMARY:Encontro de Negócios - 2ª EDIÇÃO 2026
DESCRIPTION:Data: 18/11\nHorário: 19h\nRegional: CENTRO – LOCAL À DEFINIR. \nObjetivo: Fomentar o relacionamento entre os empresários da Região. \nProgramação: \n19h – Credenciamento\n19h30 – Abertura + PITCH DE NEGÓCIOS\n21h – Coquetel \nInscrições: Associados R$ 30\,00 | Não associados R$ 60\,00 \nLink da inscrição: https://acif.tcsdigital.com.br/digital/inscricoes/evento3.aspx?evento=167&idativa=1
URL:https://acif.org.br/evento/encontro-de-negocios-2a-edicao-2026-19/
LOCATION:Centro
CATEGORIES:Encontro de networking
ATTACH;FMTTYPE=image/jpeg:https://acif.org.br/wp-content/uploads/2025/02/Encontro-de-Negocios.jpg
END:VEVENT
BEGIN:VEVENT
DTSTART;TZID=America/Sao_Paulo:20261118T193000
DTEND;TZID=America/Sao_Paulo:20261118T210000
DTSTAMP:20260422T073334
CREATED:20260114T190601Z
LAST-MODIFIED:20260114T190850Z
UID:10001882-1795030200-1795035600@acif.org.br
SUMMARY:Reunião Ordinária Mercado Imobiliário
DESCRIPTION:Reunião será realizada na ACIF Matriz às 19:30.  \nCaso tenha interesse em participar!  \nEntre em contato com:  \nMaísa Gomes – Consultora de Núcleos  \nTel.: (48) 3084-9400
URL:https://acif.org.br/evento/reuniao-ordinaria-mercado-imobiliario/2026-11-18/
LOCATION:ACIF Matriz\, Rua Emilio Blum\, 121\, Florianópolis\, Santa Catarina\, 88020010\, Brasil
CATEGORIES:Reunião de núcleo
END:VEVENT
BEGIN:VEVENT
DTSTART;TZID=America/Sao_Paulo:20261119T160000
DTEND;TZID=America/Sao_Paulo:20261119T173000
DTSTAMP:20260422T073334
CREATED:20250217T175953Z
LAST-MODIFIED:20251219T172933Z
UID:10001582-1795104000-1795109400@acif.org.br
SUMMARY:Reunião Ordinária de Cooperativas
DESCRIPTION:Reunião será realizada na Sala CMAA (ACIF Matriz) às 16h. \nCaso tenha interesse em participar\, \nEntre em contato com: \nTatiane Silva  – Consultora de Núcleos \nTel.: 48 9 8864-1801 \n 
URL:https://acif.org.br/evento/reuniao-ordinaria-de-cooperativas/2026-11-19/
CATEGORIES:Reunião de núcleo
END:VEVENT
BEGIN:VEVENT
DTSTART;TZID=America/Sao_Paulo:20261119T190000
DTEND;TZID=America/Sao_Paulo:20261119T203000
DTSTAMP:20260422T073334
CREATED:20250217T203028Z
LAST-MODIFIED:20260114T203600Z
UID:10001935-1795114800-1795120200@acif.org.br
SUMMARY:Reunião Ordinária Núcleo de Soluções Empresariais (NUSE)
DESCRIPTION:Reunião será realizada às 19h. \nCaso tenha interesse em participar! \nEntre em contato com: \nAndrea Firmo – Consultora de Núcleos \nTel.:48 9988-0462 – andrea.firmo@acif.org.br
URL:https://acif.org.br/evento/reuniao-ordinaria-nucleo-de-solucoes-empresariais-nuse/2026-11-19/
CATEGORIES:Reunião de núcleo
END:VEVENT
BEGIN:VEVENT
DTSTART;TZID=America/Sao_Paulo:20261119T200000
DTEND;TZID=America/Sao_Paulo:20261119T220000
DTSTAMP:20260422T073334
CREATED:20250217T204441Z
LAST-MODIFIED:20260202T180805Z
UID:10001967-1795118400-1795125600@acif.org.br
SUMMARY:Reunião Ordinária Núcleo  Setorial de Reparação Automotiva
DESCRIPTION:Reunião será realizada ás 20h nas oficinas. \nCaso tenha interesse em participar! \nEntre em contato com: \nAndréa Firmo – Consultora de Núcleos \nTel.:48 99988-0462 – andrea.firmo@acif.org.br
URL:https://acif.org.br/evento/reuniao-ordinaria-nucleo-setorial-de-reparacao-automotiva/2026-11-19/
CATEGORIES:Reunião de núcleo
END:VEVENT
BEGIN:VEVENT
DTSTART;TZID=America/Sao_Paulo:20261123T180000
DTEND;TZID=America/Sao_Paulo:20261123T193000
DTSTAMP:20260422T073334
CREATED:20250409T165943Z
LAST-MODIFIED:20260113T144049Z
UID:10001752-1795456800-1795462200@acif.org.br
SUMMARY:Reunião Ordinária Guias de Turismo
DESCRIPTION:Reunião será realizada na ACIF Matriz às 18h. \nCaso tenha interesse em participar!\nEntre em contato com: \nMaísa Gomes – Consultora de Núcleos \nTel.: 48 9118-5881
URL:https://acif.org.br/evento/reuniao-ordinaria-guias-de-turismo/2026-11-23/
LOCATION:ACIF Matriz\, Rua Emilio Blum\, 121\, Florianópolis\, Santa Catarina\, 88020010\, Brasil
CATEGORIES:Reunião de núcleo
ATTACH;FMTTYPE=image/png:https://acif.org.br/wp-content/uploads/2023/09/NUCLEO-GUIAS-DE-TURISMO-AZUL-ROXO-1.png
END:VEVENT
BEGIN:VEVENT
DTSTART;TZID=America/Sao_Paulo:20261123T190000
DTEND;TZID=America/Sao_Paulo:20261123T203000
DTSTAMP:20260422T073334
CREATED:20260115T142802Z
LAST-MODIFIED:20260115T142802Z
UID:10001988-1795460400-1795465800@acif.org.br
SUMMARY:Reunião Ordinária Saúde & Bem-Estar
DESCRIPTION:Reunião será realizada no HUB Ingleses às 19h. \nCaso tenha interesse em participar! \nEntre em contato: \nHugo Goulart – Consultor de Núcleos  \nTel.: 48 9134-8587
URL:https://acif.org.br/evento/reuniao-ordinaria-saude-bem-estar/2026-11-23/
LOCATION:ACIF Matriz\, Rua Emilio Blum\, 121\, Florianópolis\, Santa Catarina\, 88020010\, Brasil
CATEGORIES:Reunião de núcleo
END:VEVENT
BEGIN:VEVENT
DTSTART;TZID=America/Sao_Paulo:20261123T190000
DTEND;TZID=America/Sao_Paulo:20261123T203000
DTSTAMP:20260422T073334
CREATED:20260330T193048Z
LAST-MODIFIED:20260330T205807Z
UID:10002069-1795460400-1795465800@acif.org.br
SUMMARY:Reunião Ordinária ACIF Jovem
DESCRIPTION:Reunião será realizada na ACIF Matriz às 19h. \nEntre em contato com: \n48 9102-9404 \nCaso tenha interesse em participar!
URL:https://acif.org.br/evento/reuniao-ordinaria-acif-jovem-3/2026-11-23/
LOCATION:ACIF Matriz\, Rua Emilio Blum\, 121\, Florianópolis\, Santa Catarina\, 88020010\, Brasil
CATEGORIES:Reunião de núcleo
ATTACH;FMTTYPE=image/png:https://acif.org.br/wp-content/uploads/2025/02/ACIF-NUCLEO-JOVEM-AZUL.png
END:VEVENT
END:VCALENDAR