BEGIN:VCALENDAR
VERSION:2.0
PRODID:-//ACIF - ECPv6.14.0//NONSGML v1.0//EN
CALSCALE:GREGORIAN
METHOD:PUBLISH
X-ORIGINAL-URL:https://acif.org.br
X-WR-CALDESC:Eventos para ACIF
REFRESH-INTERVAL;VALUE=DURATION:PT1H
X-Robots-Tag:noindex
X-PUBLISHED-TTL:PT1H
BEGIN:VTIMEZONE
TZID:America/Sao_Paulo
BEGIN:STANDARD
TZOFFSETFROM:-0300
TZOFFSETTO:-0300
TZNAME:-03
DTSTART:20260101T000000
END:STANDARD
END:VTIMEZONE
BEGIN:VEVENT
DTSTART;TZID=America/Sao_Paulo:20260317T170000
DTEND;TZID=America/Sao_Paulo:20260317T183000
DTSTAMP:20260423T203233
CREATED:20260318T124416Z
LAST-MODIFIED:20260318T124417Z
UID:10001626-1773766800-1773772200@acif.org.br
SUMMARY:Reunião Ordinária Núcleo Coworking
DESCRIPTION:Reuniões presenciais serão realizadas na ACIF Matriz às 17h. \nLink para as reuniões on-line: https://meet.google.com/fby-tvvu-ozn \nEntre em contato com o consultor André (48 9 9134-8587) caso tenha interesse em participar!
URL:https://acif.org.br/evento/reuniao-ordinaria-nucleo-coworking-2/2026-03-17/
END:VEVENT
BEGIN:VEVENT
DTSTART;TZID=America/Sao_Paulo:20260318T094400
DTEND;TZID=America/Sao_Paulo:20260318T094400
DTSTAMP:20260423T203233
CREATED:20260318T124416Z
LAST-MODIFIED:20260318T124417Z
UID:10002037-1773827040-1773827040@acif.org.br
SUMMARY:Reunião Ordinária Núcleo Coworking
DESCRIPTION:Reuniões presenciais serão realizadas na ACIF Matriz às 17h. \nLink para as reuniões on-line: https://meet.google.com/fby-tvvu-ozn \nEntre em contato com o consultor André (48 9 9134-8587) caso tenha interesse em participar!
URL:https://acif.org.br/evento/reuniao-ordinaria-nucleo-coworking-2/2026-03-18/
END:VEVENT
BEGIN:VEVENT
DTSTART;TZID=America/Sao_Paulo:20260318T140000
DTEND;TZID=America/Sao_Paulo:20260318T153000
DTSTAMP:20260423T203233
CREATED:20250409T173524Z
LAST-MODIFIED:20260422T212436Z
UID:10001775-1773842400-1773847800@acif.org.br
SUMMARY:Reunião Ordinária Hotéis do Norte da Ilha
DESCRIPTION:Reunião será realizada no HUB Ingleses às 14h. \nCaso tenha interesse em participar!\nEntre em contato com: \nAnne Caroline – Consultora de Núcleos  \nTel.: 48 8864-1801 \nanne.rios@acif.org.br
URL:https://acif.org.br/evento/reuniao-ordinaria-hoteis-do-norte-da-ilha/2026-03-18/
LOCATION:Ingleses
CATEGORIES:Reunião de núcleo
ATTACH;FMTTYPE=image/png:https://acif.org.br/wp-content/uploads/2023/09/ACIF-NUCLEO-HOTEIS-DO-NORTE-DA-ILHA-AZUL-5.png
END:VEVENT
BEGIN:VEVENT
DTSTART;TZID=America/Sao_Paulo:20260318T190000
DTEND;TZID=America/Sao_Paulo:20260318T203000
DTSTAMP:20260423T203233
CREATED:20260114T192719Z
LAST-MODIFIED:20260114T193126Z
UID:10001887-1773860400-1773865800@acif.org.br
SUMMARY:Reunião Ordinária NEES
DESCRIPTION:Reunião será realizada na ACIF Matriz às 19h. \nCaso tenha interesse em participar\, \nEntre em contato com: \nJoão Moraes – Consultor de Núcleos \nTel.: 48 8816-9993
URL:https://acif.org.br/evento/reuniao-ordinaria-nees/2026-03-18/
LOCATION:ACIF Matriz\, Rua Emilio Blum\, 121\, Florianópolis\, Santa Catarina\, 88020010\, Brasil
CATEGORIES:Reunião de núcleo
END:VEVENT
BEGIN:VEVENT
DTSTART;TZID=America/Sao_Paulo:20260319T090000
DTEND;TZID=America/Sao_Paulo:20260319T103000
DTSTAMP:20260423T203233
CREATED:20250217T181733Z
LAST-MODIFIED:20260423T185222Z
UID:10001692-1773910800-1773916200@acif.org.br
SUMMARY:Reunião Ordinária de Educação
DESCRIPTION:Reunião será realizada na Sala Multiuso (ACIF Matriz) ás 09h. \nCaso tenha interesse em participar! \nEntre em contato com: \nCibele Quintino – Consultora de Núcleos \nTel.: 48 9102-9404 \ncibele.quintino@acif.org.br
URL:https://acif.org.br/evento/reuniao-ordinaria-de-educacao/2026-03-19/
CATEGORIES:Reunião de núcleo
END:VEVENT
BEGIN:VEVENT
DTSTART;TZID=America/Sao_Paulo:20260319T160000
DTEND;TZID=America/Sao_Paulo:20260319T173000
DTSTAMP:20260423T203233
CREATED:20250217T175953Z
LAST-MODIFIED:20260422T185544Z
UID:10001573-1773936000-1773941400@acif.org.br
SUMMARY:Reunião Ordinária de Cooperativas
DESCRIPTION:Reunião será realizada na ACIF Matriz às 16h. \nCaso tenha interesse em participar\, \nEntre em contato com: \nMariana Aguiar – Consultora de Núcleos \nTel.: 48 9 9988-0462 \nmariana.aguiar@acif.org.br
URL:https://acif.org.br/evento/reuniao-ordinaria-de-cooperativas/2026-03-19/
CATEGORIES:Reunião de núcleo
END:VEVENT
BEGIN:VEVENT
DTSTART;TZID=America/Sao_Paulo:20260319T190000
DTEND;TZID=America/Sao_Paulo:20260319T203000
DTSTAMP:20260423T203233
CREATED:20250409T181650Z
LAST-MODIFIED:20260113T154322Z
UID:10001818-1773946800-1773952200@acif.org.br
SUMMARY:Reunião Ordinária Marketing
DESCRIPTION:Reunião será realizada na Sala da CMAA (ACIF Matriz) às 19h. \nCaso tenha interesse em participar\, entre em contato com \nHugo Goulart – Consultor de Núcleos \nTel.: 48 9134-8587
URL:https://acif.org.br/evento/reuniao-ordinaria-marketing/2026-03-19/
LOCATION:ACIF Matriz\, Rua Emilio Blum\, 121\, Florianópolis\, Santa Catarina\, 88020010\, Brasil
CATEGORIES:Reunião de núcleo
ATTACH;FMTTYPE=image/png:https://acif.org.br/wp-content/uploads/2023/09/MARKETING-AZUL.png
END:VEVENT
BEGIN:VEVENT
DTSTART;TZID=America/Sao_Paulo:20260319T200000
DTEND;TZID=America/Sao_Paulo:20260319T220000
DTSTAMP:20260423T203233
CREATED:20250217T204441Z
LAST-MODIFIED:20260422T184457Z
UID:10001959-1773950400-1773957600@acif.org.br
SUMMARY:Reunião Ordinária Núcleo  Setorial de Reparação Automotiva
DESCRIPTION:Reunião será realizada ás 20h nas oficinas. \nCaso tenha interesse em participar! \nEntre em contato com: \nAndré Carvalho – Consultor de Núcleos  \nTel.: 48 9134-8587  \nandre.carvalho@acif.org.br
URL:https://acif.org.br/evento/reuniao-ordinaria-nucleo-setorial-de-reparacao-automotiva/2026-03-19/
CATEGORIES:Reunião de núcleo
END:VEVENT
BEGIN:VEVENT
DTSTART;TZID=America/Sao_Paulo:20260320T090000
DTEND;TZID=America/Sao_Paulo:20260320T103000
DTSTAMP:20260423T203233
CREATED:20250213T194532Z
LAST-MODIFIED:20260422T215455Z
UID:10001605-1773997200-1774002600@acif.org.br
SUMMARY:Reunião Ordinária Corretoras de Seguro
DESCRIPTION:Reunião será realizada na Instituição Facisc às 09h. \nCaso tenha interesse em participar\, entre em contato com \nCibele Quintino – Consultora de Núcleos  \nTel.: 48 9102-9404 \ncibele.quintino@acif.org.br
URL:https://acif.org.br/evento/reuniao-ordinaria-corretoras-de-seguro/2026-03-20/
LOCATION:ACIF Matriz\, Rua Emilio Blum\, 121\, Florianópolis\, Santa Catarina\, 88020010\, Brasil
CATEGORIES:Reunião de núcleo
END:VEVENT
BEGIN:VEVENT
DTSTART;TZID=America/Sao_Paulo:20260323T070000
DTEND;TZID=America/Sao_Paulo:20260323T083000
DTSTAMP:20260423T203233
CREATED:20260309T201648Z
LAST-MODIFIED:20260310T174415Z
UID:10002012-1774249200-1774254600@acif.org.br
SUMMARY:7ª Corrida Chão da Cidade
DESCRIPTION:A Corrida Chão da Cidade é promovida pela ACIF todos os anos em  comemoração ao aniversário de Florianópolis. \nEste ano em especial\, a 7ª edição da Corrida Chão da Cidade comemora também os 100 anos do Corpo de Bombeiros Militar de Santa Catarina\, por isso a escolha do local de largada. \nPara marcar essa dupla comemoração\, convidamos você a participar dessa corrida histórica\, em todos os sentidos. \nVenha fazer parte desse momento\, celebrar a nossa cidade e escrever mais um capítulo dessa história junto com a gente! 🏃‍♂️🎉
URL:https://acif.org.br/evento/7a-corrida-chao-da-cidade/
LOCATION:Praça Getulio Vargas\, Rua Visconde de Ouro Preto\, Florianópolis\, Santa Catarina\, 88020-010\, Brazil
CATEGORIES:Evento
ATTACH;FMTTYPE=image/png:https://acif.org.br/wp-content/uploads/2026/03/Banner-emkt-geral-2.png
END:VEVENT
BEGIN:VEVENT
DTSTART;TZID=America/Sao_Paulo:20260324T090000
DTEND;TZID=America/Sao_Paulo:20260324T103000
DTSTAMP:20260423T203233
CREATED:20260114T194256Z
LAST-MODIFIED:20260114T194256Z
UID:10001895-1774342800-1774348200@acif.org.br
SUMMARY:Reunião Ordinária Eventos Organizados
DESCRIPTION:Reunião será realizada na ACIF Matriz às 09h.  \nCaso tenha interesse em participar!  \nEntre em contato com:  \nMaísa Gomes – Consultora de Núcleos  \nTel.: (48) 3084-9400
URL:https://acif.org.br/evento/reuniao-ordinaria-eventos-organizados/2026-03-24/
LOCATION:ACIF Matriz\, Rua Emilio Blum\, 121\, Florianópolis\, Santa Catarina\, 88020010\, Brasil
CATEGORIES:Reunião de núcleo
END:VEVENT
BEGIN:VEVENT
DTSTART;TZID=America/Sao_Paulo:20260324T093000
DTEND;TZID=America/Sao_Paulo:20260324T110000
DTSTAMP:20260423T203233
CREATED:20260310T181325Z
LAST-MODIFIED:20260310T182410Z
UID:10001673-1774344600-1774350000@acif.org.br
SUMMARY:Reunião Ordinária Núcleo Gastronômico da Costa da Lagoa
DESCRIPTION:Reunião será realizada no Restaurante Parada Certa às 09:30h. \nCaso tenha interesse em participar\, \nEntre em contato com: \nAndré Carvalho – Consultor de Núcleos \nTel.: 48 9134-8587
URL:https://acif.org.br/evento/reuniao-ordinaria-nucleo-gastronomico-da-costa-da-lagoa-3/
LOCATION:ACIF Matriz\, Rua Emilio Blum\, 121\, Florianópolis\, Santa Catarina\, 88020010\, Brasil
CATEGORIES:Reunião de núcleo
ATTACH;FMTTYPE=image/png:https://acif.org.br/wp-content/uploads/2023/09/7679_19_M_Submarcas_Nucleos_Setorial-de-Gastronomia-da-Costa-da-Lagoa-positivo.png
END:VEVENT
BEGIN:VEVENT
DTSTART;TZID=America/Sao_Paulo:20260325T190000
DTEND;TZID=America/Sao_Paulo:20260325T203000
DTSTAMP:20260423T203233
CREATED:20260316T191809Z
LAST-MODIFIED:20260422T214938Z
UID:10002015-1774465200-1774470600@acif.org.br
SUMMARY:Reunião Ordinária do Núcleo de Advocacia
DESCRIPTION:Reunião será realizada ás 19h na ACIF Matriz. \nCaso tenha interesse em participar!  \nEntre em contato com: \nCibele Quintino – Consultora de Núcleos  \nTel.: 48 9102-9404 \ncibele.quintino@acif.org.br
URL:https://acif.org.br/evento/reuniao-ordinaria-do-nucleo-de-advocacia-2/2026-03-25/
LOCATION:ACIF Matriz\, Rua Emilio Blum\, 121\, Florianópolis\, Santa Catarina\, 88020010\, Brasil
CATEGORIES:Reunião de núcleo
END:VEVENT
BEGIN:VEVENT
DTSTART;TZID=America/Sao_Paulo:20260325T193000
DTEND;TZID=America/Sao_Paulo:20260325T210000
DTSTAMP:20260423T203233
CREATED:20260114T190601Z
LAST-MODIFIED:20260422T190201Z
UID:10001866-1774467000-1774472400@acif.org.br
SUMMARY:Reunião Ordinária Mercado Imobiliário
DESCRIPTION:Reunião será realizada na ACIF Matriz às 19:00.  \nCaso tenha interesse em participar!  \nEntre em contato com:  \nMariana Aguiar – Consultora de Núcleos \nTel.: 48 9 9988-0462 \nmariana.aguiar@acif.org.br
URL:https://acif.org.br/evento/reuniao-ordinaria-mercado-imobiliario/2026-03-25/
LOCATION:ACIF Matriz\, Rua Emilio Blum\, 121\, Florianópolis\, Santa Catarina\, 88020010\, Brasil
CATEGORIES:Reunião de núcleo
END:VEVENT
BEGIN:VEVENT
DTSTART;TZID=America/Sao_Paulo:20260326T183000
DTEND;TZID=America/Sao_Paulo:20260326T200000
DTSTAMP:20260423T203233
CREATED:20260114T204522Z
LAST-MODIFIED:20260422T215246Z
UID:10001940-1774549800-1774555200@acif.org.br
SUMMARY:Reunião Ordinária Psicologia
DESCRIPTION:Reunião será realizada na ACIF Matriz às 19h.  \nCaso tenha interesse em participar!  \nEntre em contato com:  \nCibele Quintino – Consultora de Núcleos  \nTel.: 48 9102-9404 \ncibele.quintino@acif.org.br
URL:https://acif.org.br/evento/reuniao-ordinaria-psicologia/2026-03-26/
LOCATION:ACIF Matriz\, Rua Emilio Blum\, 121\, Florianópolis\, Santa Catarina\, 88020010\, Brasil
CATEGORIES:Reunião de núcleo
END:VEVENT
BEGIN:VEVENT
DTSTART;TZID=America/Sao_Paulo:20260330T180000
DTEND;TZID=America/Sao_Paulo:20260330T193000
DTSTAMP:20260423T203233
CREATED:20240201T194935Z
LAST-MODIFIED:20260422T194447Z
UID:10001554-1774893600-1774899000@acif.org.br
SUMMARY:Reunião Ordinária Núcleo de Contadores
DESCRIPTION:Reunião presencial será realizada na ACIF Matriz às 18h. \nLink para participar online: meet.google.com/nux-vqzq-byz \nCaso tenha interesse em participar!  \nEntre em contato com:  \nAnne Caroline – Consultora de Núcleos  \nTel.: 48 8864-1801 \nanne.rios@acif.org.br
URL:https://acif.org.br/evento/reuniao-nucleo-de-contadores/2026-03-30/
CATEGORIES:Reunião de núcleo
END:VEVENT
BEGIN:VEVENT
DTSTART;TZID=America/Sao_Paulo:20260330T190000
DTEND;TZID=America/Sao_Paulo:20260330T203000
DTSTAMP:20260423T203233
CREATED:20260115T142802Z
LAST-MODIFIED:20260422T192353Z
UID:10001971-1774897200-1774902600@acif.org.br
SUMMARY:Reunião Ordinária Saúde & Bem-Estar
DESCRIPTION:Reunião será realizada no HUB Ingleses às 19h. \nCaso tenha interesse em participar! \nEntre em contato: \nMariana Aguiar – Consultora de Núcleos  \nTel.:48 9988-0462  \nmariana.aguiar@acif.org.br
URL:https://acif.org.br/evento/reuniao-ordinaria-saude-bem-estar/2026-03-30/
LOCATION:ACIF Matriz\, Rua Emilio Blum\, 121\, Florianópolis\, Santa Catarina\, 88020010\, Brasil
CATEGORIES:Reunião de núcleo
END:VEVENT
BEGIN:VEVENT
DTSTART;TZID=America/Sao_Paulo:20260330T190000
DTEND;TZID=America/Sao_Paulo:20260330T213000
DTSTAMP:20260423T203233
CREATED:20250221T180028Z
LAST-MODIFIED:20260113T133054Z
UID:10001653-1774897200-1774906200@acif.org.br
SUMMARY:Reunião Ordinária do Núcleo de Condomínios e Prestadores de Serviços
DESCRIPTION:Reunião será realizada na Sala da Presidência (ACIF Matriz) às 19h. \nCaso tenha interesse em participar!\nEntre em contato com: \nJoão Moraes – Consultor de Núcleos \nTel.:48 8816-9993 
URL:https://acif.org.br/evento/reuniao-ordinaria-do-nucleo-de-condominios-e-prestadores-de-servicos/2026-03-30/
CATEGORIES:Reunião de núcleo
END:VEVENT
BEGIN:VEVENT
DTSTART;TZID=America/Sao_Paulo:20260330T190000
DTEND;TZID=America/Sao_Paulo:20260330T213000
DTSTAMP:20260423T203233
CREATED:20260206T140840Z
LAST-MODIFIED:20260206T140840Z
UID:10001995-1774897200-1774906200@acif.org.br
SUMMARY:Encontro de Negócios - 2ª EDIÇÃO 2026
DESCRIPTION:Data: 30/03\nHorário: 19h\nREGIONAL: LAGOA \nObjetivo: Fomentar o relacionamento entre os empresários da Região. \nProgramação: \n19h – Credenciamento\n19h30 – Abertura + PITCH DE NEGÓCIOS\n21h – Coquetel \nInscrições: Associados R$ 30\,00 | Não associados R$ 60\,00 \nLink da inscrição: https://acif.tcsdigital.com.br/digital/inscricoes/evento3.aspx?evento=167&idativa=1
URL:https://acif.org.br/evento/encontro-de-negocios-2a-edicao-2026-5/
CATEGORIES:Encontro de networking
ATTACH;FMTTYPE=image/jpeg:https://acif.org.br/wp-content/uploads/2025/02/Encontro-de-Negocios.jpg
END:VEVENT
BEGIN:VEVENT
DTSTART;TZID=America/Sao_Paulo:20260401T140000
DTEND;TZID=America/Sao_Paulo:20260401T153000
DTSTAMP:20260423T203233
CREATED:20250409T173524Z
LAST-MODIFIED:20260422T212436Z
UID:10001776-1775052000-1775057400@acif.org.br
SUMMARY:Reunião Ordinária Hotéis do Norte da Ilha
DESCRIPTION:Reunião será realizada no HUB Ingleses às 14h. \nCaso tenha interesse em participar!\nEntre em contato com: \nAnne Caroline – Consultora de Núcleos  \nTel.: 48 8864-1801 \nanne.rios@acif.org.br
URL:https://acif.org.br/evento/reuniao-ordinaria-hoteis-do-norte-da-ilha/2026-04-01/
LOCATION:Ingleses
CATEGORIES:Reunião de núcleo
ATTACH;FMTTYPE=image/png:https://acif.org.br/wp-content/uploads/2023/09/ACIF-NUCLEO-HOTEIS-DO-NORTE-DA-ILHA-AZUL-5.png
END:VEVENT
BEGIN:VEVENT
DTSTART;TZID=America/Sao_Paulo:20260401T150000
DTEND;TZID=America/Sao_Paulo:20260401T163000
DTSTAMP:20260423T203233
CREATED:20250217T195142Z
LAST-MODIFIED:20260422T183317Z
UID:10001716-1775055600-1775061000@acif.org.br
SUMMARY:Reunião Ordinária  Núcleo Gastronômico da Lagoa da Conceição
DESCRIPTION:Reunião será realizada na Regional Lagoa às 15h. \nCaso tenha interesse em participar! \nEntre em contato com: \nAndré Carvalho – Consultor de Núcleos  \nTel.: 48 9134-8587 \nandre.carvalho@acif.org.br
URL:https://acif.org.br/evento/reuniao-ordinaria-nucleo-gastronomico-da-lagoa-da-conceicao/2026-04-01/
CATEGORIES:Reunião de núcleo
END:VEVENT
BEGIN:VEVENT
DTSTART;TZID=America/Sao_Paulo:20260401T153000
DTEND;TZID=America/Sao_Paulo:20260401T170000
DTSTAMP:20260423T203233
CREATED:20250409T172158Z
LAST-MODIFIED:20260422T212930Z
UID:10001755-1775057400-1775062800@acif.org.br
SUMMARY:Reunião Ordinária Hotéis da Região Central
DESCRIPTION:Reuniões presenciais serão realizadas na ACIF Matriz às 15:30h. \nCaso tenha interesse em participar! \nEntre em contato com: \nAnne Caroline – Consultora de Núcleos  \nTel.: 48 8864-1801 \nanne.rios@acif.org.br
URL:https://acif.org.br/evento/reuniao-ordinaria-hoteis-da-regiao-central/2026-04-01/
LOCATION:ACIF Matriz\, Rua Emilio Blum\, 121\, Florianópolis\, Santa Catarina\, 88020010\, Brasil
CATEGORIES:Reunião de núcleo
ATTACH;FMTTYPE=image/png:https://acif.org.br/wp-content/uploads/2023/09/ACIF-NUCLEO-HOTEIS-DA-REGIAO-CENTRAL-AZUL-LARANJA.png
END:VEVENT
BEGIN:VEVENT
DTSTART;TZID=America/Sao_Paulo:20260401T190000
DTEND;TZID=America/Sao_Paulo:20260401T203000
DTSTAMP:20260423T203233
CREATED:20260114T192719Z
LAST-MODIFIED:20260114T193126Z
UID:10001888-1775070000-1775075400@acif.org.br
SUMMARY:Reunião Ordinária NEES
DESCRIPTION:Reunião será realizada na ACIF Matriz às 19h. \nCaso tenha interesse em participar\, \nEntre em contato com: \nJoão Moraes – Consultor de Núcleos \nTel.: 48 8816-9993
URL:https://acif.org.br/evento/reuniao-ordinaria-nees/2026-04-01/
LOCATION:ACIF Matriz\, Rua Emilio Blum\, 121\, Florianópolis\, Santa Catarina\, 88020010\, Brasil
CATEGORIES:Reunião de núcleo
END:VEVENT
BEGIN:VEVENT
DTSTART;TZID=America/Sao_Paulo:20260402T190000
DTEND;TZID=America/Sao_Paulo:20260402T203000
DTSTAMP:20260423T203233
CREATED:20250409T181650Z
LAST-MODIFIED:20260113T154322Z
UID:10001819-1775156400-1775161800@acif.org.br
SUMMARY:Reunião Ordinária Marketing
DESCRIPTION:Reunião será realizada na Sala da CMAA (ACIF Matriz) às 19h. \nCaso tenha interesse em participar\, entre em contato com \nHugo Goulart – Consultor de Núcleos \nTel.: 48 9134-8587
URL:https://acif.org.br/evento/reuniao-ordinaria-marketing/2026-04-02/
LOCATION:ACIF Matriz\, Rua Emilio Blum\, 121\, Florianópolis\, Santa Catarina\, 88020010\, Brasil
CATEGORIES:Reunião de núcleo
ATTACH;FMTTYPE=image/png:https://acif.org.br/wp-content/uploads/2023/09/MARKETING-AZUL.png
END:VEVENT
BEGIN:VEVENT
DTSTART;TZID=America/Sao_Paulo:20260403T090000
DTEND;TZID=America/Sao_Paulo:20260403T103000
DTSTAMP:20260423T203233
CREATED:20250213T194532Z
LAST-MODIFIED:20260422T215455Z
UID:10001606-1775206800-1775212200@acif.org.br
SUMMARY:Reunião Ordinária Corretoras de Seguro
DESCRIPTION:Reunião será realizada na Instituição Facisc às 09h. \nCaso tenha interesse em participar\, entre em contato com \nCibele Quintino – Consultora de Núcleos  \nTel.: 48 9102-9404 \ncibele.quintino@acif.org.br
URL:https://acif.org.br/evento/reuniao-ordinaria-corretoras-de-seguro/2026-04-03/
LOCATION:ACIF Matriz\, Rua Emilio Blum\, 121\, Florianópolis\, Santa Catarina\, 88020010\, Brasil
CATEGORIES:Reunião de núcleo
END:VEVENT
BEGIN:VEVENT
DTSTART;TZID=America/Sao_Paulo:20260407T090000
DTEND;TZID=America/Sao_Paulo:20260407T103000
DTSTAMP:20260423T203233
CREATED:20260114T194256Z
LAST-MODIFIED:20260114T194256Z
UID:10001896-1775552400-1775557800@acif.org.br
SUMMARY:Reunião Ordinária Eventos Organizados
DESCRIPTION:Reunião será realizada na ACIF Matriz às 09h.  \nCaso tenha interesse em participar!  \nEntre em contato com:  \nMaísa Gomes – Consultora de Núcleos  \nTel.: (48) 3084-9400
URL:https://acif.org.br/evento/reuniao-ordinaria-eventos-organizados/2026-04-07/
LOCATION:ACIF Matriz\, Rua Emilio Blum\, 121\, Florianópolis\, Santa Catarina\, 88020010\, Brasil
CATEGORIES:Reunião de núcleo
END:VEVENT
BEGIN:VEVENT
DTSTART;TZID=America/Sao_Paulo:20260407T093000
DTEND;TZID=America/Sao_Paulo:20260407T110000
DTSTAMP:20260423T203233
CREATED:20260310T182559Z
LAST-MODIFIED:20260310T182617Z
UID:10001674-1775554200-1775559600@acif.org.br
SUMMARY:Reunião Ordinária Núcleo Gastronômico da Costa da Lagoa
DESCRIPTION:Reunião será realizada no Restaurante Sabor da Costa às 09:30h. \nCaso tenha interesse em participar\, \nEntre em contato com: \nAndré Carvalho – Consultor de Núcleos \nTel.: 48 8816-9993
URL:https://acif.org.br/evento/reuniao-ordinaria-nucleo-gastronomico-da-costa-da-lagoa-4/
LOCATION:ACIF Matriz\, Rua Emilio Blum\, 121\, Florianópolis\, Santa Catarina\, 88020010\, Brasil
CATEGORIES:Reunião de núcleo
ATTACH;FMTTYPE=image/png:https://acif.org.br/wp-content/uploads/2023/09/7679_19_M_Submarcas_Nucleos_Setorial-de-Gastronomia-da-Costa-da-Lagoa-positivo.png
END:VEVENT
BEGIN:VEVENT
DTSTART;TZID=America/Sao_Paulo:20260408T170000
DTEND;TZID=America/Sao_Paulo:20260408T183000
DTSTAMP:20260423T203233
CREATED:20260318T124416Z
LAST-MODIFIED:20260318T124417Z
UID:10002038-1775667600-1775673000@acif.org.br
SUMMARY:Reunião Ordinária Núcleo Coworking
DESCRIPTION:Reuniões presenciais serão realizadas na ACIF Matriz às 17h. \nLink para as reuniões on-line: https://meet.google.com/fby-tvvu-ozn \nEntre em contato com o consultor André (48 9 9134-8587) caso tenha interesse em participar!
URL:https://acif.org.br/evento/reuniao-ordinaria-nucleo-coworking-2/2026-04-08/
END:VEVENT
BEGIN:VEVENT
DTSTART;TZID=America/Sao_Paulo:20260408T190000
DTEND;TZID=America/Sao_Paulo:20260408T203000
DTSTAMP:20260423T203233
CREATED:20260316T191809Z
LAST-MODIFIED:20260422T214938Z
UID:10002016-1775674800-1775680200@acif.org.br
SUMMARY:Reunião Ordinária do Núcleo de Advocacia
DESCRIPTION:Reunião será realizada ás 19h na ACIF Matriz. \nCaso tenha interesse em participar!  \nEntre em contato com: \nCibele Quintino – Consultora de Núcleos  \nTel.: 48 9102-9404 \ncibele.quintino@acif.org.br
URL:https://acif.org.br/evento/reuniao-ordinaria-do-nucleo-de-advocacia-2/2026-04-08/
LOCATION:ACIF Matriz\, Rua Emilio Blum\, 121\, Florianópolis\, Santa Catarina\, 88020010\, Brasil
CATEGORIES:Reunião de núcleo
END:VEVENT
BEGIN:VEVENT
DTSTART;TZID=America/Sao_Paulo:20260408T190000
DTEND;TZID=America/Sao_Paulo:20260408T213000
DTSTAMP:20260423T203233
CREATED:20260206T141443Z
LAST-MODIFIED:20260409T171140Z
UID:10001996-1775674800-1775683800@acif.org.br
SUMMARY:Encontro de Negócios - 6ª EDIÇÃO 2026
DESCRIPTION:Data: 15/04\nHorário: 19h\nLocal: PRAÇA DE ALIMENTAÇÃO HANTEI \nObjetivo: Fomentar o relacionamento entre os empresários da Região. \nProgramação: \n19h – Credenciamento\n19h30 – Abertura + PITCH DE NEGÓCIOS\n21h – Coquetel \nInscrições: Associados R$ 30\,00 | Não associados R$ 60\,00 \nLink da inscrição: https://acif.tcsdigital.com.br/digital/inscricoes/evento3.aspx?evento=167&idativa=1
URL:https://acif.org.br/evento/encontro-de-negocios-2a-edicao-2026-6/
CATEGORIES:Encontro de networking
ATTACH;FMTTYPE=image/jpeg:https://acif.org.br/wp-content/uploads/2025/02/Encontro-de-Negocios.jpg
END:VEVENT
END:VCALENDAR