BEGIN:VCALENDAR
VERSION:2.0
PRODID:-//ACIF - ECPv6.14.0//NONSGML v1.0//EN
CALSCALE:GREGORIAN
METHOD:PUBLISH
X-WR-CALNAME:ACIF
X-ORIGINAL-URL:https://acif.org.br
X-WR-CALDESC:Eventos para ACIF
REFRESH-INTERVAL;VALUE=DURATION:PT1H
X-Robots-Tag:noindex
X-PUBLISHED-TTL:PT1H
BEGIN:VTIMEZONE
TZID:America/Sao_Paulo
BEGIN:STANDARD
TZOFFSETFROM:-0300
TZOFFSETTO:-0300
TZNAME:-03
DTSTART:20260101T000000
END:STANDARD
END:VTIMEZONE
BEGIN:VEVENT
DTSTART;TZID=America/Sao_Paulo:20260616T093000
DTEND;TZID=America/Sao_Paulo:20260616T110000
DTSTAMP:20260422T052244
CREATED:20260310T183328Z
LAST-MODIFIED:20260310T183352Z
UID:10001679-1781602200-1781607600@acif.org.br
SUMMARY:Reunião Ordinária Núcleo Gastronômico da Costa da Lagoa
DESCRIPTION:Reunião será realizada no Restaurante Coração de Mãe às 09:30h. \nCaso tenha interesse em participar\, \nEntre em contato com: \nAndré Carvalho – Consultor de Núcleos \nTel.: 48 9134-8587
URL:https://acif.org.br/evento/reuniao-ordinaria-nucleo-gastronomico-da-costa-da-lagoa-9/
LOCATION:ACIF Matriz\, Rua Emilio Blum\, 121\, Florianópolis\, Santa Catarina\, 88020010\, Brasil
CATEGORIES:Reunião de núcleo
ATTACH;FMTTYPE=image/png:https://acif.org.br/wp-content/uploads/2023/09/7679_19_M_Submarcas_Nucleos_Setorial-de-Gastronomia-da-Costa-da-Lagoa-positivo.png
END:VEVENT
BEGIN:VEVENT
DTSTART;TZID=America/Sao_Paulo:20260617T190000
DTEND;TZID=America/Sao_Paulo:20260617T190000
DTSTAMP:20260422T052244
CREATED:20260206T142216Z
LAST-MODIFIED:20260206T142341Z
UID:10001999-1781722800-1781722800@acif.org.br
SUMMARY:Encontro de Negócios - 2ª EDIÇÃO 2026
DESCRIPTION:Data: 17/06\nHorário: 19h\nLocal: OKA \nObjetivo: Fomentar o relacionamento entre os empresários da Região. \nProgramação: \n19h – Credenciamento\n19h30 – Abertura + PITCH DE NEGÓCIOS\n21h – Coquetel \nInscrições: Associados R$ 30\,00 | Não associados R$ 60\,00 \nLink da inscrição: https://acif.tcsdigital.com.br/digital/inscricoes/evento3.aspx?evento=167&idativa=1
URL:https://acif.org.br/evento/encontro-de-negocios-2a-edicao-2026-10/
LOCATION:OKA Floripa\, Auditório do OKA Floripa - Torre Sol\, 3º andar\, Florianópolis\, SC\, 88065-000\, Brasil
CATEGORIES:Encontro de networking
ATTACH;FMTTYPE=image/jpeg:https://acif.org.br/wp-content/uploads/2025/02/Encontro-de-Negocios.jpg
END:VEVENT
BEGIN:VEVENT
DTSTART;TZID=America/Sao_Paulo:20260617T190000
DTEND;TZID=America/Sao_Paulo:20260617T203000
DTSTAMP:20260422T052244
CREATED:20260316T191809Z
LAST-MODIFIED:20260316T191809Z
UID:10002022-1781722800-1781728200@acif.org.br
SUMMARY:Reunião Ordinária do Núcleo de Advocacia
DESCRIPTION:Reunião será realizada ás 19h na ACIF Matriz. \nCaso tenha interesse em participar!  \nEntre em contato com: \nAndréa Firmo – Consultora de Núcleos \nTel: 48 9988-0462 – andrea.firmo@acif.org.br
URL:https://acif.org.br/evento/reuniao-ordinaria-do-nucleo-de-advocacia-2/2026-06-17/
LOCATION:ACIF Matriz\, Rua Emilio Blum\, 121\, Florianópolis\, Santa Catarina\, 88020010\, Brasil
CATEGORIES:Reunião de núcleo
END:VEVENT
BEGIN:VEVENT
DTSTART;TZID=America/Sao_Paulo:20260617T193000
DTEND;TZID=America/Sao_Paulo:20260617T210000
DTSTAMP:20260422T052244
CREATED:20260114T190601Z
LAST-MODIFIED:20260114T190850Z
UID:10001872-1781724600-1781730000@acif.org.br
SUMMARY:Reunião Ordinária Mercado Imobiliário
DESCRIPTION:Reunião será realizada na ACIF Matriz às 19:30.  \nCaso tenha interesse em participar!  \nEntre em contato com:  \nMaísa Gomes – Consultora de Núcleos  \nTel.: (48) 3084-9400
URL:https://acif.org.br/evento/reuniao-ordinaria-mercado-imobiliario/2026-06-17/
LOCATION:ACIF Matriz\, Rua Emilio Blum\, 121\, Florianópolis\, Santa Catarina\, 88020010\, Brasil
CATEGORIES:Reunião de núcleo
END:VEVENT
BEGIN:VEVENT
DTSTART;TZID=America/Sao_Paulo:20260618T160000
DTEND;TZID=America/Sao_Paulo:20260618T173000
DTSTAMP:20260422T052244
CREATED:20250217T175953Z
LAST-MODIFIED:20251219T172933Z
UID:10001577-1781798400-1781803800@acif.org.br
SUMMARY:Reunião Ordinária de Cooperativas
DESCRIPTION:Reunião será realizada na Sala CMAA (ACIF Matriz) às 16h. \nCaso tenha interesse em participar\, \nEntre em contato com: \nTatiane Silva  – Consultora de Núcleos \nTel.: 48 9 8864-1801 \n 
URL:https://acif.org.br/evento/reuniao-ordinaria-de-cooperativas/2026-06-18/
CATEGORIES:Reunião de núcleo
END:VEVENT
BEGIN:VEVENT
DTSTART;TZID=America/Sao_Paulo:20260618T190000
DTEND;TZID=America/Sao_Paulo:20260618T203000
DTSTAMP:20260422T052244
CREATED:20250217T203028Z
LAST-MODIFIED:20260114T203600Z
UID:10001923-1781809200-1781814600@acif.org.br
SUMMARY:Reunião Ordinária Núcleo de Soluções Empresariais (NUSE)
DESCRIPTION:Reunião será realizada às 19h. \nCaso tenha interesse em participar! \nEntre em contato com: \nAndrea Firmo – Consultora de Núcleos \nTel.:48 9988-0462 – andrea.firmo@acif.org.br
URL:https://acif.org.br/evento/reuniao-ordinaria-nucleo-de-solucoes-empresariais-nuse/2026-06-18/
CATEGORIES:Reunião de núcleo
END:VEVENT
BEGIN:VEVENT
DTSTART;TZID=America/Sao_Paulo:20260622T180000
DTEND;TZID=America/Sao_Paulo:20260622T193000
DTSTAMP:20260422T052244
CREATED:20240201T194935Z
LAST-MODIFIED:20251219T171938Z
UID:10001560-1782151200-1782156600@acif.org.br
SUMMARY:Reunião Núcleo de Contadores
DESCRIPTION:Reunião será realizada na ACIF Matriz às 18h. \nEntre em contato com a consultora Franciele (48 9 9988-2432) caso tenha interesse em participar!
URL:https://acif.org.br/evento/reuniao-nucleo-de-contadores/2026-06-22/
CATEGORIES:Reunião de núcleo
END:VEVENT
BEGIN:VEVENT
DTSTART;TZID=America/Sao_Paulo:20260622T190000
DTEND;TZID=America/Sao_Paulo:20260622T203000
DTSTAMP:20260422T052244
CREATED:20260115T142802Z
LAST-MODIFIED:20260115T142802Z
UID:10001977-1782154800-1782160200@acif.org.br
SUMMARY:Reunião Ordinária Saúde & Bem-Estar
DESCRIPTION:Reunião será realizada no HUB Ingleses às 19h. \nCaso tenha interesse em participar! \nEntre em contato: \nHugo Goulart – Consultor de Núcleos  \nTel.: 48 9134-8587
URL:https://acif.org.br/evento/reuniao-ordinaria-saude-bem-estar/2026-06-22/
LOCATION:ACIF Matriz\, Rua Emilio Blum\, 121\, Florianópolis\, Santa Catarina\, 88020010\, Brasil
CATEGORIES:Reunião de núcleo
END:VEVENT
BEGIN:VEVENT
DTSTART;TZID=America/Sao_Paulo:20260622T190000
DTEND;TZID=America/Sao_Paulo:20260622T213000
DTSTAMP:20260422T052244
CREATED:20250221T180028Z
LAST-MODIFIED:20260113T133054Z
UID:10001659-1782154800-1782163800@acif.org.br
SUMMARY:Reunião Ordinária do Núcleo de Condomínios e Prestadores de Serviços
DESCRIPTION:Reunião será realizada na Sala da Presidência (ACIF Matriz) às 19h. \nCaso tenha interesse em participar!\nEntre em contato com: \nJoão Moraes – Consultor de Núcleos \nTel.:48 8816-9993 
URL:https://acif.org.br/evento/reuniao-ordinaria-do-nucleo-de-condominios-e-prestadores-de-servicos/2026-06-22/
CATEGORIES:Reunião de núcleo
END:VEVENT
BEGIN:VEVENT
DTSTART;TZID=America/Sao_Paulo:20260623T090000
DTEND;TZID=America/Sao_Paulo:20260623T103000
DTSTAMP:20260422T052244
CREATED:20260114T194256Z
LAST-MODIFIED:20260114T194256Z
UID:10001901-1782205200-1782210600@acif.org.br
SUMMARY:Reunião Ordinária Eventos Organizados
DESCRIPTION:Reunião será realizada na ACIF Matriz às 09h.  \nCaso tenha interesse em participar!  \nEntre em contato com:  \nMaísa Gomes – Consultora de Núcleos  \nTel.: (48) 3084-9400
URL:https://acif.org.br/evento/reuniao-ordinaria-eventos-organizados/2026-06-23/
LOCATION:ACIF Matriz\, Rua Emilio Blum\, 121\, Florianópolis\, Santa Catarina\, 88020010\, Brasil
CATEGORIES:Reunião de núcleo
END:VEVENT
BEGIN:VEVENT
DTSTART;TZID=America/Sao_Paulo:20260623T170000
DTEND;TZID=America/Sao_Paulo:20260623T183000
DTSTAMP:20260422T052244
CREATED:20250408T201208Z
LAST-MODIFIED:20260420T194308Z
UID:10002074-1782234000-1782239400@acif.org.br
SUMMARY:Reunião Ordinária do Núcleo de Coworking
DESCRIPTION:Reuniões presenciais serão realizadas na ACIF Matriz ás 17h. \nCaso tenha interesse em participar! \nEntre em contato com: \nAndré Carvalho – Consultor de Núcleos \nTel.: 48 9 9134-8587
URL:https://acif.org.br/evento/reuniao-ordinaria-do-nucleo-de-coworking/2026-06-23/
LOCATION:ACIF Matriz\, Rua Emilio Blum\, 121\, Florianópolis\, Santa Catarina\, 88020010\, Brasil
CATEGORIES:Reunião de núcleo
ATTACH;FMTTYPE=image/png:https://acif.org.br/wp-content/uploads/2023/09/ACIF-NUCLEO-COWORKING-AZUL-4-1.png
END:VEVENT
BEGIN:VEVENT
DTSTART;TZID=America/Sao_Paulo:20260624T140000
DTEND;TZID=America/Sao_Paulo:20260624T153000
DTSTAMP:20260422T052244
CREATED:20250409T173524Z
LAST-MODIFIED:20260113T150722Z
UID:10001782-1782309600-1782315000@acif.org.br
SUMMARY:Reunião Ordinária Hotéis do Norte da Ilha
DESCRIPTION:Reunião será realizada no HUB Ingleses às 14h. \nCaso tenha interesse em participar!\nEntre em contato com: \nAndréa Firmo da Silva– Consultora de Núcleos \nTel.: 48 99988-0462
URL:https://acif.org.br/evento/reuniao-ordinaria-hoteis-do-norte-da-ilha/2026-06-24/
LOCATION:Ingleses
CATEGORIES:Reunião de núcleo
ATTACH;FMTTYPE=image/png:https://acif.org.br/wp-content/uploads/2023/09/ACIF-NUCLEO-HOTEIS-DO-NORTE-DA-ILHA-AZUL-5.png
END:VEVENT
BEGIN:VEVENT
DTSTART;TZID=America/Sao_Paulo:20260624T150000
DTEND;TZID=America/Sao_Paulo:20260624T163000
DTSTAMP:20260422T052244
CREATED:20250217T195142Z
LAST-MODIFIED:20260113T142349Z
UID:10001722-1782313200-1782318600@acif.org.br
SUMMARY:Reunião Ordinária  Núcleo Gastronômico da Lagoa da Conceição
DESCRIPTION:Reunião será realizada na Regional Lagoa às 15h. \nCaso tenha interesse em participar! \nEntre em contato com: \nTatiane Silva – Consultora de Núcleos\n \nTel.: (48) 8864-1801
URL:https://acif.org.br/evento/reuniao-ordinaria-nucleo-gastronomico-da-lagoa-da-conceicao/2026-06-24/
CATEGORIES:Reunião de núcleo
END:VEVENT
BEGIN:VEVENT
DTSTART;TZID=America/Sao_Paulo:20260624T153000
DTEND;TZID=America/Sao_Paulo:20260624T170000
DTSTAMP:20260422T052244
CREATED:20250409T172158Z
LAST-MODIFIED:20260113T145454Z
UID:10001761-1782315000-1782320400@acif.org.br
SUMMARY:Reunião Ordinária Hotéis da Região Central
DESCRIPTION:Reuniões presenciais serão realizadas na ACIF Matriz às 15:30h. \nReuniões On-line por meio do link: https://meet.google.com/bry-jjyc-tct \nCaso tenha interesse em participar!\nEntre em contato com: \nHugo Goulart – Consultor de Núcleos \nTel.: 48 9134-8587
URL:https://acif.org.br/evento/reuniao-ordinaria-hoteis-da-regiao-central/2026-06-24/
LOCATION:ACIF Matriz\, Rua Emilio Blum\, 121\, Florianópolis\, Santa Catarina\, 88020010\, Brasil
CATEGORIES:Reunião de núcleo
ATTACH;FMTTYPE=image/png:https://acif.org.br/wp-content/uploads/2023/09/ACIF-NUCLEO-HOTEIS-DA-REGIAO-CENTRAL-AZUL-LARANJA.png
END:VEVENT
BEGIN:VEVENT
DTSTART;TZID=America/Sao_Paulo:20260625T090000
DTEND;TZID=America/Sao_Paulo:20260625T103000
DTSTAMP:20260422T052244
CREATED:20250217T181733Z
LAST-MODIFIED:20260113T140024Z
UID:10001699-1782378000-1782383400@acif.org.br
SUMMARY:Reunião Ordinária de Educação
DESCRIPTION:Reuniões Presenciais serão realizadas na Sala Multiuso (ACIF Matriz) ás 09h. \nReuniões On-line por via do link: https://meet.google.com/yne-scar-qfv \nCaso tenha interesse em participar! \nEntre em conta com: \nJoão Moraes – Consultor de Núcleos \nTel.: 48 8816-9993
URL:https://acif.org.br/evento/reuniao-ordinaria-de-educacao/2026-06-25/
CATEGORIES:Reunião de núcleo
END:VEVENT
BEGIN:VEVENT
DTSTART;TZID=America/Sao_Paulo:20260625T183000
DTEND;TZID=America/Sao_Paulo:20260625T200000
DTSTAMP:20260422T052244
CREATED:20260114T204522Z
LAST-MODIFIED:20260127T181329Z
UID:10001946-1782412200-1782417600@acif.org.br
SUMMARY:Reunião Ordinária Psicologia
DESCRIPTION:Reunião será realizada na ACIF Matriz às 18:30h.  \nCaso tenha interesse em participar!  \nEntre em contato com:  \nFranciele Medeiros – Consultora de Núcleos  \nTel.:48 9988-2432
URL:https://acif.org.br/evento/reuniao-ordinaria-psicologia/2026-06-25/
LOCATION:ACIF Matriz\, Rua Emilio Blum\, 121\, Florianópolis\, Santa Catarina\, 88020010\, Brasil
CATEGORIES:Reunião de núcleo
END:VEVENT
BEGIN:VEVENT
DTSTART;TZID=America/Sao_Paulo:20260625T190000
DTEND;TZID=America/Sao_Paulo:20260625T203000
DTSTAMP:20260422T052244
CREATED:20250409T181650Z
LAST-MODIFIED:20260113T154322Z
UID:10001825-1782414000-1782419400@acif.org.br
SUMMARY:Reunião Ordinária Marketing
DESCRIPTION:Reunião será realizada na Sala da CMAA (ACIF Matriz) às 19h. \nCaso tenha interesse em participar\, entre em contato com \nHugo Goulart – Consultor de Núcleos \nTel.: 48 9134-8587
URL:https://acif.org.br/evento/reuniao-ordinaria-marketing/2026-06-25/
LOCATION:ACIF Matriz\, Rua Emilio Blum\, 121\, Florianópolis\, Santa Catarina\, 88020010\, Brasil
CATEGORIES:Reunião de núcleo
ATTACH;FMTTYPE=image/png:https://acif.org.br/wp-content/uploads/2023/09/MARKETING-AZUL.png
END:VEVENT
BEGIN:VEVENT
DTSTART;TZID=America/Sao_Paulo:20260625T200000
DTEND;TZID=America/Sao_Paulo:20260625T220000
DTSTAMP:20260422T052244
CREATED:20250217T204441Z
LAST-MODIFIED:20260202T180805Z
UID:10001962-1782417600-1782424800@acif.org.br
SUMMARY:Reunião Ordinária Núcleo  Setorial de Reparação Automotiva
DESCRIPTION:Reunião será realizada ás 20h nas oficinas. \nCaso tenha interesse em participar! \nEntre em contato com: \nAndréa Firmo – Consultora de Núcleos \nTel.:48 99988-0462 – andrea.firmo@acif.org.br
URL:https://acif.org.br/evento/reuniao-ordinaria-nucleo-setorial-de-reparacao-automotiva/2026-06-25/
CATEGORIES:Reunião de núcleo
END:VEVENT
BEGIN:VEVENT
DTSTART;TZID=America/Sao_Paulo:20260626T090000
DTEND;TZID=America/Sao_Paulo:20260626T103000
DTSTAMP:20260422T052244
CREATED:20250213T194532Z
LAST-MODIFIED:20251219T182651Z
UID:10001612-1782464400-1782469800@acif.org.br
SUMMARY:Reunião Ordinária Corretoras de Seguro
DESCRIPTION:Reunião será realizada na Instituição Facisc às 09h. \nCaso tenha interesse em participar\, entre em contato com \nAndréa Firmo – Consultora de Núcleos \nTel.: 48 9 9988-0462
URL:https://acif.org.br/evento/reuniao-ordinaria-corretoras-de-seguro/2026-06-26/
LOCATION:ACIF Matriz\, Rua Emilio Blum\, 121\, Florianópolis\, Santa Catarina\, 88020010\, Brasil
CATEGORIES:Reunião de núcleo
END:VEVENT
BEGIN:VEVENT
DTSTART;TZID=America/Sao_Paulo:20260629T190000
DTEND;TZID=America/Sao_Paulo:20260629T203000
DTSTAMP:20260422T052244
CREATED:20260330T193048Z
LAST-MODIFIED:20260330T205807Z
UID:10002058-1782759600-1782765000@acif.org.br
SUMMARY:Reunião Ordinária ACIF Jovem
DESCRIPTION:Reunião será realizada na ACIF Matriz às 19h. \nEntre em contato com: \n48 9102-9404 \nCaso tenha interesse em participar!
URL:https://acif.org.br/evento/reuniao-ordinaria-acif-jovem-3/2026-06-29/
LOCATION:ACIF Matriz\, Rua Emilio Blum\, 121\, Florianópolis\, Santa Catarina\, 88020010\, Brasil
CATEGORIES:Reunião de núcleo
ATTACH;FMTTYPE=image/png:https://acif.org.br/wp-content/uploads/2025/02/ACIF-NUCLEO-JOVEM-AZUL.png
END:VEVENT
BEGIN:VEVENT
DTSTART;TZID=America/Sao_Paulo:20260630T093000
DTEND;TZID=America/Sao_Paulo:20260630T110000
DTSTAMP:20260422T052244
CREATED:20260310T183456Z
LAST-MODIFIED:20260310T183524Z
UID:10001680-1782811800-1782817200@acif.org.br
SUMMARY:Reunião Ordinária Núcleo Gastronômico da Costa da Lagoa
DESCRIPTION:Reunião será realizada no Restaurante Bela Ilha às 09:30h. \nCaso tenha interesse em participar\, \nEntre em contato com: \nAndré Carvalho – Consultor de Núcleos \nTel.: 48 9134-8587
URL:https://acif.org.br/evento/reuniao-ordinaria-nucleo-gastronomico-da-costa-da-lagoa-10/
LOCATION:ACIF Matriz\, Rua Emilio Blum\, 121\, Florianópolis\, Santa Catarina\, 88020010\, Brasil
CATEGORIES:Reunião de núcleo
ATTACH;FMTTYPE=image/png:https://acif.org.br/wp-content/uploads/2023/09/7679_19_M_Submarcas_Nucleos_Setorial-de-Gastronomia-da-Costa-da-Lagoa-positivo.png
END:VEVENT
BEGIN:VEVENT
DTSTART;TZID=America/Sao_Paulo:20260701T190000
DTEND;TZID=America/Sao_Paulo:20260701T203000
DTSTAMP:20260422T052244
CREATED:20260316T191809Z
LAST-MODIFIED:20260316T191809Z
UID:10002023-1782932400-1782937800@acif.org.br
SUMMARY:Reunião Ordinária do Núcleo de Advocacia
DESCRIPTION:Reunião será realizada ás 19h na ACIF Matriz. \nCaso tenha interesse em participar!  \nEntre em contato com: \nAndréa Firmo – Consultora de Núcleos \nTel: 48 9988-0462 – andrea.firmo@acif.org.br
URL:https://acif.org.br/evento/reuniao-ordinaria-do-nucleo-de-advocacia-2/2026-07-01/
LOCATION:ACIF Matriz\, Rua Emilio Blum\, 121\, Florianópolis\, Santa Catarina\, 88020010\, Brasil
CATEGORIES:Reunião de núcleo
END:VEVENT
BEGIN:VEVENT
DTSTART;TZID=America/Sao_Paulo:20260701T193000
DTEND;TZID=America/Sao_Paulo:20260701T210000
DTSTAMP:20260422T052244
CREATED:20260114T190601Z
LAST-MODIFIED:20260114T190850Z
UID:10001873-1782934200-1782939600@acif.org.br
SUMMARY:Reunião Ordinária Mercado Imobiliário
DESCRIPTION:Reunião será realizada na ACIF Matriz às 19:30.  \nCaso tenha interesse em participar!  \nEntre em contato com:  \nMaísa Gomes – Consultora de Núcleos  \nTel.: (48) 3084-9400
URL:https://acif.org.br/evento/reuniao-ordinaria-mercado-imobiliario/2026-07-01/
LOCATION:ACIF Matriz\, Rua Emilio Blum\, 121\, Florianópolis\, Santa Catarina\, 88020010\, Brasil
CATEGORIES:Reunião de núcleo
END:VEVENT
BEGIN:VEVENT
DTSTART;TZID=America/Sao_Paulo:20260702T190000
DTEND;TZID=America/Sao_Paulo:20260702T203000
DTSTAMP:20260422T052244
CREATED:20250217T203028Z
LAST-MODIFIED:20260114T203600Z
UID:10001924-1783018800-1783024200@acif.org.br
SUMMARY:Reunião Ordinária Núcleo de Soluções Empresariais (NUSE)
DESCRIPTION:Reunião será realizada às 19h. \nCaso tenha interesse em participar! \nEntre em contato com: \nAndrea Firmo – Consultora de Núcleos \nTel.:48 9988-0462 – andrea.firmo@acif.org.br
URL:https://acif.org.br/evento/reuniao-ordinaria-nucleo-de-solucoes-empresariais-nuse/2026-07-02/
CATEGORIES:Reunião de núcleo
END:VEVENT
BEGIN:VEVENT
DTSTART;TZID=America/Sao_Paulo:20260706T180000
DTEND;TZID=America/Sao_Paulo:20260706T193000
DTSTAMP:20260422T052244
CREATED:20240201T194935Z
LAST-MODIFIED:20251219T171938Z
UID:10001561-1783360800-1783366200@acif.org.br
SUMMARY:Reunião Núcleo de Contadores
DESCRIPTION:Reunião será realizada na ACIF Matriz às 18h. \nEntre em contato com a consultora Franciele (48 9 9988-2432) caso tenha interesse em participar!
URL:https://acif.org.br/evento/reuniao-nucleo-de-contadores/2026-07-06/
CATEGORIES:Reunião de núcleo
END:VEVENT
BEGIN:VEVENT
DTSTART;TZID=America/Sao_Paulo:20260706T180000
DTEND;TZID=America/Sao_Paulo:20260706T193000
DTSTAMP:20260422T052244
CREATED:20250409T165943Z
LAST-MODIFIED:20260113T144049Z
UID:10001742-1783360800-1783366200@acif.org.br
SUMMARY:Reunião Ordinária Guias de Turismo
DESCRIPTION:Reunião será realizada na ACIF Matriz às 18h. \nCaso tenha interesse em participar!\nEntre em contato com: \nMaísa Gomes – Consultora de Núcleos \nTel.: 48 9118-5881
URL:https://acif.org.br/evento/reuniao-ordinaria-guias-de-turismo/2026-07-06/
LOCATION:ACIF Matriz\, Rua Emilio Blum\, 121\, Florianópolis\, Santa Catarina\, 88020010\, Brasil
CATEGORIES:Reunião de núcleo
ATTACH;FMTTYPE=image/png:https://acif.org.br/wp-content/uploads/2023/09/NUCLEO-GUIAS-DE-TURISMO-AZUL-ROXO-1.png
END:VEVENT
BEGIN:VEVENT
DTSTART;TZID=America/Sao_Paulo:20260706T190000
DTEND;TZID=America/Sao_Paulo:20260706T203000
DTSTAMP:20260422T052244
CREATED:20260115T142802Z
LAST-MODIFIED:20260115T142802Z
UID:10001978-1783364400-1783369800@acif.org.br
SUMMARY:Reunião Ordinária Saúde & Bem-Estar
DESCRIPTION:Reunião será realizada no HUB Ingleses às 19h. \nCaso tenha interesse em participar! \nEntre em contato: \nHugo Goulart – Consultor de Núcleos  \nTel.: 48 9134-8587
URL:https://acif.org.br/evento/reuniao-ordinaria-saude-bem-estar/2026-07-06/
LOCATION:ACIF Matriz\, Rua Emilio Blum\, 121\, Florianópolis\, Santa Catarina\, 88020010\, Brasil
CATEGORIES:Reunião de núcleo
END:VEVENT
BEGIN:VEVENT
DTSTART;TZID=America/Sao_Paulo:20260706T190000
DTEND;TZID=America/Sao_Paulo:20260706T213000
DTSTAMP:20260422T052244
CREATED:20250221T180028Z
LAST-MODIFIED:20260113T133054Z
UID:10001660-1783364400-1783373400@acif.org.br
SUMMARY:Reunião Ordinária do Núcleo de Condomínios e Prestadores de Serviços
DESCRIPTION:Reunião será realizada na Sala da Presidência (ACIF Matriz) às 19h. \nCaso tenha interesse em participar!\nEntre em contato com: \nJoão Moraes – Consultor de Núcleos \nTel.:48 8816-9993 
URL:https://acif.org.br/evento/reuniao-ordinaria-do-nucleo-de-condominios-e-prestadores-de-servicos/2026-07-06/
CATEGORIES:Reunião de núcleo
END:VEVENT
BEGIN:VEVENT
DTSTART;TZID=America/Sao_Paulo:20260707T090000
DTEND;TZID=America/Sao_Paulo:20260707T103000
DTSTAMP:20260422T052244
CREATED:20260114T194256Z
LAST-MODIFIED:20260114T194256Z
UID:10001902-1783414800-1783420200@acif.org.br
SUMMARY:Reunião Ordinária Eventos Organizados
DESCRIPTION:Reunião será realizada na ACIF Matriz às 09h.  \nCaso tenha interesse em participar!  \nEntre em contato com:  \nMaísa Gomes – Consultora de Núcleos  \nTel.: (48) 3084-9400
URL:https://acif.org.br/evento/reuniao-ordinaria-eventos-organizados/2026-07-07/
LOCATION:ACIF Matriz\, Rua Emilio Blum\, 121\, Florianópolis\, Santa Catarina\, 88020010\, Brasil
CATEGORIES:Reunião de núcleo
END:VEVENT
BEGIN:VEVENT
DTSTART;TZID=America/Sao_Paulo:20260707T150000
DTEND;TZID=America/Sao_Paulo:20260707T163000
DTSTAMP:20260422T052244
CREATED:20260420T194938Z
LAST-MODIFIED:20260420T194938Z
UID:10002084-1783436400-1783441800@acif.org.br
SUMMARY:Reunião Ordinária Núcleo Coworking
DESCRIPTION:Reunião acontecerá via meet ás 15h. \nLink para a reunião: meet.google.com/fby-tvvu-ozn \nCaso tenha interesse em participar!  \nEntre em contato com:  \nAndré Carvalho – Consultor de Núcleos  \nTel.: 48 9 9134-8587
URL:https://acif.org.br/evento/reuniao-ordinaria-nucleo-coworking-3/2026-07-07/
CATEGORIES:Reunião de núcleo
END:VEVENT
END:VCALENDAR