BEGIN:VCALENDAR
VERSION:2.0
PRODID:-//ACIF - ECPv6.14.0//NONSGML v1.0//EN
CALSCALE:GREGORIAN
METHOD:PUBLISH
X-WR-CALNAME:ACIF
X-ORIGINAL-URL:https://acif.org.br
X-WR-CALDESC:Eventos para ACIF
REFRESH-INTERVAL;VALUE=DURATION:PT1H
X-Robots-Tag:noindex
X-PUBLISHED-TTL:PT1H
BEGIN:VTIMEZONE
TZID:America/Sao_Paulo
BEGIN:STANDARD
TZOFFSETFROM:-0300
TZOFFSETTO:-0300
TZNAME:-03
DTSTART:20260101T000000
END:STANDARD
END:VTIMEZONE
BEGIN:VEVENT
DTSTART;TZID=America/Sao_Paulo:20260527T140000
DTEND;TZID=America/Sao_Paulo:20260527T153000
DTSTAMP:20260422T020258
CREATED:20250409T173524Z
LAST-MODIFIED:20260113T150722Z
UID:10001780-1779890400-1779895800@acif.org.br
SUMMARY:Reunião Ordinária Hotéis do Norte da Ilha
DESCRIPTION:Reunião será realizada no HUB Ingleses às 14h. \nCaso tenha interesse em participar!\nEntre em contato com: \nAndréa Firmo da Silva– Consultora de Núcleos \nTel.: 48 99988-0462
URL:https://acif.org.br/evento/reuniao-ordinaria-hoteis-do-norte-da-ilha/2026-05-27/
LOCATION:Ingleses
CATEGORIES:Reunião de núcleo
ATTACH;FMTTYPE=image/png:https://acif.org.br/wp-content/uploads/2023/09/ACIF-NUCLEO-HOTEIS-DO-NORTE-DA-ILHA-AZUL-5.png
END:VEVENT
BEGIN:VEVENT
DTSTART;TZID=America/Sao_Paulo:20260527T150000
DTEND;TZID=America/Sao_Paulo:20260527T163000
DTSTAMP:20260422T020258
CREATED:20250217T195142Z
LAST-MODIFIED:20260113T142349Z
UID:10001720-1779894000-1779899400@acif.org.br
SUMMARY:Reunião Ordinária  Núcleo Gastronômico da Lagoa da Conceição
DESCRIPTION:Reunião será realizada na Regional Lagoa às 15h. \nCaso tenha interesse em participar! \nEntre em contato com: \nTatiane Silva – Consultora de Núcleos\n \nTel.: (48) 8864-1801
URL:https://acif.org.br/evento/reuniao-ordinaria-nucleo-gastronomico-da-lagoa-da-conceicao/2026-05-27/
CATEGORIES:Reunião de núcleo
END:VEVENT
BEGIN:VEVENT
DTSTART;TZID=America/Sao_Paulo:20260527T153000
DTEND;TZID=America/Sao_Paulo:20260527T170000
DTSTAMP:20260422T020258
CREATED:20250409T172158Z
LAST-MODIFIED:20260113T145454Z
UID:10001759-1779895800-1779901200@acif.org.br
SUMMARY:Reunião Ordinária Hotéis da Região Central
DESCRIPTION:Reuniões presenciais serão realizadas na ACIF Matriz às 15:30h. \nReuniões On-line por meio do link: https://meet.google.com/bry-jjyc-tct \nCaso tenha interesse em participar!\nEntre em contato com: \nHugo Goulart – Consultor de Núcleos \nTel.: 48 9134-8587
URL:https://acif.org.br/evento/reuniao-ordinaria-hoteis-da-regiao-central/2026-05-27/
LOCATION:ACIF Matriz\, Rua Emilio Blum\, 121\, Florianópolis\, Santa Catarina\, 88020010\, Brasil
CATEGORIES:Reunião de núcleo
ATTACH;FMTTYPE=image/png:https://acif.org.br/wp-content/uploads/2023/09/ACIF-NUCLEO-HOTEIS-DA-REGIAO-CENTRAL-AZUL-LARANJA.png
END:VEVENT
BEGIN:VEVENT
DTSTART;TZID=America/Sao_Paulo:20260528T090000
DTEND;TZID=America/Sao_Paulo:20260528T103000
DTSTAMP:20260422T020258
CREATED:20250217T181733Z
LAST-MODIFIED:20260113T140024Z
UID:10001697-1779958800-1779964200@acif.org.br
SUMMARY:Reunião Ordinária de Educação
DESCRIPTION:Reuniões Presenciais serão realizadas na Sala Multiuso (ACIF Matriz) ás 09h. \nReuniões On-line por via do link: https://meet.google.com/yne-scar-qfv \nCaso tenha interesse em participar! \nEntre em conta com: \nJoão Moraes – Consultor de Núcleos \nTel.: 48 8816-9993
URL:https://acif.org.br/evento/reuniao-ordinaria-de-educacao/2026-05-28/
CATEGORIES:Reunião de núcleo
END:VEVENT
BEGIN:VEVENT
DTSTART;TZID=America/Sao_Paulo:20260528T190000
DTEND;TZID=America/Sao_Paulo:20260528T203000
DTSTAMP:20260422T020258
CREATED:20250409T181650Z
LAST-MODIFIED:20260113T154322Z
UID:10001823-1779994800-1780000200@acif.org.br
SUMMARY:Reunião Ordinária Marketing
DESCRIPTION:Reunião será realizada na Sala da CMAA (ACIF Matriz) às 19h. \nCaso tenha interesse em participar\, entre em contato com \nHugo Goulart – Consultor de Núcleos \nTel.: 48 9134-8587
URL:https://acif.org.br/evento/reuniao-ordinaria-marketing/2026-05-28/
LOCATION:ACIF Matriz\, Rua Emilio Blum\, 121\, Florianópolis\, Santa Catarina\, 88020010\, Brasil
CATEGORIES:Reunião de núcleo
ATTACH;FMTTYPE=image/png:https://acif.org.br/wp-content/uploads/2023/09/MARKETING-AZUL.png
END:VEVENT
BEGIN:VEVENT
DTSTART;TZID=America/Sao_Paulo:20260528T200000
DTEND;TZID=America/Sao_Paulo:20260528T220000
DTSTAMP:20260422T020258
CREATED:20250217T204441Z
LAST-MODIFIED:20260202T180805Z
UID:10001961-1779998400-1780005600@acif.org.br
SUMMARY:Reunião Ordinária Núcleo  Setorial de Reparação Automotiva
DESCRIPTION:Reunião será realizada ás 20h nas oficinas. \nCaso tenha interesse em participar! \nEntre em contato com: \nAndréa Firmo – Consultora de Núcleos \nTel.:48 99988-0462 – andrea.firmo@acif.org.br
URL:https://acif.org.br/evento/reuniao-ordinaria-nucleo-setorial-de-reparacao-automotiva/2026-05-28/
CATEGORIES:Reunião de núcleo
END:VEVENT
BEGIN:VEVENT
DTSTART;TZID=America/Sao_Paulo:20260529T090000
DTEND;TZID=America/Sao_Paulo:20260529T103000
DTSTAMP:20260422T020258
CREATED:20250213T194532Z
LAST-MODIFIED:20251219T182651Z
UID:10001610-1780045200-1780050600@acif.org.br
SUMMARY:Reunião Ordinária Corretoras de Seguro
DESCRIPTION:Reunião será realizada na Instituição Facisc às 09h. \nCaso tenha interesse em participar\, entre em contato com \nAndréa Firmo – Consultora de Núcleos \nTel.: 48 9 9988-0462
URL:https://acif.org.br/evento/reuniao-ordinaria-corretoras-de-seguro/2026-05-29/
LOCATION:ACIF Matriz\, Rua Emilio Blum\, 121\, Florianópolis\, Santa Catarina\, 88020010\, Brasil
CATEGORIES:Reunião de núcleo
END:VEVENT
BEGIN:VEVENT
DTSTART;TZID=America/Sao_Paulo:20260601T180000
DTEND;TZID=America/Sao_Paulo:20260601T193000
DTSTAMP:20260422T020258
CREATED:20250409T165943Z
LAST-MODIFIED:20260113T144049Z
UID:10001740-1780336800-1780342200@acif.org.br
SUMMARY:Reunião Ordinária Guias de Turismo
DESCRIPTION:Reunião será realizada na ACIF Matriz às 18h. \nCaso tenha interesse em participar!\nEntre em contato com: \nMaísa Gomes – Consultora de Núcleos \nTel.: 48 9118-5881
URL:https://acif.org.br/evento/reuniao-ordinaria-guias-de-turismo/2026-06-01/
LOCATION:ACIF Matriz\, Rua Emilio Blum\, 121\, Florianópolis\, Santa Catarina\, 88020010\, Brasil
CATEGORIES:Reunião de núcleo
ATTACH;FMTTYPE=image/png:https://acif.org.br/wp-content/uploads/2023/09/NUCLEO-GUIAS-DE-TURISMO-AZUL-ROXO-1.png
END:VEVENT
BEGIN:VEVENT
DTSTART;TZID=America/Sao_Paulo:20260601T190000
DTEND;TZID=America/Sao_Paulo:20260601T190000
DTSTAMP:20260422T020258
CREATED:20260206T142010Z
LAST-MODIFIED:20260206T142052Z
UID:10001998-1780340400-1780340400@acif.org.br
SUMMARY:Encontro de Negócios - 2ª EDIÇÃO 2026
DESCRIPTION:Data: 01/06\nHorário: 19h\nLocal: HUB INGLESES \nObjetivo: Fomentar o relacionamento entre os empresários da Região. \nProgramação: \n19h – Credenciamento\n19h30 – Abertura + PITCH DE NEGÓCIOS\n21h – Coquetel \nInscrições: Associados R$ 30\,00 | Não associados R$ 60\,00 \nLink da inscrição: https://acif.tcsdigital.com.br/digital/inscricoes/evento3.aspx?evento=167&idativa=1
URL:https://acif.org.br/evento/encontro-de-negocios-2a-edicao-2026-9/
LOCATION:Hub Ingleses\, Rod. João Gualberto Soares\, 56 - Open Shopping Ingleses - Sala 201. Ingleses do Rio Vermelho\, Florianópolis - SC\, Florianópolis\, Santa Catarina\, 88058-300
CATEGORIES:Encontro de networking
ATTACH;FMTTYPE=image/jpeg:https://acif.org.br/wp-content/uploads/2025/02/Encontro-de-Negocios.jpg
END:VEVENT
BEGIN:VEVENT
DTSTART;TZID=America/Sao_Paulo:20260601T190000
DTEND;TZID=America/Sao_Paulo:20260601T203000
DTSTAMP:20260422T020258
CREATED:20260330T193048Z
LAST-MODIFIED:20260330T205807Z
UID:10002056-1780340400-1780345800@acif.org.br
SUMMARY:Reunião Ordinária ACIF Jovem
DESCRIPTION:Reunião será realizada na ACIF Matriz às 19h. \nEntre em contato com: \n48 9102-9404 \nCaso tenha interesse em participar!
URL:https://acif.org.br/evento/reuniao-ordinaria-acif-jovem-3/2026-06-01/
LOCATION:ACIF Matriz\, Rua Emilio Blum\, 121\, Florianópolis\, Santa Catarina\, 88020010\, Brasil
CATEGORIES:Reunião de núcleo
ATTACH;FMTTYPE=image/png:https://acif.org.br/wp-content/uploads/2025/02/ACIF-NUCLEO-JOVEM-AZUL.png
END:VEVENT
BEGIN:VEVENT
DTSTART;TZID=America/Sao_Paulo:20260603T190000
DTEND;TZID=America/Sao_Paulo:20260603T203000
DTSTAMP:20260422T020258
CREATED:20260316T191809Z
LAST-MODIFIED:20260316T191809Z
UID:10002021-1780513200-1780518600@acif.org.br
SUMMARY:Reunião Ordinária do Núcleo de Advocacia
DESCRIPTION:Reunião será realizada ás 19h na ACIF Matriz. \nCaso tenha interesse em participar!  \nEntre em contato com: \nAndréa Firmo – Consultora de Núcleos \nTel: 48 9988-0462 – andrea.firmo@acif.org.br
URL:https://acif.org.br/evento/reuniao-ordinaria-do-nucleo-de-advocacia-2/2026-06-03/
LOCATION:ACIF Matriz\, Rua Emilio Blum\, 121\, Florianópolis\, Santa Catarina\, 88020010\, Brasil
CATEGORIES:Reunião de núcleo
END:VEVENT
BEGIN:VEVENT
DTSTART;TZID=America/Sao_Paulo:20260603T193000
DTEND;TZID=America/Sao_Paulo:20260603T210000
DTSTAMP:20260422T020258
CREATED:20260114T190601Z
LAST-MODIFIED:20260114T190850Z
UID:10001871-1780515000-1780520400@acif.org.br
SUMMARY:Reunião Ordinária Mercado Imobiliário
DESCRIPTION:Reunião será realizada na ACIF Matriz às 19:30.  \nCaso tenha interesse em participar!  \nEntre em contato com:  \nMaísa Gomes – Consultora de Núcleos  \nTel.: (48) 3084-9400
URL:https://acif.org.br/evento/reuniao-ordinaria-mercado-imobiliario/2026-06-03/
LOCATION:ACIF Matriz\, Rua Emilio Blum\, 121\, Florianópolis\, Santa Catarina\, 88020010\, Brasil
CATEGORIES:Reunião de núcleo
END:VEVENT
BEGIN:VEVENT
DTSTART;TZID=America/Sao_Paulo:20260604T190000
DTEND;TZID=America/Sao_Paulo:20260604T203000
DTSTAMP:20260422T020258
CREATED:20250217T203028Z
LAST-MODIFIED:20260114T203600Z
UID:10001922-1780599600-1780605000@acif.org.br
SUMMARY:Reunião Ordinária Núcleo de Soluções Empresariais (NUSE)
DESCRIPTION:Reunião será realizada às 19h. \nCaso tenha interesse em participar! \nEntre em contato com: \nAndrea Firmo – Consultora de Núcleos \nTel.:48 9988-0462 – andrea.firmo@acif.org.br
URL:https://acif.org.br/evento/reuniao-ordinaria-nucleo-de-solucoes-empresariais-nuse/2026-06-04/
CATEGORIES:Reunião de núcleo
END:VEVENT
BEGIN:VEVENT
DTSTART;TZID=America/Sao_Paulo:20260608T180000
DTEND;TZID=America/Sao_Paulo:20260608T193000
DTSTAMP:20260422T020258
CREATED:20240201T194935Z
LAST-MODIFIED:20251219T171938Z
UID:10001559-1780941600-1780947000@acif.org.br
SUMMARY:Reunião Núcleo de Contadores
DESCRIPTION:Reunião será realizada na ACIF Matriz às 18h. \nEntre em contato com a consultora Franciele (48 9 9988-2432) caso tenha interesse em participar!
URL:https://acif.org.br/evento/reuniao-nucleo-de-contadores/2026-06-08/
CATEGORIES:Reunião de núcleo
END:VEVENT
BEGIN:VEVENT
DTSTART;TZID=America/Sao_Paulo:20260608T190000
DTEND;TZID=America/Sao_Paulo:20260608T203000
DTSTAMP:20260422T020258
CREATED:20260115T142802Z
LAST-MODIFIED:20260115T142802Z
UID:10001976-1780945200-1780950600@acif.org.br
SUMMARY:Reunião Ordinária Saúde & Bem-Estar
DESCRIPTION:Reunião será realizada no HUB Ingleses às 19h. \nCaso tenha interesse em participar! \nEntre em contato: \nHugo Goulart – Consultor de Núcleos  \nTel.: 48 9134-8587
URL:https://acif.org.br/evento/reuniao-ordinaria-saude-bem-estar/2026-06-08/
LOCATION:ACIF Matriz\, Rua Emilio Blum\, 121\, Florianópolis\, Santa Catarina\, 88020010\, Brasil
CATEGORIES:Reunião de núcleo
END:VEVENT
BEGIN:VEVENT
DTSTART;TZID=America/Sao_Paulo:20260608T190000
DTEND;TZID=America/Sao_Paulo:20260608T213000
DTSTAMP:20260422T020258
CREATED:20250221T180028Z
LAST-MODIFIED:20260113T133054Z
UID:10001658-1780945200-1780954200@acif.org.br
SUMMARY:Reunião Ordinária do Núcleo de Condomínios e Prestadores de Serviços
DESCRIPTION:Reunião será realizada na Sala da Presidência (ACIF Matriz) às 19h. \nCaso tenha interesse em participar!\nEntre em contato com: \nJoão Moraes – Consultor de Núcleos \nTel.:48 8816-9993 
URL:https://acif.org.br/evento/reuniao-ordinaria-do-nucleo-de-condominios-e-prestadores-de-servicos/2026-06-08/
CATEGORIES:Reunião de núcleo
END:VEVENT
BEGIN:VEVENT
DTSTART;TZID=America/Sao_Paulo:20260609T090000
DTEND;TZID=America/Sao_Paulo:20260609T103000
DTSTAMP:20260422T020258
CREATED:20260114T194256Z
LAST-MODIFIED:20260114T194256Z
UID:10001900-1780995600-1781001000@acif.org.br
SUMMARY:Reunião Ordinária Eventos Organizados
DESCRIPTION:Reunião será realizada na ACIF Matriz às 09h.  \nCaso tenha interesse em participar!  \nEntre em contato com:  \nMaísa Gomes – Consultora de Núcleos  \nTel.: (48) 3084-9400
URL:https://acif.org.br/evento/reuniao-ordinaria-eventos-organizados/2026-06-09/
LOCATION:ACIF Matriz\, Rua Emilio Blum\, 121\, Florianópolis\, Santa Catarina\, 88020010\, Brasil
CATEGORIES:Reunião de núcleo
END:VEVENT
BEGIN:VEVENT
DTSTART;TZID=America/Sao_Paulo:20260609T150000
DTEND;TZID=America/Sao_Paulo:20260609T163000
DTSTAMP:20260422T020258
CREATED:20260420T194938Z
LAST-MODIFIED:20260420T194938Z
UID:10002083-1781017200-1781022600@acif.org.br
SUMMARY:Reunião Ordinária Núcleo Coworking
DESCRIPTION:Reunião acontecerá via meet ás 15h. \nLink para a reunião: meet.google.com/fby-tvvu-ozn \nCaso tenha interesse em participar!  \nEntre em contato com:  \nAndré Carvalho – Consultor de Núcleos  \nTel.: 48 9 9134-8587
URL:https://acif.org.br/evento/reuniao-ordinaria-nucleo-coworking-3/2026-06-09/
CATEGORIES:Reunião de núcleo
END:VEVENT
BEGIN:VEVENT
DTSTART;TZID=America/Sao_Paulo:20260610T093000
DTEND;TZID=America/Sao_Paulo:20260610T110000
DTSTAMP:20260422T020258
CREATED:20260310T184209Z
LAST-MODIFIED:20260310T184225Z
UID:10001687-1781083800-1781089200@acif.org.br
SUMMARY:Reunião Ordinária Núcleo Gastronômico da Costa da Lagoa
DESCRIPTION:Reunião será realizada no Restaurante Sabor da Costa às 09:30h. \nCaso tenha interesse em participar\, \nEntre em contato com: \nAndré Carvalho – Consultor de Núcleos \nTel.: 48 9134-8587
URL:https://acif.org.br/evento/reuniao-ordinaria-nucleo-gastronomico-da-costa-da-lagoa-16/
LOCATION:ACIF Matriz\, Rua Emilio Blum\, 121\, Florianópolis\, Santa Catarina\, 88020010\, Brasil
CATEGORIES:Reunião de núcleo
ATTACH;FMTTYPE=image/png:https://acif.org.br/wp-content/uploads/2023/09/7679_19_M_Submarcas_Nucleos_Setorial-de-Gastronomia-da-Costa-da-Lagoa-positivo.png
END:VEVENT
BEGIN:VEVENT
DTSTART;TZID=America/Sao_Paulo:20260610T140000
DTEND;TZID=America/Sao_Paulo:20260610T153000
DTSTAMP:20260422T020258
CREATED:20250409T173524Z
LAST-MODIFIED:20260113T150722Z
UID:10001781-1781100000-1781105400@acif.org.br
SUMMARY:Reunião Ordinária Hotéis do Norte da Ilha
DESCRIPTION:Reunião será realizada no HUB Ingleses às 14h. \nCaso tenha interesse em participar!\nEntre em contato com: \nAndréa Firmo da Silva– Consultora de Núcleos \nTel.: 48 99988-0462
URL:https://acif.org.br/evento/reuniao-ordinaria-hoteis-do-norte-da-ilha/2026-06-10/
LOCATION:Ingleses
CATEGORIES:Reunião de núcleo
ATTACH;FMTTYPE=image/png:https://acif.org.br/wp-content/uploads/2023/09/ACIF-NUCLEO-HOTEIS-DO-NORTE-DA-ILHA-AZUL-5.png
END:VEVENT
BEGIN:VEVENT
DTSTART;TZID=America/Sao_Paulo:20260610T150000
DTEND;TZID=America/Sao_Paulo:20260610T163000
DTSTAMP:20260422T020258
CREATED:20250217T195142Z
LAST-MODIFIED:20260113T142349Z
UID:10001721-1781103600-1781109000@acif.org.br
SUMMARY:Reunião Ordinária  Núcleo Gastronômico da Lagoa da Conceição
DESCRIPTION:Reunião será realizada na Regional Lagoa às 15h. \nCaso tenha interesse em participar! \nEntre em contato com: \nTatiane Silva – Consultora de Núcleos\n \nTel.: (48) 8864-1801
URL:https://acif.org.br/evento/reuniao-ordinaria-nucleo-gastronomico-da-lagoa-da-conceicao/2026-06-10/
CATEGORIES:Reunião de núcleo
END:VEVENT
BEGIN:VEVENT
DTSTART;TZID=America/Sao_Paulo:20260610T153000
DTEND;TZID=America/Sao_Paulo:20260610T170000
DTSTAMP:20260422T020258
CREATED:20250409T172158Z
LAST-MODIFIED:20260113T145454Z
UID:10001760-1781105400-1781110800@acif.org.br
SUMMARY:Reunião Ordinária Hotéis da Região Central
DESCRIPTION:Reuniões presenciais serão realizadas na ACIF Matriz às 15:30h. \nReuniões On-line por meio do link: https://meet.google.com/bry-jjyc-tct \nCaso tenha interesse em participar!\nEntre em contato com: \nHugo Goulart – Consultor de Núcleos \nTel.: 48 9134-8587
URL:https://acif.org.br/evento/reuniao-ordinaria-hoteis-da-regiao-central/2026-06-10/
LOCATION:ACIF Matriz\, Rua Emilio Blum\, 121\, Florianópolis\, Santa Catarina\, 88020010\, Brasil
CATEGORIES:Reunião de núcleo
ATTACH;FMTTYPE=image/png:https://acif.org.br/wp-content/uploads/2023/09/ACIF-NUCLEO-HOTEIS-DA-REGIAO-CENTRAL-AZUL-LARANJA.png
END:VEVENT
BEGIN:VEVENT
DTSTART;TZID=America/Sao_Paulo:20260611T090000
DTEND;TZID=America/Sao_Paulo:20260611T103000
DTSTAMP:20260422T020258
CREATED:20250217T181733Z
LAST-MODIFIED:20260113T140024Z
UID:10001698-1781168400-1781173800@acif.org.br
SUMMARY:Reunião Ordinária de Educação
DESCRIPTION:Reuniões Presenciais serão realizadas na Sala Multiuso (ACIF Matriz) ás 09h. \nReuniões On-line por via do link: https://meet.google.com/yne-scar-qfv \nCaso tenha interesse em participar! \nEntre em conta com: \nJoão Moraes – Consultor de Núcleos \nTel.: 48 8816-9993
URL:https://acif.org.br/evento/reuniao-ordinaria-de-educacao/2026-06-11/
CATEGORIES:Reunião de núcleo
END:VEVENT
BEGIN:VEVENT
DTSTART;TZID=America/Sao_Paulo:20260611T180000
DTEND;TZID=America/Sao_Paulo:20260611T200000
DTSTAMP:20260422T020258
CREATED:20260114T204522Z
LAST-MODIFIED:20260127T181329Z
UID:10001945-1781200800-1781208000@acif.org.br
SUMMARY:Reunião Ordinária Psicologia
DESCRIPTION:Reunião será realizada na ACIF Matriz às 18:30h.  \nCaso tenha interesse em participar!  \nEntre em contato com:  \nFranciele Medeiros – Consultora de Núcleos  \nTel.:48 9988-2432
URL:https://acif.org.br/evento/reuniao-ordinaria-psicologia/2026-06-11/
LOCATION:ACIF Matriz\, Rua Emilio Blum\, 121\, Florianópolis\, Santa Catarina\, 88020010\, Brasil
CATEGORIES:Reunião de núcleo
END:VEVENT
BEGIN:VEVENT
DTSTART;TZID=America/Sao_Paulo:20260611T190000
DTEND;TZID=America/Sao_Paulo:20260611T203000
DTSTAMP:20260422T020258
CREATED:20250409T181650Z
LAST-MODIFIED:20260113T154322Z
UID:10001824-1781204400-1781209800@acif.org.br
SUMMARY:Reunião Ordinária Marketing
DESCRIPTION:Reunião será realizada na Sala da CMAA (ACIF Matriz) às 19h. \nCaso tenha interesse em participar\, entre em contato com \nHugo Goulart – Consultor de Núcleos \nTel.: 48 9134-8587
URL:https://acif.org.br/evento/reuniao-ordinaria-marketing/2026-06-11/
LOCATION:ACIF Matriz\, Rua Emilio Blum\, 121\, Florianópolis\, Santa Catarina\, 88020010\, Brasil
CATEGORIES:Reunião de núcleo
ATTACH;FMTTYPE=image/png:https://acif.org.br/wp-content/uploads/2023/09/MARKETING-AZUL.png
END:VEVENT
BEGIN:VEVENT
DTSTART;TZID=America/Sao_Paulo:20260612T090000
DTEND;TZID=America/Sao_Paulo:20260612T103000
DTSTAMP:20260422T020258
CREATED:20250213T194532Z
LAST-MODIFIED:20251219T182651Z
UID:10001611-1781254800-1781260200@acif.org.br
SUMMARY:Reunião Ordinária Corretoras de Seguro
DESCRIPTION:Reunião será realizada na Instituição Facisc às 09h. \nCaso tenha interesse em participar\, entre em contato com \nAndréa Firmo – Consultora de Núcleos \nTel.: 48 9 9988-0462
URL:https://acif.org.br/evento/reuniao-ordinaria-corretoras-de-seguro/2026-06-12/
LOCATION:ACIF Matriz\, Rua Emilio Blum\, 121\, Florianópolis\, Santa Catarina\, 88020010\, Brasil
CATEGORIES:Reunião de núcleo
END:VEVENT
BEGIN:VEVENT
DTSTART;TZID=America/Sao_Paulo:20260615T180000
DTEND;TZID=America/Sao_Paulo:20260615T193000
DTSTAMP:20260422T020258
CREATED:20250409T165943Z
LAST-MODIFIED:20260113T144049Z
UID:10001741-1781546400-1781551800@acif.org.br
SUMMARY:Reunião Ordinária Guias de Turismo
DESCRIPTION:Reunião será realizada na ACIF Matriz às 18h. \nCaso tenha interesse em participar!\nEntre em contato com: \nMaísa Gomes – Consultora de Núcleos \nTel.: 48 9118-5881
URL:https://acif.org.br/evento/reuniao-ordinaria-guias-de-turismo/2026-06-15/
LOCATION:ACIF Matriz\, Rua Emilio Blum\, 121\, Florianópolis\, Santa Catarina\, 88020010\, Brasil
CATEGORIES:Reunião de núcleo
ATTACH;FMTTYPE=image/png:https://acif.org.br/wp-content/uploads/2023/09/NUCLEO-GUIAS-DE-TURISMO-AZUL-ROXO-1.png
END:VEVENT
BEGIN:VEVENT
DTSTART;TZID=America/Sao_Paulo:20260615T190000
DTEND;TZID=America/Sao_Paulo:20260615T203000
DTSTAMP:20260422T020258
CREATED:20260330T193048Z
LAST-MODIFIED:20260330T205807Z
UID:10002057-1781550000-1781555400@acif.org.br
SUMMARY:Reunião Ordinária ACIF Jovem
DESCRIPTION:Reunião será realizada na ACIF Matriz às 19h. \nEntre em contato com: \n48 9102-9404 \nCaso tenha interesse em participar!
URL:https://acif.org.br/evento/reuniao-ordinaria-acif-jovem-3/2026-06-15/
LOCATION:ACIF Matriz\, Rua Emilio Blum\, 121\, Florianópolis\, Santa Catarina\, 88020010\, Brasil
CATEGORIES:Reunião de núcleo
ATTACH;FMTTYPE=image/png:https://acif.org.br/wp-content/uploads/2025/02/ACIF-NUCLEO-JOVEM-AZUL.png
END:VEVENT
BEGIN:VEVENT
DTSTART;TZID=America/Sao_Paulo:20260616T093000
DTEND;TZID=America/Sao_Paulo:20260616T110000
DTSTAMP:20260422T020258
CREATED:20260310T183328Z
LAST-MODIFIED:20260310T183352Z
UID:10001679-1781602200-1781607600@acif.org.br
SUMMARY:Reunião Ordinária Núcleo Gastronômico da Costa da Lagoa
DESCRIPTION:Reunião será realizada no Restaurante Coração de Mãe às 09:30h. \nCaso tenha interesse em participar\, \nEntre em contato com: \nAndré Carvalho – Consultor de Núcleos \nTel.: 48 9134-8587
URL:https://acif.org.br/evento/reuniao-ordinaria-nucleo-gastronomico-da-costa-da-lagoa-9/
LOCATION:ACIF Matriz\, Rua Emilio Blum\, 121\, Florianópolis\, Santa Catarina\, 88020010\, Brasil
CATEGORIES:Reunião de núcleo
ATTACH;FMTTYPE=image/png:https://acif.org.br/wp-content/uploads/2023/09/7679_19_M_Submarcas_Nucleos_Setorial-de-Gastronomia-da-Costa-da-Lagoa-positivo.png
END:VEVENT
BEGIN:VEVENT
DTSTART;TZID=America/Sao_Paulo:20260617T190000
DTEND;TZID=America/Sao_Paulo:20260617T190000
DTSTAMP:20260422T020258
CREATED:20260206T142216Z
LAST-MODIFIED:20260206T142341Z
UID:10001999-1781722800-1781722800@acif.org.br
SUMMARY:Encontro de Negócios - 2ª EDIÇÃO 2026
DESCRIPTION:Data: 17/06\nHorário: 19h\nLocal: OKA \nObjetivo: Fomentar o relacionamento entre os empresários da Região. \nProgramação: \n19h – Credenciamento\n19h30 – Abertura + PITCH DE NEGÓCIOS\n21h – Coquetel \nInscrições: Associados R$ 30\,00 | Não associados R$ 60\,00 \nLink da inscrição: https://acif.tcsdigital.com.br/digital/inscricoes/evento3.aspx?evento=167&idativa=1
URL:https://acif.org.br/evento/encontro-de-negocios-2a-edicao-2026-10/
LOCATION:OKA Floripa\, Auditório do OKA Floripa - Torre Sol\, 3º andar\, Florianópolis\, SC\, 88065-000\, Brasil
CATEGORIES:Encontro de networking
ATTACH;FMTTYPE=image/jpeg:https://acif.org.br/wp-content/uploads/2025/02/Encontro-de-Negocios.jpg
END:VEVENT
END:VCALENDAR