BEGIN:VCALENDAR
VERSION:2.0
PRODID:-//ACIF - ECPv6.14.0//NONSGML v1.0//EN
CALSCALE:GREGORIAN
METHOD:PUBLISH
X-WR-CALNAME:ACIF
X-ORIGINAL-URL:https://acif.org.br
X-WR-CALDESC:Eventos para ACIF
REFRESH-INTERVAL;VALUE=DURATION:PT1H
X-Robots-Tag:noindex
X-PUBLISHED-TTL:PT1H
BEGIN:VTIMEZONE
TZID:America/Sao_Paulo
BEGIN:STANDARD
TZOFFSETFROM:-0300
TZOFFSETTO:-0300
TZNAME:-03
DTSTART:20260101T000000
END:STANDARD
END:VTIMEZONE
BEGIN:VEVENT
DTSTART;TZID=America/Sao_Paulo:20260421T093000
DTEND;TZID=America/Sao_Paulo:20260421T110000
DTSTAMP:20260423T173626
CREATED:20260310T182719Z
LAST-MODIFIED:20260310T182744Z
UID:10001675-1776763800-1776769200@acif.org.br
SUMMARY:Reunião Ordinária Núcleo Gastronômico da Costa da Lagoa
DESCRIPTION:Reunião será realizada no Restaurante Cachoeira às 09:30h. \nCaso tenha interesse em participar\, \nEntre em contato com: \nAndré Carvalho – Consultor de Núcleos \nTel.: 48 9134-8587
URL:https://acif.org.br/evento/reuniao-ordinaria-nucleo-gastronomico-da-costa-da-lagoa-5/
LOCATION:ACIF Matriz\, Rua Emilio Blum\, 121\, Florianópolis\, Santa Catarina\, 88020010\, Brasil
CATEGORIES:Reunião de núcleo
ATTACH;FMTTYPE=image/png:https://acif.org.br/wp-content/uploads/2023/09/7679_19_M_Submarcas_Nucleos_Setorial-de-Gastronomia-da-Costa-da-Lagoa-positivo.png
END:VEVENT
BEGIN:VEVENT
DTSTART;TZID=America/Sao_Paulo:20260422T190000
DTEND;TZID=America/Sao_Paulo:20260422T203000
DTSTAMP:20260423T173626
CREATED:20260316T191809Z
LAST-MODIFIED:20260422T214938Z
UID:10002017-1776884400-1776889800@acif.org.br
SUMMARY:Reunião Ordinária do Núcleo de Advocacia
DESCRIPTION:Reunião será realizada ás 19h na ACIF Matriz. \nCaso tenha interesse em participar!  \nEntre em contato com: \nCibele Quintino – Consultora de Núcleos  \nTel.: 48 9102-9404 \ncibele.quintino@acif.org.br
URL:https://acif.org.br/evento/reuniao-ordinaria-do-nucleo-de-advocacia-2/2026-04-22/
LOCATION:ACIF Matriz\, Rua Emilio Blum\, 121\, Florianópolis\, Santa Catarina\, 88020010\, Brasil
CATEGORIES:Reunião de núcleo
END:VEVENT
BEGIN:VEVENT
DTSTART;TZID=America/Sao_Paulo:20260422T193000
DTEND;TZID=America/Sao_Paulo:20260422T210000
DTSTAMP:20260423T173626
CREATED:20260114T190601Z
LAST-MODIFIED:20260422T190201Z
UID:10001868-1776886200-1776891600@acif.org.br
SUMMARY:Reunião Ordinária Mercado Imobiliário
DESCRIPTION:Reunião será realizada na ACIF Matriz às 19:00.  \nCaso tenha interesse em participar!  \nEntre em contato com:  \nMariana Aguiar – Consultora de Núcleos \nTel.: 48 9 9988-0462 \nmariana.aguiar@acif.org.br
URL:https://acif.org.br/evento/reuniao-ordinaria-mercado-imobiliario/2026-04-22/
LOCATION:ACIF Matriz\, Rua Emilio Blum\, 121\, Florianópolis\, Santa Catarina\, 88020010\, Brasil
CATEGORIES:Reunião de núcleo
END:VEVENT
BEGIN:VEVENT
DTSTART;TZID=America/Sao_Paulo:20260423T160000
DTEND;TZID=America/Sao_Paulo:20260423T173000
DTSTAMP:20260423T173626
CREATED:20250217T175953Z
LAST-MODIFIED:20260422T185544Z
UID:10001574-1776960000-1776965400@acif.org.br
SUMMARY:Reunião Ordinária de Cooperativas
DESCRIPTION:Reunião será realizada na ACIF Matriz às 16h. \nCaso tenha interesse em participar\, \nEntre em contato com: \nMariana Aguiar – Consultora de Núcleos \nTel.: 48 9 9988-0462 \nmariana.aguiar@acif.org.br
URL:https://acif.org.br/evento/reuniao-ordinaria-de-cooperativas/2026-04-23/
CATEGORIES:Reunião de núcleo
END:VEVENT
BEGIN:VEVENT
DTSTART;TZID=America/Sao_Paulo:20260423T183000
DTEND;TZID=America/Sao_Paulo:20260423T200000
DTSTAMP:20260423T173626
CREATED:20260114T204522Z
LAST-MODIFIED:20260422T215246Z
UID:10001942-1776969000-1776974400@acif.org.br
SUMMARY:Reunião Ordinária Psicologia
DESCRIPTION:Reunião será realizada na ACIF Matriz às 19h.  \nCaso tenha interesse em participar!  \nEntre em contato com:  \nCibele Quintino – Consultora de Núcleos  \nTel.: 48 9102-9404 \ncibele.quintino@acif.org.br
URL:https://acif.org.br/evento/reuniao-ordinaria-psicologia/2026-04-23/
LOCATION:ACIF Matriz\, Rua Emilio Blum\, 121\, Florianópolis\, Santa Catarina\, 88020010\, Brasil
CATEGORIES:Reunião de núcleo
END:VEVENT
BEGIN:VEVENT
DTSTART;TZID=America/Sao_Paulo:20260423T183000
DTEND;TZID=America/Sao_Paulo:20260423T200000
DTSTAMP:20260423T173626
CREATED:20260422T182309Z
LAST-MODIFIED:20260422T191906Z
UID:10002108-1776969000-1776974400@acif.org.br
SUMMARY:Reunião Ordinária Núcleo de Soluções Empresariais (NUSE)
DESCRIPTION:Reunião será realizada na ACIF Matriz às 18h30. \nCaso tenha interesse em participar! \nEntre em contato com: \nMariana Aguiar – Consultora de Núcleos \nTel.:48 9988-0462 \nmariana.aguiar@acif.org.br
URL:https://acif.org.br/evento/reuniao-ordinaria-nucleo-de-solucoes-empresariais-nuse-2/2026-04-23/
LOCATION:ACIF Matriz\, Rua Emilio Blum\, 121\, Florianópolis\, Santa Catarina\, 88020010\, Brasil
CATEGORIES:Reunião de núcleo
END:VEVENT
BEGIN:VEVENT
DTSTART;TZID=America/Sao_Paulo:20260427T180000
DTEND;TZID=America/Sao_Paulo:20260427T193000
DTSTAMP:20260423T173626
CREATED:20240201T194935Z
LAST-MODIFIED:20260422T194447Z
UID:10001556-1777312800-1777318200@acif.org.br
SUMMARY:Reunião Ordinária Núcleo de Contadores
DESCRIPTION:Reunião presencial será realizada na ACIF Matriz às 18h. \nLink para participar online: meet.google.com/nux-vqzq-byz \nCaso tenha interesse em participar!  \nEntre em contato com:  \nAnne Caroline – Consultora de Núcleos  \nTel.: 48 8864-1801 \nanne.rios@acif.org.br
URL:https://acif.org.br/evento/reuniao-nucleo-de-contadores/2026-04-27/
CATEGORIES:Reunião de núcleo
END:VEVENT
BEGIN:VEVENT
DTSTART;TZID=America/Sao_Paulo:20260427T190000
DTEND;TZID=America/Sao_Paulo:20260427T203000
DTSTAMP:20260423T173626
CREATED:20260115T142802Z
LAST-MODIFIED:20260422T192353Z
UID:10001973-1777316400-1777321800@acif.org.br
SUMMARY:Reunião Ordinária Saúde & Bem-Estar
DESCRIPTION:Reunião será realizada no HUB Ingleses às 19h. \nCaso tenha interesse em participar! \nEntre em contato: \nMariana Aguiar – Consultora de Núcleos  \nTel.:48 9988-0462  \nmariana.aguiar@acif.org.br
URL:https://acif.org.br/evento/reuniao-ordinaria-saude-bem-estar/2026-04-27/
LOCATION:ACIF Matriz\, Rua Emilio Blum\, 121\, Florianópolis\, Santa Catarina\, 88020010\, Brasil
CATEGORIES:Reunião de núcleo
END:VEVENT
BEGIN:VEVENT
DTSTART;TZID=America/Sao_Paulo:20260427T190000
DTEND;TZID=America/Sao_Paulo:20260427T213000
DTSTAMP:20260423T173626
CREATED:20250221T180028Z
LAST-MODIFIED:20260113T133054Z
UID:10001655-1777316400-1777325400@acif.org.br
SUMMARY:Reunião Ordinária do Núcleo de Condomínios e Prestadores de Serviços
DESCRIPTION:Reunião será realizada na Sala da Presidência (ACIF Matriz) às 19h. \nCaso tenha interesse em participar!\nEntre em contato com: \nJoão Moraes – Consultor de Núcleos \nTel.:48 8816-9993 
URL:https://acif.org.br/evento/reuniao-ordinaria-do-nucleo-de-condominios-e-prestadores-de-servicos/2026-04-27/
CATEGORIES:Reunião de núcleo
END:VEVENT
BEGIN:VEVENT
DTSTART;TZID=America/Sao_Paulo:20260427T190000
DTEND;TZID=America/Sao_Paulo:20260427T213000
DTSTAMP:20260423T173626
CREATED:20260206T141644Z
LAST-MODIFIED:20260206T141728Z
UID:10001997-1777316400-1777325400@acif.org.br
SUMMARY:Encontro de Negócios - 2ª EDIÇÃO 2026
DESCRIPTION:Data: 27/04\nHorário: 19h\nREGIONAL: SUL – HOTEL \nObjetivo: Fomentar o relacionamento entre os empresários da Região. \nProgramação: \n19h – Credenciamento\n19h30 – Abertura + PITCH DE NEGÓCIOS\n21h – Coquetel \nInscrições: Associados R$ 30\,00 | Não associados R$ 60\,00 \nLink da inscrição: https://acif.tcsdigital.com.br/digital/inscricoes/evento3.aspx?evento=167&idativa=1
URL:https://acif.org.br/evento/encontro-de-negocios-2a-edicao-2026-7/
CATEGORIES:Encontro de networking
ATTACH;FMTTYPE=image/jpeg:https://acif.org.br/wp-content/uploads/2025/02/Encontro-de-Negocios.jpg
END:VEVENT
BEGIN:VEVENT
DTSTART;TZID=America/Sao_Paulo:20260428T090000
DTEND;TZID=America/Sao_Paulo:20260428T103000
DTSTAMP:20260423T173626
CREATED:20260114T194256Z
LAST-MODIFIED:20260114T194256Z
UID:10001897-1777366800-1777372200@acif.org.br
SUMMARY:Reunião Ordinária Eventos Organizados
DESCRIPTION:Reunião será realizada na ACIF Matriz às 09h.  \nCaso tenha interesse em participar!  \nEntre em contato com:  \nMaísa Gomes – Consultora de Núcleos  \nTel.: (48) 3084-9400
URL:https://acif.org.br/evento/reuniao-ordinaria-eventos-organizados/2026-04-28/
LOCATION:ACIF Matriz\, Rua Emilio Blum\, 121\, Florianópolis\, Santa Catarina\, 88020010\, Brasil
CATEGORIES:Reunião de núcleo
END:VEVENT
BEGIN:VEVENT
DTSTART;TZID=America/Sao_Paulo:20260428T170000
DTEND;TZID=America/Sao_Paulo:20260428T183000
DTSTAMP:20260423T173626
CREATED:20250408T201208Z
LAST-MODIFIED:20260420T194308Z
UID:10002072-1777395600-1777401000@acif.org.br
SUMMARY:Reunião Ordinária do Núcleo de Coworking
DESCRIPTION:Reuniões presenciais serão realizadas na ACIF Matriz ás 17h. \nCaso tenha interesse em participar! \nEntre em contato com: \nAndré Carvalho – Consultor de Núcleos \nTel.: 48 9 9134-8587
URL:https://acif.org.br/evento/reuniao-ordinaria-do-nucleo-de-coworking/2026-04-28/
LOCATION:ACIF Matriz\, Rua Emilio Blum\, 121\, Florianópolis\, Santa Catarina\, 88020010\, Brasil
CATEGORIES:Reunião de núcleo
ATTACH;FMTTYPE=image/png:https://acif.org.br/wp-content/uploads/2023/09/ACIF-NUCLEO-COWORKING-AZUL-4-1.png
END:VEVENT
BEGIN:VEVENT
DTSTART;TZID=America/Sao_Paulo:20260429T140000
DTEND;TZID=America/Sao_Paulo:20260429T153000
DTSTAMP:20260423T173626
CREATED:20250409T173524Z
LAST-MODIFIED:20260422T212436Z
UID:10001778-1777471200-1777476600@acif.org.br
SUMMARY:Reunião Ordinária Hotéis do Norte da Ilha
DESCRIPTION:Reunião será realizada no HUB Ingleses às 14h. \nCaso tenha interesse em participar!\nEntre em contato com: \nAnne Caroline – Consultora de Núcleos  \nTel.: 48 8864-1801 \nanne.rios@acif.org.br
URL:https://acif.org.br/evento/reuniao-ordinaria-hoteis-do-norte-da-ilha/2026-04-29/
LOCATION:Ingleses
CATEGORIES:Reunião de núcleo
ATTACH;FMTTYPE=image/png:https://acif.org.br/wp-content/uploads/2023/09/ACIF-NUCLEO-HOTEIS-DO-NORTE-DA-ILHA-AZUL-5.png
END:VEVENT
BEGIN:VEVENT
DTSTART;TZID=America/Sao_Paulo:20260429T150000
DTEND;TZID=America/Sao_Paulo:20260429T163000
DTSTAMP:20260423T173626
CREATED:20250217T195142Z
LAST-MODIFIED:20260422T183317Z
UID:10001718-1777474800-1777480200@acif.org.br
SUMMARY:Reunião Ordinária  Núcleo Gastronômico da Lagoa da Conceição
DESCRIPTION:Reunião será realizada na Regional Lagoa às 15h. \nCaso tenha interesse em participar! \nEntre em contato com: \nAndré Carvalho – Consultor de Núcleos  \nTel.: 48 9134-8587 \nandre.carvalho@acif.org.br
URL:https://acif.org.br/evento/reuniao-ordinaria-nucleo-gastronomico-da-lagoa-da-conceicao/2026-04-29/
CATEGORIES:Reunião de núcleo
END:VEVENT
BEGIN:VEVENT
DTSTART;TZID=America/Sao_Paulo:20260429T153000
DTEND;TZID=America/Sao_Paulo:20260429T170000
DTSTAMP:20260423T173626
CREATED:20250409T172158Z
LAST-MODIFIED:20260422T212930Z
UID:10001757-1777476600-1777482000@acif.org.br
SUMMARY:Reunião Ordinária Hotéis da Região Central
DESCRIPTION:Reuniões presenciais serão realizadas na ACIF Matriz às 15:30h. \nCaso tenha interesse em participar! \nEntre em contato com: \nAnne Caroline – Consultora de Núcleos  \nTel.: 48 8864-1801 \nanne.rios@acif.org.br
URL:https://acif.org.br/evento/reuniao-ordinaria-hoteis-da-regiao-central/2026-04-29/
LOCATION:ACIF Matriz\, Rua Emilio Blum\, 121\, Florianópolis\, Santa Catarina\, 88020010\, Brasil
CATEGORIES:Reunião de núcleo
ATTACH;FMTTYPE=image/png:https://acif.org.br/wp-content/uploads/2023/09/ACIF-NUCLEO-HOTEIS-DA-REGIAO-CENTRAL-AZUL-LARANJA.png
END:VEVENT
BEGIN:VEVENT
DTSTART;TZID=America/Sao_Paulo:20260429T190000
DTEND;TZID=America/Sao_Paulo:20260429T203000
DTSTAMP:20260423T173626
CREATED:20260316T191809Z
LAST-MODIFIED:20260422T214938Z
UID:10002018-1777489200-1777494600@acif.org.br
SUMMARY:Reunião Ordinária do Núcleo de Advocacia
DESCRIPTION:Reunião será realizada ás 19h na ACIF Matriz. \nCaso tenha interesse em participar!  \nEntre em contato com: \nCibele Quintino – Consultora de Núcleos  \nTel.: 48 9102-9404 \ncibele.quintino@acif.org.br
URL:https://acif.org.br/evento/reuniao-ordinaria-do-nucleo-de-advocacia-2/2026-04-29/
LOCATION:ACIF Matriz\, Rua Emilio Blum\, 121\, Florianópolis\, Santa Catarina\, 88020010\, Brasil
CATEGORIES:Reunião de núcleo
END:VEVENT
BEGIN:VEVENT
DTSTART;TZID=America/Sao_Paulo:20260430T090000
DTEND;TZID=America/Sao_Paulo:20260430T090000
DTSTAMP:20260423T173626
CREATED:20260423T185223Z
LAST-MODIFIED:20260423T185223Z
UID:10002165-1777539600-1777539600@acif.org.br
SUMMARY:Reunião Ordinária de Educação
DESCRIPTION:Reunião será realizada de forma online ás 09h. \nLink para participar: meet.google.com/bjk-qyyp-dof \nCaso tenha interesse em participar! \nEntre em contato com: \nCibele Quintino – Consultora de Núcleos \nTel.: 48 9102-9404 \ncibele.quintino@acif.org.br
URL:https://acif.org.br/evento/reuniao-ordinaria-de-educacao-3/2026-04-30/
CATEGORIES:Reunião de núcleo
END:VEVENT
BEGIN:VEVENT
DTSTART;TZID=America/Sao_Paulo:20260430T190000
DTEND;TZID=America/Sao_Paulo:20260430T203000
DTSTAMP:20260423T173626
CREATED:20250409T181650Z
LAST-MODIFIED:20260113T154322Z
UID:10001821-1777575600-1777581000@acif.org.br
SUMMARY:Reunião Ordinária Marketing
DESCRIPTION:Reunião será realizada na Sala da CMAA (ACIF Matriz) às 19h. \nCaso tenha interesse em participar\, entre em contato com \nHugo Goulart – Consultor de Núcleos \nTel.: 48 9134-8587
URL:https://acif.org.br/evento/reuniao-ordinaria-marketing/2026-04-30/
LOCATION:ACIF Matriz\, Rua Emilio Blum\, 121\, Florianópolis\, Santa Catarina\, 88020010\, Brasil
CATEGORIES:Reunião de núcleo
ATTACH;FMTTYPE=image/png:https://acif.org.br/wp-content/uploads/2023/09/MARKETING-AZUL.png
END:VEVENT
BEGIN:VEVENT
DTSTART;TZID=America/Sao_Paulo:20260430T190000
DTEND;TZID=America/Sao_Paulo:20260430T203000
DTSTAMP:20260423T173626
CREATED:20260422T193219Z
LAST-MODIFIED:20260422T193503Z
UID:10002109-1777575600-1777581000@acif.org.br
SUMMARY:Reunião Ordinária Núcleo ACIF Mulher
DESCRIPTION:Reunião será realizada na ACIF Matriz às 19h.  \nCaso tenha interesse em participar!  \nEntre em contato com:  \nAnne Caroline – Consultora de Núcleos  \nTel.: 48 8864-1801 \nanne.rios@acif.org.br
URL:https://acif.org.br/evento/reuniao-ordinaria-nucleo-acif-mulher/2026-04-30/
LOCATION:ACIF Matriz\, Rua Emilio Blum\, 121\, Florianópolis\, Santa Catarina\, 88020010\, Brasil
CATEGORIES:Reunião de núcleo
END:VEVENT
BEGIN:VEVENT
DTSTART;TZID=America/Sao_Paulo:20260430T200000
DTEND;TZID=America/Sao_Paulo:20260430T220000
DTSTAMP:20260423T173626
CREATED:20250217T204441Z
LAST-MODIFIED:20260422T184457Z
UID:10001960-1777579200-1777586400@acif.org.br
SUMMARY:Reunião Ordinária Núcleo  Setorial de Reparação Automotiva
DESCRIPTION:Reunião será realizada ás 20h nas oficinas. \nCaso tenha interesse em participar! \nEntre em contato com: \nAndré Carvalho – Consultor de Núcleos  \nTel.: 48 9134-8587  \nandre.carvalho@acif.org.br
URL:https://acif.org.br/evento/reuniao-ordinaria-nucleo-setorial-de-reparacao-automotiva/2026-04-30/
CATEGORIES:Reunião de núcleo
END:VEVENT
BEGIN:VEVENT
DTSTART;TZID=America/Sao_Paulo:20260501T090000
DTEND;TZID=America/Sao_Paulo:20260501T103000
DTSTAMP:20260423T173626
CREATED:20250213T194532Z
LAST-MODIFIED:20260422T215455Z
UID:10001608-1777626000-1777631400@acif.org.br
SUMMARY:Reunião Ordinária Corretoras de Seguro
DESCRIPTION:Reunião será realizada na Instituição Facisc às 09h. \nCaso tenha interesse em participar\, entre em contato com \nCibele Quintino – Consultora de Núcleos  \nTel.: 48 9102-9404 \ncibele.quintino@acif.org.br
URL:https://acif.org.br/evento/reuniao-ordinaria-corretoras-de-seguro/2026-05-01/
LOCATION:ACIF Matriz\, Rua Emilio Blum\, 121\, Florianópolis\, Santa Catarina\, 88020010\, Brasil
CATEGORIES:Reunião de núcleo
END:VEVENT
BEGIN:VEVENT
DTSTART;TZID=America/Sao_Paulo:20260504T180000
DTEND;TZID=America/Sao_Paulo:20260504T193000
DTSTAMP:20260423T173626
CREATED:20260422T214632Z
LAST-MODIFIED:20260422T214632Z
UID:10002149-1777917600-1777923000@acif.org.br
SUMMARY:Reunião Ordinária Núcleo de Guias de Turismo
DESCRIPTION:Reunião será realizada na ACIF Matriz às 18h.  \nCaso tenha interesse em participar! \n Entre em contato com:  \nCibele Quintino – Consultora de Núcleos  \nTel.: 48 9102-9404 \ncibele.quintino@acif.org.br
URL:https://acif.org.br/evento/reuniao-ordinaria-nucleo-de-guias-de-turismo/2026-05-04/
LOCATION:ACIF Matriz\, Rua Emilio Blum\, 121\, Florianópolis\, Santa Catarina\, 88020010\, Brasil
CATEGORIES:Reunião de núcleo
END:VEVENT
BEGIN:VEVENT
DTSTART;TZID=America/Sao_Paulo:20260505T093000
DTEND;TZID=America/Sao_Paulo:20260505T110000
DTSTAMP:20260423T173626
CREATED:20260310T182853Z
LAST-MODIFIED:20260310T182907Z
UID:10001676-1777973400-1777978800@acif.org.br
SUMMARY:Reunião Ordinária Núcleo Gastronômico da Costa da Lagoa
DESCRIPTION:Reunião será realizada no Restaurante Lagoa Bonita às 09:30h. \nCaso tenha interesse em participar\, \nEntre em contato com: \nAndré Carvalho – Consultor de Núcleos \nTel.: 48 9134-8587
URL:https://acif.org.br/evento/reuniao-ordinaria-nucleo-gastronomico-da-costa-da-lagoa-6/
LOCATION:ACIF Matriz\, Rua Emilio Blum\, 121\, Florianópolis\, Santa Catarina\, 88020010\, Brasil
CATEGORIES:Reunião de núcleo
ATTACH;FMTTYPE=image/png:https://acif.org.br/wp-content/uploads/2023/09/7679_19_M_Submarcas_Nucleos_Setorial-de-Gastronomia-da-Costa-da-Lagoa-positivo.png
END:VEVENT
BEGIN:VEVENT
DTSTART;TZID=America/Sao_Paulo:20260506T190000
DTEND;TZID=America/Sao_Paulo:20260506T203000
DTSTAMP:20260423T173626
CREATED:20260114T192719Z
LAST-MODIFIED:20260114T193126Z
UID:10001891-1778094000-1778099400@acif.org.br
SUMMARY:Reunião Ordinária NEES
DESCRIPTION:Reunião será realizada na ACIF Matriz às 19h. \nCaso tenha interesse em participar\, \nEntre em contato com: \nJoão Moraes – Consultor de Núcleos \nTel.: 48 8816-9993
URL:https://acif.org.br/evento/reuniao-ordinaria-nees/2026-05-06/
LOCATION:ACIF Matriz\, Rua Emilio Blum\, 121\, Florianópolis\, Santa Catarina\, 88020010\, Brasil
CATEGORIES:Reunião de núcleo
END:VEVENT
BEGIN:VEVENT
DTSTART;TZID=America/Sao_Paulo:20260506T190000
DTEND;TZID=America/Sao_Paulo:20260506T203000
DTSTAMP:20260423T173626
CREATED:20260316T191809Z
LAST-MODIFIED:20260422T214938Z
UID:10002019-1778094000-1778099400@acif.org.br
SUMMARY:Reunião Ordinária do Núcleo de Advocacia
DESCRIPTION:Reunião será realizada ás 19h na ACIF Matriz. \nCaso tenha interesse em participar!  \nEntre em contato com: \nCibele Quintino – Consultora de Núcleos  \nTel.: 48 9102-9404 \ncibele.quintino@acif.org.br
URL:https://acif.org.br/evento/reuniao-ordinaria-do-nucleo-de-advocacia-2/2026-05-06/
LOCATION:ACIF Matriz\, Rua Emilio Blum\, 121\, Florianópolis\, Santa Catarina\, 88020010\, Brasil
CATEGORIES:Reunião de núcleo
END:VEVENT
BEGIN:VEVENT
DTSTART;TZID=America/Sao_Paulo:20260506T193000
DTEND;TZID=America/Sao_Paulo:20260506T210000
DTSTAMP:20260423T173626
CREATED:20260114T190601Z
LAST-MODIFIED:20260422T190201Z
UID:10001869-1778095800-1778101200@acif.org.br
SUMMARY:Reunião Ordinária Mercado Imobiliário
DESCRIPTION:Reunião será realizada na ACIF Matriz às 19:00.  \nCaso tenha interesse em participar!  \nEntre em contato com:  \nMariana Aguiar – Consultora de Núcleos \nTel.: 48 9 9988-0462 \nmariana.aguiar@acif.org.br
URL:https://acif.org.br/evento/reuniao-ordinaria-mercado-imobiliario/2026-05-06/
LOCATION:ACIF Matriz\, Rua Emilio Blum\, 121\, Florianópolis\, Santa Catarina\, 88020010\, Brasil
CATEGORIES:Reunião de núcleo
END:VEVENT
BEGIN:VEVENT
DTSTART;TZID=America/Sao_Paulo:20260507T160000
DTEND;TZID=America/Sao_Paulo:20260507T173000
DTSTAMP:20260423T173626
CREATED:20250217T175953Z
LAST-MODIFIED:20260422T185544Z
UID:10001575-1778169600-1778175000@acif.org.br
SUMMARY:Reunião Ordinária de Cooperativas
DESCRIPTION:Reunião será realizada na ACIF Matriz às 16h. \nCaso tenha interesse em participar\, \nEntre em contato com: \nMariana Aguiar – Consultora de Núcleos \nTel.: 48 9 9988-0462 \nmariana.aguiar@acif.org.br
URL:https://acif.org.br/evento/reuniao-ordinaria-de-cooperativas/2026-05-07/
CATEGORIES:Reunião de núcleo
END:VEVENT
BEGIN:VEVENT
DTSTART;TZID=America/Sao_Paulo:20260507T183000
DTEND;TZID=America/Sao_Paulo:20260507T200000
DTSTAMP:20260423T173626
CREATED:20260114T204522Z
LAST-MODIFIED:20260422T215246Z
UID:10001943-1778178600-1778184000@acif.org.br
SUMMARY:Reunião Ordinária Psicologia
DESCRIPTION:Reunião será realizada na ACIF Matriz às 19h.  \nCaso tenha interesse em participar!  \nEntre em contato com:  \nCibele Quintino – Consultora de Núcleos  \nTel.: 48 9102-9404 \ncibele.quintino@acif.org.br
URL:https://acif.org.br/evento/reuniao-ordinaria-psicologia/2026-05-07/
LOCATION:ACIF Matriz\, Rua Emilio Blum\, 121\, Florianópolis\, Santa Catarina\, 88020010\, Brasil
CATEGORIES:Reunião de núcleo
END:VEVENT
BEGIN:VEVENT
DTSTART;TZID=America/Sao_Paulo:20260507T183000
DTEND;TZID=America/Sao_Paulo:20260507T200000
DTSTAMP:20260423T173626
CREATED:20260422T182309Z
LAST-MODIFIED:20260422T191906Z
UID:10002092-1778178600-1778184000@acif.org.br
SUMMARY:Reunião Ordinária Núcleo de Soluções Empresariais (NUSE)
DESCRIPTION:Reunião será realizada na ACIF Matriz às 18h30. \nCaso tenha interesse em participar! \nEntre em contato com: \nMariana Aguiar – Consultora de Núcleos \nTel.:48 9988-0462 \nmariana.aguiar@acif.org.br
URL:https://acif.org.br/evento/reuniao-ordinaria-nucleo-de-solucoes-empresariais-nuse-2/2026-05-07/
LOCATION:ACIF Matriz\, Rua Emilio Blum\, 121\, Florianópolis\, Santa Catarina\, 88020010\, Brasil
CATEGORIES:Reunião de núcleo
END:VEVENT
BEGIN:VEVENT
DTSTART;TZID=America/Sao_Paulo:20260508T103000
DTEND;TZID=America/Sao_Paulo:20260508T120000
DTSTAMP:20260423T173626
CREATED:20260422T195248Z
LAST-MODIFIED:20260422T195248Z
UID:10002126-1778236200-1778241600@acif.org.br
SUMMARY:Reunião Ordinária Núcleo de Inovação
DESCRIPTION:Reunião será realizada na ACIF Matriz às 10h30. \nCaso tenha interesse em participar!  \nEntre em contato com:  \nAnne Caroline – Consultora de Núcleos  \nTel.: 48 8864-1801 \nanne.rios@acif.org.br
URL:https://acif.org.br/evento/reuniao-ordinaria-nucleo-de-inovacao/2026-05-08/
LOCATION:ACIF Matriz\, Rua Emilio Blum\, 121\, Florianópolis\, Santa Catarina\, 88020010\, Brasil
CATEGORIES:Reunião de núcleo
END:VEVENT
END:VCALENDAR