BEGIN:VCALENDAR
VERSION:2.0
PRODID:-//ACIF - ECPv6.14.0//NONSGML v1.0//EN
CALSCALE:GREGORIAN
METHOD:PUBLISH
X-WR-CALNAME:ACIF
X-ORIGINAL-URL:https://acif.org.br
X-WR-CALDESC:Eventos para ACIF
REFRESH-INTERVAL;VALUE=DURATION:PT1H
X-Robots-Tag:noindex
X-PUBLISHED-TTL:PT1H
BEGIN:VTIMEZONE
TZID:America/Sao_Paulo
BEGIN:STANDARD
TZOFFSETFROM:-0300
TZOFFSETTO:-0300
TZNAME:-03
DTSTART:20260101T000000
END:STANDARD
END:VTIMEZONE
BEGIN:VEVENT
DTSTART;TZID=America/Sao_Paulo:20260401T140000
DTEND;TZID=America/Sao_Paulo:20260401T153000
DTSTAMP:20260423T051005
CREATED:20250409T173524Z
LAST-MODIFIED:20260422T212436Z
UID:10001776-1775052000-1775057400@acif.org.br
SUMMARY:Reunião Ordinária Hotéis do Norte da Ilha
DESCRIPTION:Reunião será realizada no HUB Ingleses às 14h. \nCaso tenha interesse em participar!\nEntre em contato com: \nAnne Caroline – Consultora de Núcleos  \nTel.: 48 8864-1801 \nanne.rios@acif.org.br
URL:https://acif.org.br/evento/reuniao-ordinaria-hoteis-do-norte-da-ilha/2026-04-01/
LOCATION:Ingleses
CATEGORIES:Reunião de núcleo
ATTACH;FMTTYPE=image/png:https://acif.org.br/wp-content/uploads/2023/09/ACIF-NUCLEO-HOTEIS-DO-NORTE-DA-ILHA-AZUL-5.png
END:VEVENT
BEGIN:VEVENT
DTSTART;TZID=America/Sao_Paulo:20260401T150000
DTEND;TZID=America/Sao_Paulo:20260401T163000
DTSTAMP:20260423T051005
CREATED:20250217T195142Z
LAST-MODIFIED:20260422T183317Z
UID:10001716-1775055600-1775061000@acif.org.br
SUMMARY:Reunião Ordinária  Núcleo Gastronômico da Lagoa da Conceição
DESCRIPTION:Reunião será realizada na Regional Lagoa às 15h. \nCaso tenha interesse em participar! \nEntre em contato com: \nAndré Carvalho – Consultor de Núcleos  \nTel.: 48 9134-8587 \nandre.carvalho@acif.org.br
URL:https://acif.org.br/evento/reuniao-ordinaria-nucleo-gastronomico-da-lagoa-da-conceicao/2026-04-01/
LOCATION:Santa Catarina
CATEGORIES:Reunião de núcleo
END:VEVENT
BEGIN:VEVENT
DTSTART;TZID=America/Sao_Paulo:20260401T153000
DTEND;TZID=America/Sao_Paulo:20260401T170000
DTSTAMP:20260423T051005
CREATED:20250409T172158Z
LAST-MODIFIED:20260422T212930Z
UID:10001755-1775057400-1775062800@acif.org.br
SUMMARY:Reunião Ordinária Hotéis da Região Central
DESCRIPTION:Reuniões presenciais serão realizadas na ACIF Matriz às 15:30h. \nCaso tenha interesse em participar! \nEntre em contato com: \nAnne Caroline – Consultora de Núcleos  \nTel.: 48 8864-1801 \nanne.rios@acif.org.br
URL:https://acif.org.br/evento/reuniao-ordinaria-hoteis-da-regiao-central/2026-04-01/
LOCATION:ACIF Matriz\, Rua Emilio Blum\, 121\, Florianópolis\, Santa Catarina\, 88020010\, Brasil
CATEGORIES:Reunião de núcleo
ATTACH;FMTTYPE=image/png:https://acif.org.br/wp-content/uploads/2023/09/ACIF-NUCLEO-HOTEIS-DA-REGIAO-CENTRAL-AZUL-LARANJA.png
END:VEVENT
BEGIN:VEVENT
DTSTART;TZID=America/Sao_Paulo:20260401T190000
DTEND;TZID=America/Sao_Paulo:20260401T203000
DTSTAMP:20260423T051005
CREATED:20260114T192719Z
LAST-MODIFIED:20260114T193126Z
UID:10001888-1775070000-1775075400@acif.org.br
SUMMARY:Reunião Ordinária NEES
DESCRIPTION:Reunião será realizada na ACIF Matriz às 19h. \nCaso tenha interesse em participar\, \nEntre em contato com: \nJoão Moraes – Consultor de Núcleos \nTel.: 48 8816-9993
URL:https://acif.org.br/evento/reuniao-ordinaria-nees/2026-04-01/
LOCATION:ACIF Matriz\, Rua Emilio Blum\, 121\, Florianópolis\, Santa Catarina\, 88020010\, Brasil
CATEGORIES:Reunião de núcleo
END:VEVENT
BEGIN:VEVENT
DTSTART;TZID=America/Sao_Paulo:20260402T090000
DTEND;TZID=America/Sao_Paulo:20260402T103000
DTSTAMP:20260423T051005
CREATED:20250217T181733Z
LAST-MODIFIED:20260113T140024Z
UID:10001693-1775120400-1775125800@acif.org.br
SUMMARY:Reunião Ordinária de Educação
DESCRIPTION:Reuniões Presenciais serão realizadas na Sala Multiuso (ACIF Matriz) ás 09h. \nReuniões On-line por via do link: https://meet.google.com/yne-scar-qfv \nCaso tenha interesse em participar! \nEntre em conta com: \nJoão Moraes – Consultor de Núcleos \nTel.: 48 8816-9993
URL:https://acif.org.br/evento/reuniao-ordinaria-de-educacao/2026-04-02/
LOCATION:Santa Catarina
CATEGORIES:Reunião de núcleo
END:VEVENT
BEGIN:VEVENT
DTSTART;TZID=America/Sao_Paulo:20260402T190000
DTEND;TZID=America/Sao_Paulo:20260402T203000
DTSTAMP:20260423T051005
CREATED:20250409T181650Z
LAST-MODIFIED:20260113T154322Z
UID:10001819-1775156400-1775161800@acif.org.br
SUMMARY:Reunião Ordinária Marketing
DESCRIPTION:Reunião será realizada na Sala da CMAA (ACIF Matriz) às 19h. \nCaso tenha interesse em participar\, entre em contato com \nHugo Goulart – Consultor de Núcleos \nTel.: 48 9134-8587
URL:https://acif.org.br/evento/reuniao-ordinaria-marketing/2026-04-02/
LOCATION:ACIF Matriz\, Rua Emilio Blum\, 121\, Florianópolis\, Santa Catarina\, 88020010\, Brasil
CATEGORIES:Reunião de núcleo
ATTACH;FMTTYPE=image/png:https://acif.org.br/wp-content/uploads/2023/09/MARKETING-AZUL.png
END:VEVENT
BEGIN:VEVENT
DTSTART;TZID=America/Sao_Paulo:20260403T090000
DTEND;TZID=America/Sao_Paulo:20260403T103000
DTSTAMP:20260423T051005
CREATED:20250213T194532Z
LAST-MODIFIED:20260422T215455Z
UID:10001606-1775206800-1775212200@acif.org.br
SUMMARY:Reunião Ordinária Corretoras de Seguro
DESCRIPTION:Reunião será realizada na Instituição Facisc às 09h. \nCaso tenha interesse em participar\, entre em contato com \nCibele Quintino – Consultora de Núcleos  \nTel.: 48 9102-9404 \ncibele.quintino@acif.org.br
URL:https://acif.org.br/evento/reuniao-ordinaria-corretoras-de-seguro/2026-04-03/
LOCATION:ACIF Matriz\, Rua Emilio Blum\, 121\, Florianópolis\, Santa Catarina\, 88020010\, Brasil
CATEGORIES:Reunião de núcleo
END:VEVENT
BEGIN:VEVENT
DTSTART;TZID=America/Sao_Paulo:20260407T090000
DTEND;TZID=America/Sao_Paulo:20260407T103000
DTSTAMP:20260423T051005
CREATED:20260114T194256Z
LAST-MODIFIED:20260114T194256Z
UID:10001896-1775552400-1775557800@acif.org.br
SUMMARY:Reunião Ordinária Eventos Organizados
DESCRIPTION:Reunião será realizada na ACIF Matriz às 09h.  \nCaso tenha interesse em participar!  \nEntre em contato com:  \nMaísa Gomes – Consultora de Núcleos  \nTel.: (48) 3084-9400
URL:https://acif.org.br/evento/reuniao-ordinaria-eventos-organizados/2026-04-07/
LOCATION:ACIF Matriz\, Rua Emilio Blum\, 121\, Florianópolis\, Santa Catarina\, 88020010\, Brasil
CATEGORIES:Reunião de núcleo
END:VEVENT
BEGIN:VEVENT
DTSTART;TZID=America/Sao_Paulo:20260407T093000
DTEND;TZID=America/Sao_Paulo:20260407T110000
DTSTAMP:20260423T051005
CREATED:20260310T182559Z
LAST-MODIFIED:20260310T182617Z
UID:10001674-1775554200-1775559600@acif.org.br
SUMMARY:Reunião Ordinária Núcleo Gastronômico da Costa da Lagoa
DESCRIPTION:Reunião será realizada no Restaurante Sabor da Costa às 09:30h. \nCaso tenha interesse em participar\, \nEntre em contato com: \nAndré Carvalho – Consultor de Núcleos \nTel.: 48 8816-9993
URL:https://acif.org.br/evento/reuniao-ordinaria-nucleo-gastronomico-da-costa-da-lagoa-4/
LOCATION:ACIF Matriz\, Rua Emilio Blum\, 121\, Florianópolis\, Santa Catarina\, 88020010\, Brasil
CATEGORIES:Reunião de núcleo
ATTACH;FMTTYPE=image/png:https://acif.org.br/wp-content/uploads/2023/09/7679_19_M_Submarcas_Nucleos_Setorial-de-Gastronomia-da-Costa-da-Lagoa-positivo.png
END:VEVENT
BEGIN:VEVENT
DTSTART;TZID=America/Sao_Paulo:20260408T170000
DTEND;TZID=America/Sao_Paulo:20260408T183000
DTSTAMP:20260423T051005
CREATED:20260318T124416Z
LAST-MODIFIED:20260318T124417Z
UID:10002038-1775667600-1775673000@acif.org.br
SUMMARY:Reunião Ordinária Núcleo Coworking
DESCRIPTION:Reuniões presenciais serão realizadas na ACIF Matriz às 17h. \nLink para as reuniões on-line: https://meet.google.com/fby-tvvu-ozn \nEntre em contato com o consultor André (48 9 9134-8587) caso tenha interesse em participar!
URL:https://acif.org.br/evento/reuniao-ordinaria-nucleo-coworking-2/2026-04-08/
LOCATION:Santa Catarina
END:VEVENT
BEGIN:VEVENT
DTSTART;TZID=America/Sao_Paulo:20260408T190000
DTEND;TZID=America/Sao_Paulo:20260408T203000
DTSTAMP:20260423T051005
CREATED:20260316T191809Z
LAST-MODIFIED:20260422T214938Z
UID:10002016-1775674800-1775680200@acif.org.br
SUMMARY:Reunião Ordinária do Núcleo de Advocacia
DESCRIPTION:Reunião será realizada ás 19h na ACIF Matriz. \nCaso tenha interesse em participar!  \nEntre em contato com: \nCibele Quintino – Consultora de Núcleos  \nTel.: 48 9102-9404 \ncibele.quintino@acif.org.br
URL:https://acif.org.br/evento/reuniao-ordinaria-do-nucleo-de-advocacia-2/2026-04-08/
LOCATION:ACIF Matriz\, Rua Emilio Blum\, 121\, Florianópolis\, Santa Catarina\, 88020010\, Brasil
CATEGORIES:Reunião de núcleo
END:VEVENT
BEGIN:VEVENT
DTSTART;TZID=America/Sao_Paulo:20260408T190000
DTEND;TZID=America/Sao_Paulo:20260408T213000
DTSTAMP:20260423T051005
CREATED:20260206T141443Z
LAST-MODIFIED:20260409T171140Z
UID:10001996-1775674800-1775683800@acif.org.br
SUMMARY:Encontro de Negócios - 6ª EDIÇÃO 2026
DESCRIPTION:Data: 15/04\nHorário: 19h\nLocal: PRAÇA DE ALIMENTAÇÃO HANTEI \nObjetivo: Fomentar o relacionamento entre os empresários da Região. \nProgramação: \n19h – Credenciamento\n19h30 – Abertura + PITCH DE NEGÓCIOS\n21h – Coquetel \nInscrições: Associados R$ 30\,00 | Não associados R$ 60\,00 \nLink da inscrição: https://acif.tcsdigital.com.br/digital/inscricoes/evento3.aspx?evento=167&idativa=1
URL:https://acif.org.br/evento/encontro-de-negocios-2a-edicao-2026-6/
LOCATION:Santa Catarina
CATEGORIES:Encontro de networking
ATTACH;FMTTYPE=image/jpeg:https://acif.org.br/wp-content/uploads/2025/02/Encontro-de-Negocios.jpg
END:VEVENT
BEGIN:VEVENT
DTSTART;TZID=America/Sao_Paulo:20260408T193000
DTEND;TZID=America/Sao_Paulo:20260408T210000
DTSTAMP:20260423T051005
CREATED:20260114T190601Z
LAST-MODIFIED:20260422T190201Z
UID:10001867-1775676600-1775682000@acif.org.br
SUMMARY:Reunião Ordinária Mercado Imobiliário
DESCRIPTION:Reunião será realizada na ACIF Matriz às 19:00.  \nCaso tenha interesse em participar!  \nEntre em contato com:  \nMariana Aguiar – Consultora de Núcleos \nTel.: 48 9 9988-0462 \nmariana.aguiar@acif.org.br
URL:https://acif.org.br/evento/reuniao-ordinaria-mercado-imobiliario/2026-04-08/
LOCATION:ACIF Matriz\, Rua Emilio Blum\, 121\, Florianópolis\, Santa Catarina\, 88020010\, Brasil
CATEGORIES:Reunião de núcleo
END:VEVENT
BEGIN:VEVENT
DTSTART;TZID=America/Sao_Paulo:20260409T183000
DTEND;TZID=America/Sao_Paulo:20260409T200000
DTSTAMP:20260423T051005
CREATED:20260114T204522Z
LAST-MODIFIED:20260422T215246Z
UID:10001941-1775759400-1775764800@acif.org.br
SUMMARY:Reunião Ordinária Psicologia
DESCRIPTION:Reunião será realizada na ACIF Matriz às 19h.  \nCaso tenha interesse em participar!  \nEntre em contato com:  \nCibele Quintino – Consultora de Núcleos  \nTel.: 48 9102-9404 \ncibele.quintino@acif.org.br
URL:https://acif.org.br/evento/reuniao-ordinaria-psicologia/2026-04-09/
LOCATION:ACIF Matriz\, Rua Emilio Blum\, 121\, Florianópolis\, Santa Catarina\, 88020010\, Brasil
CATEGORIES:Reunião de núcleo
END:VEVENT
BEGIN:VEVENT
DTSTART;TZID=America/Sao_Paulo:20260413T180000
DTEND;TZID=America/Sao_Paulo:20260413T193000
DTSTAMP:20260423T051005
CREATED:20240201T194935Z
LAST-MODIFIED:20260422T194447Z
UID:10001555-1776103200-1776108600@acif.org.br
SUMMARY:Reunião Ordinária Núcleo de Contadores
DESCRIPTION:Reunião presencial será realizada na ACIF Matriz às 18h. \nLink para participar online: meet.google.com/nux-vqzq-byz \nCaso tenha interesse em participar!  \nEntre em contato com:  \nAnne Caroline – Consultora de Núcleos  \nTel.: 48 8864-1801 \nanne.rios@acif.org.br
URL:https://acif.org.br/evento/reuniao-nucleo-de-contadores/2026-04-13/
LOCATION:Santa Catarina
CATEGORIES:Reunião de núcleo
END:VEVENT
BEGIN:VEVENT
DTSTART;TZID=America/Sao_Paulo:20260413T190000
DTEND;TZID=America/Sao_Paulo:20260413T203000
DTSTAMP:20260423T051005
CREATED:20260115T142802Z
LAST-MODIFIED:20260422T192353Z
UID:10001972-1776106800-1776112200@acif.org.br
SUMMARY:Reunião Ordinária Saúde & Bem-Estar
DESCRIPTION:Reunião será realizada no HUB Ingleses às 19h. \nCaso tenha interesse em participar! \nEntre em contato: \nMariana Aguiar – Consultora de Núcleos  \nTel.:48 9988-0462  \nmariana.aguiar@acif.org.br
URL:https://acif.org.br/evento/reuniao-ordinaria-saude-bem-estar/2026-04-13/
LOCATION:ACIF Matriz\, Rua Emilio Blum\, 121\, Florianópolis\, Santa Catarina\, 88020010\, Brasil
CATEGORIES:Reunião de núcleo
END:VEVENT
BEGIN:VEVENT
DTSTART;TZID=America/Sao_Paulo:20260413T190000
DTEND;TZID=America/Sao_Paulo:20260413T213000
DTSTAMP:20260423T051005
CREATED:20250221T180028Z
LAST-MODIFIED:20260113T133054Z
UID:10001654-1776106800-1776115800@acif.org.br
SUMMARY:Reunião Ordinária do Núcleo de Condomínios e Prestadores de Serviços
DESCRIPTION:Reunião será realizada na Sala da Presidência (ACIF Matriz) às 19h. \nCaso tenha interesse em participar!\nEntre em contato com: \nJoão Moraes – Consultor de Núcleos \nTel.:48 8816-9993 
URL:https://acif.org.br/evento/reuniao-ordinaria-do-nucleo-de-condominios-e-prestadores-de-servicos/2026-04-13/
LOCATION:Santa Catarina
CATEGORIES:Reunião de núcleo
END:VEVENT
BEGIN:VEVENT
DTSTART;TZID=America/Sao_Paulo:20260415T140000
DTEND;TZID=America/Sao_Paulo:20260415T153000
DTSTAMP:20260423T051005
CREATED:20250409T173524Z
LAST-MODIFIED:20260422T212436Z
UID:10001777-1776261600-1776267000@acif.org.br
SUMMARY:Reunião Ordinária Hotéis do Norte da Ilha
DESCRIPTION:Reunião será realizada no HUB Ingleses às 14h. \nCaso tenha interesse em participar!\nEntre em contato com: \nAnne Caroline – Consultora de Núcleos  \nTel.: 48 8864-1801 \nanne.rios@acif.org.br
URL:https://acif.org.br/evento/reuniao-ordinaria-hoteis-do-norte-da-ilha/2026-04-15/
LOCATION:Ingleses
CATEGORIES:Reunião de núcleo
ATTACH;FMTTYPE=image/png:https://acif.org.br/wp-content/uploads/2023/09/ACIF-NUCLEO-HOTEIS-DO-NORTE-DA-ILHA-AZUL-5.png
END:VEVENT
BEGIN:VEVENT
DTSTART;TZID=America/Sao_Paulo:20260415T150000
DTEND;TZID=America/Sao_Paulo:20260415T163000
DTSTAMP:20260423T051005
CREATED:20250217T195142Z
LAST-MODIFIED:20260422T183317Z
UID:10001717-1776265200-1776270600@acif.org.br
SUMMARY:Reunião Ordinária  Núcleo Gastronômico da Lagoa da Conceição
DESCRIPTION:Reunião será realizada na Regional Lagoa às 15h. \nCaso tenha interesse em participar! \nEntre em contato com: \nAndré Carvalho – Consultor de Núcleos  \nTel.: 48 9134-8587 \nandre.carvalho@acif.org.br
URL:https://acif.org.br/evento/reuniao-ordinaria-nucleo-gastronomico-da-lagoa-da-conceicao/2026-04-15/
LOCATION:Santa Catarina
CATEGORIES:Reunião de núcleo
END:VEVENT
BEGIN:VEVENT
DTSTART;TZID=America/Sao_Paulo:20260415T190000
DTEND;TZID=America/Sao_Paulo:20260415T203000
DTSTAMP:20260423T051005
CREATED:20260114T192719Z
LAST-MODIFIED:20260114T193126Z
UID:10001889-1776279600-1776285000@acif.org.br
SUMMARY:Reunião Ordinária NEES
DESCRIPTION:Reunião será realizada na ACIF Matriz às 19h. \nCaso tenha interesse em participar\, \nEntre em contato com: \nJoão Moraes – Consultor de Núcleos \nTel.: 48 8816-9993
URL:https://acif.org.br/evento/reuniao-ordinaria-nees/2026-04-15/
LOCATION:ACIF Matriz\, Rua Emilio Blum\, 121\, Florianópolis\, Santa Catarina\, 88020010\, Brasil
CATEGORIES:Reunião de núcleo
END:VEVENT
BEGIN:VEVENT
DTSTART;TZID=America/Sao_Paulo:20260416T090000
DTEND;TZID=America/Sao_Paulo:20260416T103000
DTSTAMP:20260423T051005
CREATED:20250217T181733Z
LAST-MODIFIED:20260113T140024Z
UID:10001694-1776330000-1776335400@acif.org.br
SUMMARY:Reunião Ordinária de Educação
DESCRIPTION:Reuniões Presenciais serão realizadas na Sala Multiuso (ACIF Matriz) ás 09h. \nReuniões On-line por via do link: https://meet.google.com/yne-scar-qfv \nCaso tenha interesse em participar! \nEntre em conta com: \nJoão Moraes – Consultor de Núcleos \nTel.: 48 8816-9993
URL:https://acif.org.br/evento/reuniao-ordinaria-de-educacao/2026-04-16/
LOCATION:Santa Catarina
CATEGORIES:Reunião de núcleo
END:VEVENT
BEGIN:VEVENT
DTSTART;TZID=America/Sao_Paulo:20260416T190000
DTEND;TZID=America/Sao_Paulo:20260416T203000
DTSTAMP:20260423T051005
CREATED:20250409T181650Z
LAST-MODIFIED:20260113T154322Z
UID:10001820-1776366000-1776371400@acif.org.br
SUMMARY:Reunião Ordinária Marketing
DESCRIPTION:Reunião será realizada na Sala da CMAA (ACIF Matriz) às 19h. \nCaso tenha interesse em participar\, entre em contato com \nHugo Goulart – Consultor de Núcleos \nTel.: 48 9134-8587
URL:https://acif.org.br/evento/reuniao-ordinaria-marketing/2026-04-16/
LOCATION:ACIF Matriz\, Rua Emilio Blum\, 121\, Florianópolis\, Santa Catarina\, 88020010\, Brasil
CATEGORIES:Reunião de núcleo
ATTACH;FMTTYPE=image/png:https://acif.org.br/wp-content/uploads/2023/09/MARKETING-AZUL.png
END:VEVENT
BEGIN:VEVENT
DTSTART;TZID=America/Sao_Paulo:20260417T090000
DTEND;TZID=America/Sao_Paulo:20260417T103000
DTSTAMP:20260423T051005
CREATED:20250213T194532Z
LAST-MODIFIED:20260422T215455Z
UID:10001607-1776416400-1776421800@acif.org.br
SUMMARY:Reunião Ordinária Corretoras de Seguro
DESCRIPTION:Reunião será realizada na Instituição Facisc às 09h. \nCaso tenha interesse em participar\, entre em contato com \nCibele Quintino – Consultora de Núcleos  \nTel.: 48 9102-9404 \ncibele.quintino@acif.org.br
URL:https://acif.org.br/evento/reuniao-ordinaria-corretoras-de-seguro/2026-04-17/
LOCATION:ACIF Matriz\, Rua Emilio Blum\, 121\, Florianópolis\, Santa Catarina\, 88020010\, Brasil
CATEGORIES:Reunião de núcleo
END:VEVENT
BEGIN:VEVENT
DTSTART;TZID=America/Sao_Paulo:20260419T190000
DTEND;TZID=America/Sao_Paulo:20260419T203000
DTSTAMP:20260423T051005
CREATED:20260114T192719Z
LAST-MODIFIED:20260114T193126Z
UID:10001890-1776625200-1776630600@acif.org.br
SUMMARY:Reunião Ordinária NEES
DESCRIPTION:Reunião será realizada na ACIF Matriz às 19h. \nCaso tenha interesse em participar\, \nEntre em contato com: \nJoão Moraes – Consultor de Núcleos \nTel.: 48 8816-9993
URL:https://acif.org.br/evento/reuniao-ordinaria-nees/2026-04-19/
LOCATION:ACIF Matriz\, Rua Emilio Blum\, 121\, Florianópolis\, Santa Catarina\, 88020010\, Brasil
CATEGORIES:Reunião de núcleo
END:VEVENT
BEGIN:VEVENT
DTSTART;TZID=America/Sao_Paulo:20260421T093000
DTEND;TZID=America/Sao_Paulo:20260421T110000
DTSTAMP:20260423T051005
CREATED:20260310T182719Z
LAST-MODIFIED:20260310T182744Z
UID:10001675-1776763800-1776769200@acif.org.br
SUMMARY:Reunião Ordinária Núcleo Gastronômico da Costa da Lagoa
DESCRIPTION:Reunião será realizada no Restaurante Cachoeira às 09:30h. \nCaso tenha interesse em participar\, \nEntre em contato com: \nAndré Carvalho – Consultor de Núcleos \nTel.: 48 9134-8587
URL:https://acif.org.br/evento/reuniao-ordinaria-nucleo-gastronomico-da-costa-da-lagoa-5/
LOCATION:ACIF Matriz\, Rua Emilio Blum\, 121\, Florianópolis\, Santa Catarina\, 88020010\, Brasil
CATEGORIES:Reunião de núcleo
ATTACH;FMTTYPE=image/png:https://acif.org.br/wp-content/uploads/2023/09/7679_19_M_Submarcas_Nucleos_Setorial-de-Gastronomia-da-Costa-da-Lagoa-positivo.png
END:VEVENT
BEGIN:VEVENT
DTSTART;TZID=America/Sao_Paulo:20260422T190000
DTEND;TZID=America/Sao_Paulo:20260422T203000
DTSTAMP:20260423T051005
CREATED:20260316T191809Z
LAST-MODIFIED:20260422T214938Z
UID:10002017-1776884400-1776889800@acif.org.br
SUMMARY:Reunião Ordinária do Núcleo de Advocacia
DESCRIPTION:Reunião será realizada ás 19h na ACIF Matriz. \nCaso tenha interesse em participar!  \nEntre em contato com: \nCibele Quintino – Consultora de Núcleos  \nTel.: 48 9102-9404 \ncibele.quintino@acif.org.br
URL:https://acif.org.br/evento/reuniao-ordinaria-do-nucleo-de-advocacia-2/2026-04-22/
LOCATION:ACIF Matriz\, Rua Emilio Blum\, 121\, Florianópolis\, Santa Catarina\, 88020010\, Brasil
CATEGORIES:Reunião de núcleo
END:VEVENT
BEGIN:VEVENT
DTSTART;TZID=America/Sao_Paulo:20260422T193000
DTEND;TZID=America/Sao_Paulo:20260422T210000
DTSTAMP:20260423T051005
CREATED:20260114T190601Z
LAST-MODIFIED:20260422T190201Z
UID:10001868-1776886200-1776891600@acif.org.br
SUMMARY:Reunião Ordinária Mercado Imobiliário
DESCRIPTION:Reunião será realizada na ACIF Matriz às 19:00.  \nCaso tenha interesse em participar!  \nEntre em contato com:  \nMariana Aguiar – Consultora de Núcleos \nTel.: 48 9 9988-0462 \nmariana.aguiar@acif.org.br
URL:https://acif.org.br/evento/reuniao-ordinaria-mercado-imobiliario/2026-04-22/
LOCATION:ACIF Matriz\, Rua Emilio Blum\, 121\, Florianópolis\, Santa Catarina\, 88020010\, Brasil
CATEGORIES:Reunião de núcleo
END:VEVENT
BEGIN:VEVENT
DTSTART;TZID=America/Sao_Paulo:20260423T160000
DTEND;TZID=America/Sao_Paulo:20260423T173000
DTSTAMP:20260423T051005
CREATED:20250217T175953Z
LAST-MODIFIED:20260422T185544Z
UID:10001574-1776960000-1776965400@acif.org.br
SUMMARY:Reunião Ordinária de Cooperativas
DESCRIPTION:Reunião será realizada na ACIF Matriz às 16h. \nCaso tenha interesse em participar\, \nEntre em contato com: \nMariana Aguiar – Consultora de Núcleos \nTel.: 48 9 9988-0462 \nmariana.aguiar@acif.org.br
URL:https://acif.org.br/evento/reuniao-ordinaria-de-cooperativas/2026-04-23/
LOCATION:Santa Catarina
CATEGORIES:Reunião de núcleo
END:VEVENT
BEGIN:VEVENT
DTSTART;TZID=America/Sao_Paulo:20260423T183000
DTEND;TZID=America/Sao_Paulo:20260423T200000
DTSTAMP:20260423T051005
CREATED:20260114T204522Z
LAST-MODIFIED:20260422T215246Z
UID:10001942-1776969000-1776974400@acif.org.br
SUMMARY:Reunião Ordinária Psicologia
DESCRIPTION:Reunião será realizada na ACIF Matriz às 19h.  \nCaso tenha interesse em participar!  \nEntre em contato com:  \nCibele Quintino – Consultora de Núcleos  \nTel.: 48 9102-9404 \ncibele.quintino@acif.org.br
URL:https://acif.org.br/evento/reuniao-ordinaria-psicologia/2026-04-23/
LOCATION:ACIF Matriz\, Rua Emilio Blum\, 121\, Florianópolis\, Santa Catarina\, 88020010\, Brasil
CATEGORIES:Reunião de núcleo
END:VEVENT
BEGIN:VEVENT
DTSTART;TZID=America/Sao_Paulo:20260423T183000
DTEND;TZID=America/Sao_Paulo:20260423T200000
DTSTAMP:20260423T051005
CREATED:20260422T182309Z
LAST-MODIFIED:20260422T191906Z
UID:10002108-1776969000-1776974400@acif.org.br
SUMMARY:Reunião Ordinária Núcleo de Soluções Empresariais (NUSE)
DESCRIPTION:Reunião será realizada na ACIF Matriz às 18h30. \nCaso tenha interesse em participar! \nEntre em contato com: \nMariana Aguiar – Consultora de Núcleos \nTel.:48 9988-0462 \nmariana.aguiar@acif.org.br
URL:https://acif.org.br/evento/reuniao-ordinaria-nucleo-de-solucoes-empresariais-nuse-2/2026-04-23/
LOCATION:ACIF Matriz\, Rua Emilio Blum\, 121\, Florianópolis\, Santa Catarina\, 88020010\, Brasil
CATEGORIES:Reunião de núcleo
END:VEVENT
END:VCALENDAR