BEGIN:VCALENDAR
VERSION:2.0
PRODID:-//ACIF - ECPv6.14.0//NONSGML v1.0//EN
CALSCALE:GREGORIAN
METHOD:PUBLISH
X-WR-CALNAME:ACIF
X-ORIGINAL-URL:https://acif.org.br
X-WR-CALDESC:Eventos para ACIF
REFRESH-INTERVAL;VALUE=DURATION:PT1H
X-Robots-Tag:noindex
X-PUBLISHED-TTL:PT1H
BEGIN:VTIMEZONE
TZID:America/Sao_Paulo
BEGIN:STANDARD
TZOFFSETFROM:-0300
TZOFFSETTO:-0300
TZNAME:-03
DTSTART:20250101T000000
END:STANDARD
END:VTIMEZONE
BEGIN:VEVENT
DTSTART;TZID=America/Sao_Paulo:20251127T200000
DTEND;TZID=America/Sao_Paulo:20251127T213000
DTSTAMP:20260424T054229
CREATED:20250409T194956Z
LAST-MODIFIED:20250409T194956Z
UID:10001430-1764273600-1764279000@acif.org.br
SUMMARY:Reunião Ordinária Reparação Automotiva
DESCRIPTION:Caso tenha interesse em participar!\nEntre em contato com: \nAndréa Firmo da Silva– Consultora de Núcleos \nTel.: 48 99988-0462 – andrea.firmo@acif.org.br
URL:https://acif.org.br/evento/reuniao-ordinaria-reparacao-automotiva/2025-11-27/
LOCATION:ACIF Matriz\, Rua Emilio Blum\, 121\, Florianópolis\, Santa Catarina\, 88020010\, Brasil
CATEGORIES:Reunião de núcleo
ATTACH;FMTTYPE=image/png:https://acif.org.br/wp-content/uploads/2025/02/ACIF-NUCLEO-REPARACAO-AUTOMOTIVA-AZUL-1.png
END:VEVENT
BEGIN:VEVENT
DTSTART;TZID=America/Sao_Paulo:20251128T100000
DTEND;TZID=America/Sao_Paulo:20251128T110000
DTSTAMP:20260424T054229
CREATED:20250715T125722Z
LAST-MODIFIED:20250715T125722Z
UID:10001332-1764324000-1764327600@acif.org.br
SUMMARY:Reunião Ordinária Inovação
DESCRIPTION:Reuniões presenciais serão realizadas na ACIF Matriz. \nLink para reuniões online: https://meet.google.com/hzc-digs-kiu \nCaso tenha interesse em participar! \nEntre em contato com: \nJoão Vitor Pacheco – Consultor de Núcleos Empresariais \nTel.: 3084-9400 ou 99134-8587 – joao.vitor@acif.org.br
URL:https://acif.org.br/evento/reuniao-ordinaria-inovacao-13/
LOCATION:ACIF Matriz\, Rua Emilio Blum\, 121\, Florianópolis\, Santa Catarina\, 88020010\, Brasil
CATEGORIES:Reunião de núcleo
ATTACH;FMTTYPE=image/png:https://acif.org.br/wp-content/uploads/2024/07/ACIF_Logo-Nucleo-Inovacao-Azul-Claro_Azul.png
END:VEVENT
BEGIN:VEVENT
DTSTART;TZID=America/Sao_Paulo:20251128T210000
DTEND;TZID=America/Sao_Paulo:20251129T010000
DTSTAMP:20260424T054229
CREATED:20251121T152847Z
LAST-MODIFIED:20251121T152847Z
UID:10001456-1764363600-1764378000@acif.org.br
SUMMARY:FESTA ACIF
DESCRIPTION:
URL:https://acif.org.br/evento/festa-acif/
CATEGORIES:Celebração
ATTACH;FMTTYPE=image/jpeg:https://acif.org.br/wp-content/uploads/2025/11/Banner-Agenda.jpg
END:VEVENT
BEGIN:VEVENT
DTSTART;TZID=America/Sao_Paulo:20251130T180000
DTEND;TZID=America/Sao_Paulo:20251130T200000
DTSTAMP:20260424T054229
CREATED:20250408T190535Z
LAST-MODIFIED:20251219T170458Z
UID:10001547-1764525600-1764532800@acif.org.br
SUMMARY:Reunião Ordinária do Núcleo de Contadores
DESCRIPTION:Reunião será realizada na ACIF Matriz às 18h. \nCaso tenha interesse em participar!\nEntre em contato com: \nFranciele Medeiros  – Consultora de Núcleos \nTel.: 48 9 9988-2432
URL:https://acif.org.br/evento/reuniao-ordinaria-do-nucleo-de-contadores/2025-11-30/
LOCATION:ACIF Matriz\, Rua Emilio Blum\, 121\, Florianópolis\, Santa Catarina\, 88020010\, Brasil
CATEGORIES:Reunião de núcleo
ATTACH;FMTTYPE=image/png:https://acif.org.br/wp-content/uploads/2023/09/ACIF-NUCLEO-CONTADORES-AZUL.png
END:VEVENT
BEGIN:VEVENT
DTSTART;TZID=America/Sao_Paulo:20251203T190000
DTEND;TZID=America/Sao_Paulo:20251203T203000
DTSTAMP:20260424T054229
CREATED:20250408T184819Z
LAST-MODIFIED:20250408T184819Z
UID:10001158-1764788400-1764793800@acif.org.br
SUMMARY:Reunião Ordinária Conselho de Núcleos
DESCRIPTION:Reunião será realizada na ACIF Matriz às 19h. \nCaso tenha interesse em participar!\nEntre em contato com: \nLetícia Alves – Consultora de Núcleos \nTel.: 48 98816-9993 – leticia.alves@acif.org.br
URL:https://acif.org.br/evento/reuniao-ordinaria-conselho-de-nucleos/2025-12-03/
LOCATION:ACIF Matriz\, Rua Emilio Blum\, 121\, Florianópolis\, Santa Catarina\, 88020010\, Brasil
CATEGORIES:Reunião de núcleo
ATTACH;FMTTYPE=image/png:https://acif.org.br/wp-content/uploads/2024/07/ACIF-CONSELHO-DE-NUCLEOS-AZUL_1-1.png
END:VEVENT
BEGIN:VEVENT
DTSTART;TZID=America/Sao_Paulo:20251207T180000
DTEND;TZID=America/Sao_Paulo:20251207T200000
DTSTAMP:20260424T054229
CREATED:20251219T170924Z
LAST-MODIFIED:20251219T170924Z
UID:10001548-1765130400-1765137600@acif.org.br
SUMMARY:Reunião Ordinária do Núcleo de Contadores
DESCRIPTION:Reunião será realizada na ACIF Matriz às 18h. \nCaso tenha interesse em participar!\nEntre em contato com: \nFranciele Medeiros  – Consultora de Núcleos \nTel.: 48 9 9988-2432
URL:https://acif.org.br/evento/reuniao-ordinaria-do-nucleo-de-contadores-2/
LOCATION:ACIF Matriz\, Rua Emilio Blum\, 121\, Florianópolis\, Santa Catarina\, 88020010\, Brasil
CATEGORIES:Reunião de núcleo
ATTACH;FMTTYPE=image/png:https://acif.org.br/wp-content/uploads/2023/09/ACIF-NUCLEO-CONTADORES-AZUL.png
END:VEVENT
BEGIN:VEVENT
DTSTART;TZID=America/Sao_Paulo:20251208T190000
DTEND;TZID=America/Sao_Paulo:20251208T210000
DTSTAMP:20260424T054229
CREATED:20250225T203237Z
LAST-MODIFIED:20251127T170911Z
UID:10001088-1765220400-1765227600@acif.org.br
SUMMARY:ENCONTRO DE NEGÓCIOS - 17ª EDIÇÃO 2025
DESCRIPTION:Data: 08/12\nHorário: 19h\nLocal: Vitral Restaurante Hantei – R. Emílio Blum\, 131 – Loja 10 e Loja 11 – Centro\, Florianópolis \nObjetivo: Fomentar o relacionamento entre os empresários da Região. \nProgramação: \n19h – Credenciamento\n19h30 – Abertura + PITCH DE NEGÓCIOS\n21h – Coquetel \nInscrições: Associados R$ 30\,00 | Não associados R$ 60\,00 \nLink da inscrição: https://acif.tcsdigital.com.br/digital/inscricoes/default.aspx
URL:https://acif.org.br/evento/encontro-de-negocios-12a-edicao-2025/
LOCATION:ACIF Matriz\, Rua Emilio Blum\, 121\, Florianópolis\, Santa Catarina\, 88020010\, Brasil
CATEGORIES:Encontro de networking
ATTACH;FMTTYPE=image/png:https://acif.org.br/wp-content/uploads/2025/06/Banner-Agenda_Emkt.png
END:VEVENT
BEGIN:VEVENT
DTSTART;TZID=America/Sao_Paulo:20251210T150000
DTEND;TZID=America/Sao_Paulo:20251210T163000
DTSTAMP:20260424T054229
CREATED:20240717T180952Z
LAST-MODIFIED:20250715T131329Z
UID:10001452-1765378800-1765384200@acif.org.br
SUMMARY:Reunião Gastronomia Lagoa da Conceição
DESCRIPTION:Dúvidas? Entre em contato com o consultor Vander Timm pelo (48)99185-7379
URL:https://acif.org.br/evento/reuniao-gastronomia-lagoa-da-conceicao/2025-12-10/
CATEGORIES:Reunião de núcleo
END:VEVENT
BEGIN:VEVENT
DTSTART;TZID=America/Sao_Paulo:20251210T190000
DTEND;TZID=America/Sao_Paulo:20251210T203000
DTSTAMP:20260424T054229
CREATED:20250408T184819Z
LAST-MODIFIED:20250408T184819Z
UID:10001159-1765393200-1765398600@acif.org.br
SUMMARY:Reunião Ordinária Conselho de Núcleos
DESCRIPTION:Reunião será realizada na ACIF Matriz às 19h. \nCaso tenha interesse em participar!\nEntre em contato com: \nLetícia Alves – Consultora de Núcleos \nTel.: 48 98816-9993 – leticia.alves@acif.org.br
URL:https://acif.org.br/evento/reuniao-ordinaria-conselho-de-nucleos/2025-12-10/
LOCATION:ACIF Matriz\, Rua Emilio Blum\, 121\, Florianópolis\, Santa Catarina\, 88020010\, Brasil
CATEGORIES:Reunião de núcleo
ATTACH;FMTTYPE=image/png:https://acif.org.br/wp-content/uploads/2024/07/ACIF-CONSELHO-DE-NUCLEOS-AZUL_1-1.png
END:VEVENT
BEGIN:VEVENT
DTSTART;TZID=America/Sao_Paulo:20251216T190000
DTEND;TZID=America/Sao_Paulo:20251216T203000
DTSTAMP:20260424T054229
CREATED:20250408T210248Z
LAST-MODIFIED:20250408T210248Z
UID:10001253-1765911600-1765917000@acif.org.br
SUMMARY:Reunião Ordinária de Advocacia
DESCRIPTION:Reuniões presenciais serão realizadas na ACIF Matriz às 19h. \nLink para reuniões online: https://meet.google.com/krm-ujrt-izf \nCaso tenha interesse em participar!\nEntre em contato com: \nAndréa Firmo da Silva– Consultora de Núcleos \nTel.: 48 99988-0462 – andrea.firmo@acif.org.br
URL:https://acif.org.br/evento/reuniao-ordinaria-de-advocacia-2/2025-12-16/
LOCATION:ACIF Matriz\, Rua Emilio Blum\, 121\, Florianópolis\, Santa Catarina\, 88020010\, Brasil
CATEGORIES:Reunião de núcleo
ATTACH;FMTTYPE=image/png:https://acif.org.br/wp-content/uploads/2025/02/ACIF-NUCLEO-ADVOCACIA-AZUL-1.png
END:VEVENT
BEGIN:VEVENT
DTSTART;TZID=America/Sao_Paulo:20260109T170000
DTEND;TZID=America/Sao_Paulo:20260109T183000
DTSTAMP:20260424T054229
CREATED:20260318T124416Z
LAST-MODIFIED:20260318T124417Z
UID:10002036-1767978000-1767983400@acif.org.br
SUMMARY:Reunião Ordinária Núcleo Coworking
DESCRIPTION:Reuniões presenciais serão realizadas na ACIF Matriz às 17h. \nLink para as reuniões on-line: https://meet.google.com/fby-tvvu-ozn \nEntre em contato com o consultor André (48 9 9134-8587) caso tenha interesse em participar!
URL:https://acif.org.br/evento/reuniao-ordinaria-nucleo-coworking-2/2026-01-09/
END:VEVENT
BEGIN:VEVENT
DTSTART;TZID=America/Sao_Paulo:20260114T190000
DTEND;TZID=America/Sao_Paulo:20260114T213000
DTSTAMP:20260424T054229
CREATED:20260206T135437Z
LAST-MODIFIED:20260206T140033Z
UID:10001991-1768417200-1768426200@acif.org.br
SUMMARY:Encontro de Negócios - 2ª EDIÇÃO 2026
DESCRIPTION:Data: 14/01\nHorário: 19h\nLocal: GUACIARA \nObjetivo: Fomentar o relacionamento entre os empresários da Região. \nProgramação: \n19h – Credenciamento\n19h30 – Abertura + PITCH DE NEGÓCIOS\n21h – Coquetel \nInscrições: Associados R$ 30\,00 | Não associados R$ 60\,00 \nLink da inscrição: https://acif.tcsdigital.com.br/digital/inscricoes/evento3.aspx?evento=104&idativa=1
URL:https://acif.org.br/evento/encontro-de-negocios-2a-edicao-2026/
LOCATION:Guaciara Restaurante\, R. Gen. Liberato Bittencourt\, 1901 - Estreito\, Florianópolis - SC\, 88070-800\, Florianópolis\, Santa Catarina\, 88070-800
CATEGORIES:Encontro de networking
ATTACH;FMTTYPE=image/jpeg:https://acif.org.br/wp-content/uploads/2025/02/Encontro-de-Negocios.jpg
END:VEVENT
BEGIN:VEVENT
DTSTART;TZID=America/Sao_Paulo:20260114T190000
DTEND;TZID=America/Sao_Paulo:20260114T220000
DTSTAMP:20260424T054229
CREATED:20260112T140430Z
LAST-MODIFIED:20260112T140430Z
UID:10001647-1768417200-1768428000@acif.org.br
SUMMARY:1º Encontro de Negócios 2026 - Regional Continente
DESCRIPTION:Depois de um ano de eventos de absoluto sucesso\, os Encontros de Negócios retornam em 2026 com ainda mais força! 🌟 \nConsolidados como o ponto de encontro do empreendedor de Florianópolis e região\, os nossos Encontros permitem a geração de networking de qualidade\, troca de experiências\, aprendizado e conexões que geram negócios. 🤝🏼 \nE para abrir o ano\, nossa primeira edição acontece no Continente\, no restaurante Guaciara\, a partir das 19 horas no dia 14 de janeiro. \nNão perca\, nos vemos lá! 😉
URL:https://acif.org.br/evento/https-acif-tcsdigital-com-br-digital-inscricoes-evento3-aspxevento164idativa1rascunho-automatico/
LOCATION:Guaciara Restaurante\, R. Gen. Liberato Bittencourt\, 1901 - Estreito\, Florianópolis - SC\, 88070-800\, Florianópolis\, Santa Catarina\, 88070-800
CATEGORIES:Encontro de networking
ATTACH;FMTTYPE=image/png:https://acif.org.br/wp-content/uploads/2026/01/Banner-site-desktop.png
END:VEVENT
BEGIN:VEVENT
DTSTART;TZID=America/Sao_Paulo:20260119T180000
DTEND;TZID=America/Sao_Paulo:20260119T193000
DTSTAMP:20260424T054229
CREATED:20240201T194935Z
LAST-MODIFIED:20260422T194447Z
UID:10001549-1768845600-1768851000@acif.org.br
SUMMARY:Reunião Ordinária Núcleo de Contadores
DESCRIPTION:Reunião presencial será realizada na ACIF Matriz às 18h. \nLink para participar online: meet.google.com/nux-vqzq-byz \nCaso tenha interesse em participar!  \nEntre em contato com:  \nAnne Caroline – Consultora de Núcleos  \nTel.: 48 8864-1801 \nanne.rios@acif.org.br
URL:https://acif.org.br/evento/reuniao-nucleo-de-contadores/2026-01-19/
CATEGORIES:Reunião de núcleo
END:VEVENT
BEGIN:VEVENT
DTSTART;TZID=America/Sao_Paulo:20260121T150000
DTEND;TZID=America/Sao_Paulo:20260121T163000
DTSTAMP:20260424T054229
CREATED:20250217T195142Z
LAST-MODIFIED:20260422T183317Z
UID:10001072-1769007600-1769013000@acif.org.br
SUMMARY:Reunião Ordinária  Núcleo Gastronômico da Lagoa da Conceição
DESCRIPTION:Reunião será realizada na Regional Lagoa às 15h. \nCaso tenha interesse em participar! \nEntre em contato com: \nAndré Carvalho – Consultor de Núcleos  \nTel.: 48 9134-8587 \nandre.carvalho@acif.org.br
URL:https://acif.org.br/evento/reuniao-ordinaria-nucleo-gastronomico-da-lagoa-da-conceicao/2026-01-21/
CATEGORIES:Reunião de núcleo
END:VEVENT
BEGIN:VEVENT
DTSTART;TZID=America/Sao_Paulo:20260123T190000
DTEND;TZID=America/Sao_Paulo:20260123T203000
DTSTAMP:20260424T054229
CREATED:20260120T163335Z
LAST-MODIFIED:20260120T163336Z
UID:10001481-1769194800-1769200200@acif.org.br
SUMMARY:Reunião Ordinária ACIF Jovem
DESCRIPTION:Reunião será realizada na ACIF Matriz às 19h. \nEntre em contato com a consultora Franciele (48 9988-2432) caso tenha interesse em participar!
URL:https://acif.org.br/evento/reuniao-ordinaria-acif-jovem-2/
LOCATION:ACIF Matriz\, Rua Emilio Blum\, 121\, Florianópolis\, Santa Catarina\, 88020010\, Brasil
CATEGORIES:Reunião de núcleo
ATTACH;FMTTYPE=image/png:https://acif.org.br/wp-content/uploads/2025/02/ACIF-NUCLEO-JOVEM-AZUL.png
END:VEVENT
BEGIN:VEVENT
DTSTART;TZID=America/Sao_Paulo:20260126T190000
DTEND;TZID=America/Sao_Paulo:20260126T203000
DTSTAMP:20260424T054229
CREATED:20260115T142802Z
LAST-MODIFIED:20260422T192353Z
UID:10001968-1769454000-1769459400@acif.org.br
SUMMARY:Reunião Ordinária Saúde & Bem-Estar
DESCRIPTION:Reunião será realizada no HUB Ingleses às 19h. \nCaso tenha interesse em participar! \nEntre em contato: \nMariana Aguiar – Consultora de Núcleos  \nTel.:48 9988-0462  \nmariana.aguiar@acif.org.br
URL:https://acif.org.br/evento/reuniao-ordinaria-saude-bem-estar/2026-01-26/
LOCATION:ACIF Matriz\, Rua Emilio Blum\, 121\, Florianópolis\, Santa Catarina\, 88020010\, Brasil
CATEGORIES:Reunião de núcleo
END:VEVENT
BEGIN:VEVENT
DTSTART;TZID=America/Sao_Paulo:20260128T193000
DTEND;TZID=America/Sao_Paulo:20260128T193000
DTSTAMP:20260424T054229
CREATED:20260114T190601Z
LAST-MODIFIED:20260422T190201Z
UID:10001862-1769628600-1769628600@acif.org.br
SUMMARY:Reunião Ordinária Mercado Imobiliário
DESCRIPTION:Reunião será realizada na ACIF Matriz às 19:00.  \nCaso tenha interesse em participar!  \nEntre em contato com:  \nMariana Aguiar – Consultora de Núcleos \nTel.: 48 9 9988-0462 \nmariana.aguiar@acif.org.br
URL:https://acif.org.br/evento/reuniao-ordinaria-mercado-imobiliario/2026-01-28/
LOCATION:ACIF Matriz\, Rua Emilio Blum\, 121\, Florianópolis\, Santa Catarina\, 88020010\, Brasil
CATEGORIES:Reunião de núcleo
END:VEVENT
BEGIN:VEVENT
DTSTART;TZID=America/Sao_Paulo:20260202T180000
DTEND;TZID=America/Sao_Paulo:20260202T193000
DTSTAMP:20260424T054229
CREATED:20240201T194935Z
LAST-MODIFIED:20260422T194447Z
UID:10001550-1770055200-1770060600@acif.org.br
SUMMARY:Reunião Ordinária Núcleo de Contadores
DESCRIPTION:Reunião presencial será realizada na ACIF Matriz às 18h. \nLink para participar online: meet.google.com/nux-vqzq-byz \nCaso tenha interesse em participar!  \nEntre em contato com:  \nAnne Caroline – Consultora de Núcleos  \nTel.: 48 8864-1801 \nanne.rios@acif.org.br
URL:https://acif.org.br/evento/reuniao-nucleo-de-contadores/2026-02-02/
CATEGORIES:Reunião de núcleo
END:VEVENT
BEGIN:VEVENT
DTSTART;TZID=America/Sao_Paulo:20260204T150000
DTEND;TZID=America/Sao_Paulo:20260204T163000
DTSTAMP:20260424T054229
CREATED:20250217T195142Z
LAST-MODIFIED:20260422T183317Z
UID:10001712-1770217200-1770222600@acif.org.br
SUMMARY:Reunião Ordinária  Núcleo Gastronômico da Lagoa da Conceição
DESCRIPTION:Reunião será realizada na Regional Lagoa às 15h. \nCaso tenha interesse em participar! \nEntre em contato com: \nAndré Carvalho – Consultor de Núcleos  \nTel.: 48 9134-8587 \nandre.carvalho@acif.org.br
URL:https://acif.org.br/evento/reuniao-ordinaria-nucleo-gastronomico-da-lagoa-da-conceicao/2026-02-04/
CATEGORIES:Reunião de núcleo
END:VEVENT
BEGIN:VEVENT
DTSTART;TZID=America/Sao_Paulo:20260206T093000
DTEND;TZID=America/Sao_Paulo:20260206T110000
DTSTAMP:20260424T054229
CREATED:20260310T183144Z
LAST-MODIFIED:20260310T183156Z
UID:10001678-1770370200-1770375600@acif.org.br
SUMMARY:Reunião Ordinária Núcleo Gastronômico da Costa da Lagoa
DESCRIPTION:Reunião será realizada no Restaurante Carapeva às 09:30h. \nCaso tenha interesse em participar\, \nEntre em contato com: \nAndré Carvalho – Consultor de Núcleos \nTel.: 48 9134-8587
URL:https://acif.org.br/evento/reuniao-ordinaria-nucleo-gastronomico-da-costa-da-lagoa-8/
LOCATION:ACIF Matriz\, Rua Emilio Blum\, 121\, Florianópolis\, Santa Catarina\, 88020010\, Brasil
CATEGORIES:Reunião de núcleo
ATTACH;FMTTYPE=image/png:https://acif.org.br/wp-content/uploads/2023/09/7679_19_M_Submarcas_Nucleos_Setorial-de-Gastronomia-da-Costa-da-Lagoa-positivo.png
END:VEVENT
BEGIN:VEVENT
DTSTART;TZID=America/Sao_Paulo:20260209T190000
DTEND;TZID=America/Sao_Paulo:20260209T203000
DTSTAMP:20260424T054229
CREATED:20250213T185926Z
LAST-MODIFIED:20251218T184350Z
UID:10001482-1770663600-1770669000@acif.org.br
SUMMARY:Reunião Ordinária ACIF Jovem
DESCRIPTION:Reunião será realizada na ACIF Matriz às 19h. \nEntre em contato com a consultora Franciele (48 9988-2432) caso tenha interesse em participar!
URL:https://acif.org.br/evento/reuniao-ordinaria-acif-jovem/
LOCATION:ACIF Matriz\, Rua Emilio Blum\, 121\, Florianópolis\, Santa Catarina\, 88020010\, Brasil
CATEGORIES:Reunião de núcleo
ATTACH;FMTTYPE=image/png:https://acif.org.br/wp-content/uploads/2025/02/ACIF-NUCLEO-JOVEM-AZUL.png
END:VEVENT
BEGIN:VEVENT
DTSTART;TZID=America/Sao_Paulo:20260209T190000
DTEND;TZID=America/Sao_Paulo:20260209T213000
DTSTAMP:20260424T054229
CREATED:20260206T135909Z
LAST-MODIFIED:20260206T141110Z
UID:10001992-1770663600-1770672600@acif.org.br
SUMMARY:Encontro de Negócios - ESTAÇÃO
DESCRIPTION:Data: 09/02\nHorário: 19h\nLocal: TRINDADE/SANTA MÔNICA \nObjetivo: Fomentar o relacionamento entre os empresários da Região. \nProgramação: \n19h – Credenciamento\n19h30 – Abertura + PITCH DE NEGÓCIOS\n21h – Coquetel \nInscrições: Associados R$ 30\,00 | Não associados R$ 60\,00 \nLink da inscrição: https://acif.tcsdigital.com.br/digital/inscricoes/evento3.aspx?evento=167&idativa=1
URL:https://acif.org.br/evento/encontro-de-negocios-2a-edicao-2026-2/
LOCATION:Trindade
CATEGORIES:Encontro de networking
ATTACH;FMTTYPE=image/jpeg:https://acif.org.br/wp-content/uploads/2025/02/Encontro-de-Negocios.jpg
END:VEVENT
BEGIN:VEVENT
DTSTART;TZID=America/Sao_Paulo:20260210T180000
DTEND;TZID=America/Sao_Paulo:20260210T193000
DTSTAMP:20260424T054229
CREATED:20260209T200059Z
LAST-MODIFIED:20260209T200059Z
UID:10001551-1770746400-1770751800@acif.org.br
SUMMARY:Reunião Núcleo de Contadores
DESCRIPTION:Link para acessar a reunião: https://meet.google.com/qhw-zwdk-igb \nEntre em contato com: \nFranciele Medeiros – Consultora de Núcleos \n(48 9 9988-2432) \ncaso tenha interesse em participar!
URL:https://acif.org.br/evento/reuniao-nucleo-de-contadores-2/
CATEGORIES:Reunião de núcleo
END:VEVENT
BEGIN:VEVENT
DTSTART;TZID=America/Sao_Paulo:20260211T190000
DTEND;TZID=America/Sao_Paulo:20260211T190000
DTSTAMP:20260424T054229
CREATED:20260114T192719Z
LAST-MODIFIED:20260114T193126Z
UID:10001884-1770836400-1770836400@acif.org.br
SUMMARY:Reunião Ordinária NEES
DESCRIPTION:Reunião será realizada na ACIF Matriz às 19h. \nCaso tenha interesse em participar\, \nEntre em contato com: \nJoão Moraes – Consultor de Núcleos \nTel.: 48 8816-9993
URL:https://acif.org.br/evento/reuniao-ordinaria-nees/2026-02-11/
LOCATION:ACIF Matriz\, Rua Emilio Blum\, 121\, Florianópolis\, Santa Catarina\, 88020010\, Brasil
CATEGORIES:Reunião de núcleo
END:VEVENT
BEGIN:VEVENT
DTSTART;TZID=America/Sao_Paulo:20260211T190000
DTEND;TZID=America/Sao_Paulo:20260211T210000
DTSTAMP:20260424T054229
CREATED:20251218T210510Z
LAST-MODIFIED:20251218T210510Z
UID:10001066-1770836400-1770843600@acif.org.br
SUMMARY:Reunião Ordinária de Advocacia
DESCRIPTION:Reunião será realizada na Sala  CMAA (ACIF Matriz) às 19h. \nCaso tenha interesse em participar!\nEntre em contato com: \nAndréa Firmo da Silva– Consultora de Núcleos \nTel.: 48 99988-0462 – andrea.firmo@acif.org.br
URL:https://acif.org.br/evento/reuniao-ordinaria-de-advocacia-3/
CATEGORIES:Reunião de núcleo
END:VEVENT
BEGIN:VEVENT
DTSTART;TZID=America/Sao_Paulo:20260211T193000
DTEND;TZID=America/Sao_Paulo:20260211T210000
DTSTAMP:20260424T054229
CREATED:20260114T190601Z
LAST-MODIFIED:20260422T190201Z
UID:10001863-1770838200-1770843600@acif.org.br
SUMMARY:Reunião Ordinária Mercado Imobiliário
DESCRIPTION:Reunião será realizada na ACIF Matriz às 19:00.  \nCaso tenha interesse em participar!  \nEntre em contato com:  \nMariana Aguiar – Consultora de Núcleos \nTel.: 48 9 9988-0462 \nmariana.aguiar@acif.org.br
URL:https://acif.org.br/evento/reuniao-ordinaria-mercado-imobiliario/2026-02-11/
LOCATION:ACIF Matriz\, Rua Emilio Blum\, 121\, Florianópolis\, Santa Catarina\, 88020010\, Brasil
CATEGORIES:Reunião de núcleo
END:VEVENT
BEGIN:VEVENT
DTSTART;TZID=America/Sao_Paulo:20260212T183000
DTEND;TZID=America/Sao_Paulo:20260212T200000
DTSTAMP:20260424T054229
CREATED:20260114T204522Z
LAST-MODIFIED:20260422T215246Z
UID:10001937-1770921000-1770926400@acif.org.br
SUMMARY:Reunião Ordinária Psicologia
DESCRIPTION:Reunião será realizada na ACIF Matriz às 19h.  \nCaso tenha interesse em participar!  \nEntre em contato com:  \nCibele Quintino – Consultora de Núcleos  \nTel.: 48 9102-9404 \ncibele.quintino@acif.org.br
URL:https://acif.org.br/evento/reuniao-ordinaria-psicologia/2026-02-12/
LOCATION:ACIF Matriz\, Rua Emilio Blum\, 121\, Florianópolis\, Santa Catarina\, 88020010\, Brasil
CATEGORIES:Reunião de núcleo
END:VEVENT
BEGIN:VEVENT
DTSTART;TZID=America/Sao_Paulo:20260218T150000
DTEND;TZID=America/Sao_Paulo:20260218T163000
DTSTAMP:20260424T054229
CREATED:20250217T195142Z
LAST-MODIFIED:20260422T183317Z
UID:10001713-1771426800-1771432200@acif.org.br
SUMMARY:Reunião Ordinária  Núcleo Gastronômico da Lagoa da Conceição
DESCRIPTION:Reunião será realizada na Regional Lagoa às 15h. \nCaso tenha interesse em participar! \nEntre em contato com: \nAndré Carvalho – Consultor de Núcleos  \nTel.: 48 9134-8587 \nandre.carvalho@acif.org.br
URL:https://acif.org.br/evento/reuniao-ordinaria-nucleo-gastronomico-da-lagoa-da-conceicao/2026-02-18/
CATEGORIES:Reunião de núcleo
END:VEVENT
BEGIN:VEVENT
DTSTART;TZID=America/Sao_Paulo:20260219T090000
DTEND;TZID=America/Sao_Paulo:20260219T103000
DTSTAMP:20260424T054229
CREATED:20250217T181733Z
LAST-MODIFIED:20260423T185222Z
UID:10001069-1771491600-1771497000@acif.org.br
SUMMARY:Reunião Ordinária de Educação
DESCRIPTION:Reunião será realizada na Sala Multiuso (ACIF Matriz) ás 09h. \nCaso tenha interesse em participar! \nEntre em contato com: \nCibele Quintino – Consultora de Núcleos \nTel.: 48 9102-9404 \ncibele.quintino@acif.org.br
URL:https://acif.org.br/evento/reuniao-ordinaria-de-educacao/2026-02-19/
CATEGORIES:Reunião de núcleo
END:VEVENT
END:VCALENDAR