BEGIN:VCALENDAR
VERSION:2.0
PRODID:-//ACIF - ECPv6.14.0//NONSGML v1.0//EN
CALSCALE:GREGORIAN
METHOD:PUBLISH
X-WR-CALNAME:ACIF
X-ORIGINAL-URL:https://acif.org.br
X-WR-CALDESC:Eventos para ACIF
REFRESH-INTERVAL;VALUE=DURATION:PT1H
X-Robots-Tag:noindex
X-PUBLISHED-TTL:PT1H
BEGIN:VTIMEZONE
TZID:America/Sao_Paulo
BEGIN:STANDARD
TZOFFSETFROM:-0300
TZOFFSETTO:-0300
TZNAME:-03
DTSTART:20260101T000000
END:STANDARD
END:VTIMEZONE
BEGIN:VEVENT
DTSTART;TZID=America/Sao_Paulo:20260929T150000
DTEND;TZID=America/Sao_Paulo:20260929T163000
DTSTAMP:20260422T041725
CREATED:20260420T194938Z
LAST-MODIFIED:20260420T194938Z
UID:10002087-1790694000-1790699400@acif.org.br
SUMMARY:Reunião Ordinária Núcleo Coworking
DESCRIPTION:Reunião acontecerá via meet ás 15h. \nLink para a reunião: meet.google.com/fby-tvvu-ozn \nCaso tenha interesse em participar!  \nEntre em contato com:  \nAndré Carvalho – Consultor de Núcleos  \nTel.: 48 9 9134-8587
URL:https://acif.org.br/evento/reuniao-ordinaria-nucleo-coworking-3/2026-09-29/
CATEGORIES:Reunião de núcleo
END:VEVENT
BEGIN:VEVENT
DTSTART;TZID=America/Sao_Paulo:20260929T190000
DTEND;TZID=America/Sao_Paulo:20260929T203000
DTSTAMP:20260422T041725
CREATED:20260330T193048Z
LAST-MODIFIED:20260330T205807Z
UID:10002071-1790708400-1790713800@acif.org.br
SUMMARY:Reunião Ordinária ACIF Jovem
DESCRIPTION:Reunião será realizada na ACIF Matriz às 19h. \nEntre em contato com: \n48 9102-9404 \nCaso tenha interesse em participar!
URL:https://acif.org.br/evento/reuniao-ordinaria-acif-jovem-3/2026-09-29/
LOCATION:ACIF Matriz\, Rua Emilio Blum\, 121\, Florianópolis\, Santa Catarina\, 88020010\, Brasil
CATEGORIES:Reunião de núcleo
ATTACH;FMTTYPE=image/png:https://acif.org.br/wp-content/uploads/2025/02/ACIF-NUCLEO-JOVEM-AZUL.png
END:VEVENT
END:VCALENDAR