BEGIN:VCALENDAR
VERSION:2.0
PRODID:-//ACIF - ECPv6.14.0//NONSGML v1.0//EN
CALSCALE:GREGORIAN
METHOD:PUBLISH
X-ORIGINAL-URL:https://acif.org.br
X-WR-CALDESC:Eventos para ACIF
REFRESH-INTERVAL;VALUE=DURATION:PT1H
X-Robots-Tag:noindex
X-PUBLISHED-TTL:PT1H
BEGIN:VTIMEZONE
TZID:America/Sao_Paulo
BEGIN:STANDARD
TZOFFSETFROM:-0300
TZOFFSETTO:-0300
TZNAME:-03
DTSTART:20260101T000000
END:STANDARD
END:VTIMEZONE
BEGIN:VEVENT
DTSTART;TZID=America/Sao_Paulo:20260924T160000
DTEND;TZID=America/Sao_Paulo:20260924T173000
DTSTAMP:20260422T060313
CREATED:20250217T175953Z
LAST-MODIFIED:20251219T172933Z
UID:10001580-1790265600-1790271000@acif.org.br
SUMMARY:Reunião Ordinária de Cooperativas
DESCRIPTION:Reunião será realizada na Sala CMAA (ACIF Matriz) às 16h. \nCaso tenha interesse em participar\, \nEntre em contato com: \nTatiane Silva  – Consultora de Núcleos \nTel.: 48 9 8864-1801 \n 
URL:https://acif.org.br/evento/reuniao-ordinaria-de-cooperativas/2026-09-24/
CATEGORIES:Reunião de núcleo
END:VEVENT
BEGIN:VEVENT
DTSTART;TZID=America/Sao_Paulo:20260924T190000
DTEND;TZID=America/Sao_Paulo:20260924T203000
DTSTAMP:20260422T060313
CREATED:20250217T203028Z
LAST-MODIFIED:20260114T203600Z
UID:10001930-1790276400-1790281800@acif.org.br
SUMMARY:Reunião Ordinária Núcleo de Soluções Empresariais (NUSE)
DESCRIPTION:Reunião será realizada às 19h. \nCaso tenha interesse em participar! \nEntre em contato com: \nAndrea Firmo – Consultora de Núcleos \nTel.:48 9988-0462 – andrea.firmo@acif.org.br
URL:https://acif.org.br/evento/reuniao-ordinaria-nucleo-de-solucoes-empresariais-nuse/2026-09-24/
CATEGORIES:Reunião de núcleo
END:VEVENT
BEGIN:VEVENT
DTSTART;TZID=America/Sao_Paulo:20260924T200000
DTEND;TZID=America/Sao_Paulo:20260924T220000
DTSTAMP:20260422T060313
CREATED:20250217T204441Z
LAST-MODIFIED:20260202T180805Z
UID:10001965-1790280000-1790287200@acif.org.br
SUMMARY:Reunião Ordinária Núcleo  Setorial de Reparação Automotiva
DESCRIPTION:Reunião será realizada ás 20h nas oficinas. \nCaso tenha interesse em participar! \nEntre em contato com: \nAndréa Firmo – Consultora de Núcleos \nTel.:48 99988-0462 – andrea.firmo@acif.org.br
URL:https://acif.org.br/evento/reuniao-ordinaria-nucleo-setorial-de-reparacao-automotiva/2026-09-24/
CATEGORIES:Reunião de núcleo
END:VEVENT
END:VCALENDAR