BEGIN:VCALENDAR
VERSION:2.0
PRODID:-//ACIF - ECPv6.14.0//NONSGML v1.0//EN
CALSCALE:GREGORIAN
METHOD:PUBLISH
X-ORIGINAL-URL:https://acif.org.br
X-WR-CALDESC:Eventos para ACIF
REFRESH-INTERVAL;VALUE=DURATION:PT1H
X-Robots-Tag:noindex
X-PUBLISHED-TTL:PT1H
BEGIN:VTIMEZONE
TZID:America/Sao_Paulo
BEGIN:STANDARD
TZOFFSETFROM:-0300
TZOFFSETTO:-0300
TZNAME:-03
DTSTART:20260101T000000
END:STANDARD
END:VTIMEZONE
BEGIN:VEVENT
DTSTART;TZID=America/Sao_Paulo:20260512T090000
DTEND;TZID=America/Sao_Paulo:20260512T103000
DTSTAMP:20260422T005110
CREATED:20260114T194256Z
LAST-MODIFIED:20260114T194256Z
UID:10001898-1778576400-1778581800@acif.org.br
SUMMARY:Reunião Ordinária Eventos Organizados
DESCRIPTION:Reunião será realizada na ACIF Matriz às 09h.  \nCaso tenha interesse em participar!  \nEntre em contato com:  \nMaísa Gomes – Consultora de Núcleos  \nTel.: (48) 3084-9400
URL:https://acif.org.br/evento/reuniao-ordinaria-eventos-organizados/2026-05-12/
LOCATION:ACIF Matriz\, Rua Emilio Blum\, 121\, Florianópolis\, Santa Catarina\, 88020010\, Brasil
CATEGORIES:Reunião de núcleo
END:VEVENT
BEGIN:VEVENT
DTSTART;TZID=America/Sao_Paulo:20260512T150000
DTEND;TZID=America/Sao_Paulo:20260512T163000
DTSTAMP:20260422T005110
CREATED:20260420T194938Z
LAST-MODIFIED:20260420T194938Z
UID:10002082-1778598000-1778603400@acif.org.br
SUMMARY:Reunião Ordinária Núcleo Coworking
DESCRIPTION:Reunião acontecerá via meet ás 15h. \nLink para a reunião: meet.google.com/fby-tvvu-ozn \nCaso tenha interesse em participar!  \nEntre em contato com:  \nAndré Carvalho – Consultor de Núcleos  \nTel.: 48 9 9134-8587
URL:https://acif.org.br/evento/reuniao-ordinaria-nucleo-coworking-3/2026-05-12/
CATEGORIES:Reunião de núcleo
END:VEVENT
END:VCALENDAR