BEGIN:VCALENDAR
VERSION:2.0
PRODID:-//ACIF - ECPv6.14.0//NONSGML v1.0//EN
CALSCALE:GREGORIAN
METHOD:PUBLISH
X-WR-CALNAME:ACIF
X-ORIGINAL-URL:https://acif.org.br
X-WR-CALDESC:Eventos para ACIF
REFRESH-INTERVAL;VALUE=DURATION:PT1H
X-Robots-Tag:noindex
X-PUBLISHED-TTL:PT1H
BEGIN:VTIMEZONE
TZID:America/Sao_Paulo
BEGIN:STANDARD
TZOFFSETFROM:-0300
TZOFFSETTO:-0300
TZNAME:-03
DTSTART:20260101T000000
END:STANDARD
END:VTIMEZONE
BEGIN:VEVENT
DTSTART;TZID=America/Sao_Paulo:20260317T170000
DTEND;TZID=America/Sao_Paulo:20260317T183000
DTSTAMP:20260423T190601
CREATED:20260318T124416Z
LAST-MODIFIED:20260318T124417Z
UID:10001626-1773766800-1773772200@acif.org.br
SUMMARY:Reunião Ordinária Núcleo Coworking
DESCRIPTION:Reuniões presenciais serão realizadas na ACIF Matriz às 17h. \nLink para as reuniões on-line: https://meet.google.com/fby-tvvu-ozn \nEntre em contato com o consultor André (48 9 9134-8587) caso tenha interesse em participar!
URL:https://acif.org.br/evento/reuniao-ordinaria-nucleo-coworking-2/2026-03-17/
END:VEVENT
END:VCALENDAR